BEGIN:VCALENDAR
VERSION:2.0
PRODID:-//Hollywood Hills West - ECPv6.15.20//NONSGML v1.0//EN
CALSCALE:GREGORIAN
METHOD:PUBLISH
X-WR-CALNAME:Hollywood Hills West
X-ORIGINAL-URL:https://www.hhwnc.org
X-WR-CALDESC:Events for Hollywood Hills West
REFRESH-INTERVAL;VALUE=DURATION:PT1H
X-Robots-Tag:noindex
X-PUBLISHED-TTL:PT1H
BEGIN:VTIMEZONE
TZID:America/Los_Angeles
BEGIN:DAYLIGHT
TZOFFSETFROM:-0800
TZOFFSETTO:-0700
TZNAME:PDT
DTSTART:20210314T100000
END:DAYLIGHT
BEGIN:STANDARD
TZOFFSETFROM:-0700
TZOFFSETTO:-0800
TZNAME:PST
DTSTART:20211107T090000
END:STANDARD
BEGIN:DAYLIGHT
TZOFFSETFROM:-0800
TZOFFSETTO:-0700
TZNAME:PDT
DTSTART:20220313T100000
END:DAYLIGHT
BEGIN:STANDARD
TZOFFSETFROM:-0700
TZOFFSETTO:-0800
TZNAME:PST
DTSTART:20221106T090000
END:STANDARD
BEGIN:DAYLIGHT
TZOFFSETFROM:-0800
TZOFFSETTO:-0700
TZNAME:PDT
DTSTART:20230312T100000
END:DAYLIGHT
BEGIN:STANDARD
TZOFFSETFROM:-0700
TZOFFSETTO:-0800
TZNAME:PST
DTSTART:20231105T090000
END:STANDARD
END:VTIMEZONE
BEGIN:VEVENT
DTSTART;TZID=America/Los_Angeles:20221113T100000
DTEND;TZID=America/Los_Angeles:20221113T160000
DTSTAMP:20260420T134310
CREATED:20221020T032721Z
LAST-MODIFIED:20221020T033041Z
UID:18476-1668333600-1668355200@www.hhwnc.org
SUMMARY:4th annual Greater Los Angeles Safety and Preparedness Fair - Sunday Nov 13th
DESCRIPTION:4th annual Greater Los Angeles Safety and Preparedness Fair. The fair is on November 13\, 2022\, from 10am – 4pm in the Green Lot at Exposition Park which is easily accessible from the Expo Line as well as various bus routes. \nAngelenos of all ages are welcome.  Admission to the event is free\, as are the presentations\, the hands-on training opportunities\, and the kids’ bike safety course/bike rodeo. They will be giving away free basic emergency preparedness/first aid supplies to attendees on a first come\, first served basis\, one set per household while supplies last. Attendees will have the opportunity to purchase lunch or snacks from food trucks and to buy additional emergency preparedness supplies from on-site vendors. \nAttendees should pre-register their household with this [LINK] or the QR code in the flyer. \n Captain Rico Gross with the Los Angeles Fire Department\, Crisanta Gonzalez with the Los Angeles Emergency Management Department and Aaron Gross with the City of Los Angeles Mayor’s Office are principal team members for this large-scale event. \nSafety Fair Flyer English
URL:https://www.hhwnc.org/event/4th-annual-greater-los-angeles-safety-and-preparedness-fair/
LOCATION:Green Lot at Exposition Park\, 3986 Hoover St\, Los Angeles\, CA\, 90037\, United States
CATEGORIES:Community Events
ATTACH;FMTTYPE=image/png:https://www.hhwnc.org/wp-content/uploads/2022/10/safetyfair.png
END:VEVENT
END:VCALENDAR