BEGIN:VCALENDAR
VERSION:2.0
PRODID:-//Hollywood Hills West - ECPv6.15.20//NONSGML v1.0//EN
CALSCALE:GREGORIAN
METHOD:PUBLISH
X-ORIGINAL-URL:https://www.hhwnc.org
X-WR-CALDESC:Events for Hollywood Hills West
REFRESH-INTERVAL;VALUE=DURATION:PT1H
X-Robots-Tag:noindex
X-PUBLISHED-TTL:PT1H
BEGIN:VTIMEZONE
TZID:UTC
BEGIN:STANDARD
TZOFFSETFROM:+0000
TZOFFSETTO:+0000
TZNAME:UTC
DTSTART:20160101T000000
END:STANDARD
END:VTIMEZONE
BEGIN:VEVENT
DTSTART;TZID=UTC:20170427T180000
DTEND;TZID=UTC:20170427T200000
DTSTAMP:20260423T151258
CREATED:20170424T062900Z
LAST-MODIFIED:20170424T062900Z
UID:13219-1493316000-1493323200@www.hhwnc.org
SUMMARY:A Conversation with LADOT
DESCRIPTION:Are you confused by traffic studies? Wondering how trip counts for new projects are calculated? Do you want to write more effective comment letters regarding planned developments?\n\nJoin us for “A Conversation with LADOT” this Thursday\, April 27th! Come learn about the Los Angeles Department of Transportation’s role in the planning process and how we as stakeholders can better review upcoming projects in our neighborhoods.\n\n\nThe event will begin with a presentation by two representatives from LADOT\, followed by a moderated discussion and stakeholder questions. This is your chance to learn about topics such as:\n\n\nWhat goes into LADOT’s review of new projects\nThe difference between Environmental Impact Reports (EIRs) and Mitigated Negative Declarations (MNDs) and how they are evaluated by LADOT\nHow traffic studies are generated and how to understand them\nThe best ways for us to analyze and comment on new development projects\nand more!\n\nPlease note that this will be an educational overview of the process and not project-specific. However\, we hope to have some time at the end of the event where stakeholders can speak directly with the LADOT representatives and ask questions not covered during the discussion or Q&A.
URL:https://www.hhwnc.org/event/a-conversation-with-ladot/
LOCATION:William & Ariel Durant Public Library\, 7140 W. Sunset Blvd\, Los Angeles\, 90046
CATEGORIES:HHWNC Meetings
GEO:34.0976549;-118.3455952
X-APPLE-STRUCTURED-LOCATION;VALUE=URI;X-ADDRESS=William & Ariel Durant Public Library 7140 W. Sunset Blvd Los Angeles 90046;X-APPLE-RADIUS=500;X-TITLE=7140 W. Sunset Blvd:geo:-118.3455952,34.0976549
END:VEVENT
END:VCALENDAR