BEGIN:VCALENDAR
VERSION:2.0
PRODID:-//Hollywood Hills West - ECPv6.15.20//NONSGML v1.0//EN
CALSCALE:GREGORIAN
METHOD:PUBLISH
X-ORIGINAL-URL:https://www.hhwnc.org
X-WR-CALDESC:Events for Hollywood Hills West
REFRESH-INTERVAL;VALUE=DURATION:PT1H
X-Robots-Tag:noindex
X-PUBLISHED-TTL:PT1H
BEGIN:VTIMEZONE
TZID:UTC
BEGIN:STANDARD
TZOFFSETFROM:+0000
TZOFFSETTO:+0000
TZNAME:UTC
DTSTART:20160101T000000
END:STANDARD
END:VTIMEZONE
BEGIN:VEVENT
DTSTART;TZID=UTC:20170612T190000
DTEND;TZID=UTC:20170612T210000
DTSTAMP:20260423T133755
CREATED:20170606T103416Z
LAST-MODIFIED:20170610T073013Z
UID:13348-1497294000-1497301200@www.hhwnc.org
SUMMARY:HHWNC Party House Town Hall
DESCRIPTION:HHWNC Party House Town Hall \nOrganized by:\nSerra Aladag\, HHWNC Area 8 Chair\nJon Guzik\, HHWNC Area 9 Chair \nMonday\, June 12\, 2017\n7pm to 9pm \nMulholland Tennis Club\n2555 Crest View Drive\nLos Angeles\, CA 90046 \nLight refreshments\nLight snacks\nNo host cash bar \nPlease join us for an informational panel about party houses. This will be an opportunity for community members\, particularly for residents who are victimized by party houses and disruptive short-term rentals\, to get an update on the party house ordinance CF 12-1824 and 12-1824 S1 that was approved by Los Angeles City Council. During the evening attendees will learn about steps they can take to track their complaints with law enforcement\, in an effort to shut down such disturbances. City representatives from varying offices will share available resources to empower stakeholders in addressing this important issue. \nConfirmed guest speakers include:\nAlice Roth\, Senior Field Deputy\, LA Council District 4\nSteve Houchin\, City Prosecutor\, LA City Attorney’s Office\nRalph Sanchez\, Senior Lead Officer\, LAPD\nMark Akahoshi\, Battalion Chief\, LAFD\nBen Thompson\, Hollywood Vice Officer\, LAPD\nConnie Llanos\, Southern California Deputy Policy Manager\, Airbnb\nJohn Whipple\, Principal Inspector\, LADBS
URL:https://www.hhwnc.org/event/hhwnc-party-house-town-hall/
CATEGORIES:Community Events,HHWNC Meetings
END:VEVENT
END:VCALENDAR