BEGIN:VCALENDAR
VERSION:2.0
PRODID:-//Hollywood Hills West - ECPv6.15.20//NONSGML v1.0//EN
CALSCALE:GREGORIAN
METHOD:PUBLISH
X-ORIGINAL-URL:https://www.hhwnc.org
X-WR-CALDESC:Events for Hollywood Hills West
REFRESH-INTERVAL;VALUE=DURATION:PT1H
X-Robots-Tag:noindex
X-PUBLISHED-TTL:PT1H
BEGIN:VTIMEZONE
TZID:UTC
BEGIN:STANDARD
TZOFFSETFROM:+0000
TZOFFSETTO:+0000
TZNAME:UTC
DTSTART:20160101T000000
END:STANDARD
END:VTIMEZONE
BEGIN:VEVENT
DTSTART;TZID=UTC:20170808T183000
DTEND;TZID=UTC:20170808T210000
DTSTAMP:20260421T070430
CREATED:20170804T071235Z
LAST-MODIFIED:20170804T071235Z
UID:13499-1502217000-1502226000@www.hhwnc.org
SUMMARY:Area 2 / Housing Joint Committee Meeting - Tuesday\, August 8\, 2017 @ 6:30 PM
DESCRIPTION:http://www.hhwnc.org/area-2-housing-joint-committee-meeting-tuesday-august-8-2017-630-p/
URL:https://www.hhwnc.org/event/area-2-housing-joint-committee-meeting-tuesday-august-8-2017-630-pm/
CATEGORIES:HHWNC Meetings
END:VEVENT
END:VCALENDAR