BEGIN:VCALENDAR
VERSION:2.0
PRODID:-//Hollywood Hills West - ECPv6.15.20//NONSGML v1.0//EN
CALSCALE:GREGORIAN
METHOD:PUBLISH
X-ORIGINAL-URL:https://www.hhwnc.org
X-WR-CALDESC:Events for Hollywood Hills West
REFRESH-INTERVAL;VALUE=DURATION:PT1H
X-Robots-Tag:noindex
X-PUBLISHED-TTL:PT1H
BEGIN:VTIMEZONE
TZID:UTC
BEGIN:STANDARD
TZOFFSETFROM:+0000
TZOFFSETTO:+0000
TZNAME:UTC
DTSTART:20160101T000000
END:STANDARD
END:VTIMEZONE
BEGIN:VEVENT
DTSTART;TZID=UTC:20171106T180000
DTEND;TZID=UTC:20171106T200000
DTSTAMP:20260420T113650
CREATED:20171031T005827Z
LAST-MODIFIED:20171031T005827Z
UID:13666-1509991200-1509998400@www.hhwnc.org
SUMMARY:Area 5 - Transportation Joint Meeting
DESCRIPTION:
URL:https://www.hhwnc.org/event/area-5-transportation-joint-meeting/
LOCATION:Hollywood United Methodist Church\, 6817 Franklin Ave\, Los Angeles\, CA\, 90068\, United States
CATEGORIES:HHWNC Meetings
ORGANIZER;CN="suzanne warren":MAILTO:area5chair@hhwnc.org
GEO:34.1043977;-118.3388481
X-APPLE-STRUCTURED-LOCATION;VALUE=URI;X-ADDRESS=Hollywood United Methodist Church 6817 Franklin Ave Los Angeles CA 90068 United States;X-APPLE-RADIUS=500;X-TITLE=6817 Franklin Ave:geo:-118.3388481,34.1043977
END:VEVENT
END:VCALENDAR