BEGIN:VCALENDAR
VERSION:2.0
PRODID:-//Hollywood Hills West - ECPv6.15.20//NONSGML v1.0//EN
CALSCALE:GREGORIAN
METHOD:PUBLISH
X-ORIGINAL-URL:https://www.hhwnc.org
X-WR-CALDESC:Events for Hollywood Hills West
REFRESH-INTERVAL;VALUE=DURATION:PT1H
X-Robots-Tag:noindex
X-PUBLISHED-TTL:PT1H
BEGIN:VTIMEZONE
TZID:UTC
BEGIN:STANDARD
TZOFFSETFROM:+0000
TZOFFSETTO:+0000
TZNAME:UTC
DTSTART:20160101T000000
END:STANDARD
END:VTIMEZONE
BEGIN:VEVENT
DTSTART;TZID=UTC:20170307T180000
DTEND;TZID=UTC:20170307T200000
DTSTAMP:20260425T064911
CREATED:20170302T074733Z
LAST-MODIFIED:20170302T074733Z
UID:12940-1488909600-1488916800@www.hhwnc.org
SUMMARY:Plum Committee Meeting on March 7th at Durant Library
DESCRIPTION:
URL:https://www.hhwnc.org/event/plum-committee-meeting-on-march-7th-at-durant-library/
LOCATION:Will and Ariel Durant Branch Library\, 7140 Sunset Blvd\,  Los Angeles\, 90046
CATEGORIES:HHWNC Meetings
GEO:34.0976549;-118.3455952
X-APPLE-STRUCTURED-LOCATION;VALUE=URI;X-ADDRESS=Will and Ariel Durant Branch Library 7140 Sunset Blvd  Los Angeles 90046;X-APPLE-RADIUS=500;X-TITLE=7140 Sunset Blvd:geo:-118.3455952,34.0976549
END:VEVENT
BEGIN:VEVENT
DTSTART;TZID=UTC:20170308T180000
DTEND;TZID=UTC:20170308T200000
DTSTAMP:20260425T064911
CREATED:20170304T010000Z
LAST-MODIFIED:20170305T122130Z
UID:12944-1488996000-1489003200@www.hhwnc.org
SUMMARY:Area 7 / Business Joint Meeting
DESCRIPTION:
URL:https://www.hhwnc.org/event/area-7-business-joint-meeting/
LOCATION:Will and Ariel Durant Branch Library\, 7140 Sunset Blvd\,  Los Angeles\, 90046
CATEGORIES:HHWNC Meetings
GEO:34.0976549;-118.3455952
X-APPLE-STRUCTURED-LOCATION;VALUE=URI;X-ADDRESS=Will and Ariel Durant Branch Library 7140 Sunset Blvd  Los Angeles 90046;X-APPLE-RADIUS=500;X-TITLE=7140 Sunset Blvd:geo:-118.3455952,34.0976549
END:VEVENT
END:VCALENDAR