BEGIN:VCALENDAR
VERSION:2.0
PRODID:-//Hollywood Hills West - ECPv6.15.20//NONSGML v1.0//EN
CALSCALE:GREGORIAN
METHOD:PUBLISH
X-ORIGINAL-URL:https://www.hhwnc.org
X-WR-CALDESC:Events for Hollywood Hills West
REFRESH-INTERVAL;VALUE=DURATION:PT1H
X-Robots-Tag:noindex
X-PUBLISHED-TTL:PT1H
BEGIN:VTIMEZONE
TZID:UTC
BEGIN:STANDARD
TZOFFSETFROM:+0000
TZOFFSETTO:+0000
TZNAME:UTC
DTSTART:20160101T000000
END:STANDARD
END:VTIMEZONE
BEGIN:VEVENT
DTSTART;TZID=UTC:20170323T183000
DTEND;TZID=UTC:20170323T210000
DTSTAMP:20260424T025343
CREATED:20170313T141705Z
LAST-MODIFIED:20170313T141705Z
UID:13026-1490293800-1490302800@www.hhwnc.org
SUMMARY:Area 2 / Business Joint Meeting
DESCRIPTION:
URL:https://www.hhwnc.org/event/area-2-business-joint-meeting/
LOCATION:Universal Nissan\, 3550 Cahuenga Blvd W.\, Los Angeles\, CA\, 90068
CATEGORIES:HHWNC Meetings
GEO:34.1337364;-118.3568208
X-APPLE-STRUCTURED-LOCATION;VALUE=URI;X-ADDRESS=Universal Nissan 3550 Cahuenga Blvd W. Los Angeles CA 90068;X-APPLE-RADIUS=500;X-TITLE=3550 Cahuenga Blvd W.:geo:-118.3568208,34.1337364
END:VEVENT
END:VCALENDAR