BEGIN:VCALENDAR
VERSION:2.0
PRODID:-//Hollywood Hills West - ECPv6.15.20//NONSGML v1.0//EN
CALSCALE:GREGORIAN
METHOD:PUBLISH
X-WR-CALNAME:Hollywood Hills West
X-ORIGINAL-URL:https://www.hhwnc.org
X-WR-CALDESC:Events for Hollywood Hills West
REFRESH-INTERVAL;VALUE=DURATION:PT1H
X-Robots-Tag:noindex
X-PUBLISHED-TTL:PT1H
BEGIN:VTIMEZONE
TZID:UTC
BEGIN:STANDARD
TZOFFSETFROM:+0000
TZOFFSETTO:+0000
TZNAME:UTC
DTSTART:20160101T000000
END:STANDARD
END:VTIMEZONE
BEGIN:VEVENT
DTSTART;TZID=UTC:20170710T180000
DTEND;TZID=UTC:20170710T200000
DTSTAMP:20260423T020220
CREATED:20170621T032655Z
LAST-MODIFIED:20170707T064957Z
UID:13421-1499709600-1499716800@www.hhwnc.org
SUMMARY:Area 3 / Housing Committees' Meeting
DESCRIPTION:For a full agenda of the meeting\, please click here.
URL:https://www.hhwnc.org/event/area-3-meeting/
CATEGORIES:HHWNC Meetings
END:VEVENT
END:VCALENDAR