BEGIN:VCALENDAR
VERSION:2.0
PRODID:-//Hollywood Hills West - ECPv6.15.20//NONSGML v1.0//EN
CALSCALE:GREGORIAN
METHOD:PUBLISH
X-ORIGINAL-URL:https://www.hhwnc.org
X-WR-CALDESC:Events for Hollywood Hills West
REFRESH-INTERVAL;VALUE=DURATION:PT1H
X-Robots-Tag:noindex
X-PUBLISHED-TTL:PT1H
BEGIN:VTIMEZONE
TZID:UTC
BEGIN:STANDARD
TZOFFSETFROM:+0000
TZOFFSETTO:+0000
TZNAME:UTC
DTSTART:20170101T000000
END:STANDARD
END:VTIMEZONE
BEGIN:VEVENT
DTSTART;TZID=UTC:20180110T180000
DTEND;TZID=UTC:20180110T200000
DTSTAMP:20260420T004658
CREATED:20180105T030737Z
LAST-MODIFIED:20180105T030737Z
UID:13877-1515607200-1515614400@www.hhwnc.org
SUMMARY:Area 7 Meeting
DESCRIPTION:
URL:https://www.hhwnc.org/event/area-7-meeting-2/
LOCATION:William & Ariel Durant Public Library\, 7140 W. Sunset Blvd\, Los Angeles\, 90046
CATEGORIES:HHWNC Meetings
GEO:34.0976549;-118.3455952
X-APPLE-STRUCTURED-LOCATION;VALUE=URI;X-ADDRESS=William & Ariel Durant Public Library 7140 W. Sunset Blvd Los Angeles 90046;X-APPLE-RADIUS=500;X-TITLE=7140 W. Sunset Blvd:geo:-118.3455952,34.0976549
END:VEVENT
BEGIN:VEVENT
DTSTART;TZID=UTC:20180111T180000
DTEND;TZID=UTC:20180111T194500
DTSTAMP:20260420T004658
CREATED:20180104T005547Z
LAST-MODIFIED:20180104T005547Z
UID:13867-1515693600-1515699900@www.hhwnc.org
SUMMARY:Area 6 / Transportation Meeting
DESCRIPTION:Representatives from LADOT will update stakeholders on the latest developments regarding their recommendation to turn Del Zuro and portions of La Cuesta into one-way streets. This is a follow up to the September 28\, 2017 Transportation/Area 6 meeting where public comment was heard on the proposal. The recommendation was originally presented at the August 24th Transportation Committee meeting.
URL:https://www.hhwnc.org/event/area-6-transportation-meeting/
LOCATION:Will and Ariel Durant Branch Library\, 7140 Sunset Blvd\,  Los Angeles\, 90046
CATEGORIES:HHWNC Meetings
GEO:34.0976549;-118.3455952
X-APPLE-STRUCTURED-LOCATION;VALUE=URI;X-ADDRESS=Will and Ariel Durant Branch Library 7140 Sunset Blvd  Los Angeles 90046;X-APPLE-RADIUS=500;X-TITLE=7140 Sunset Blvd:geo:-118.3455952,34.0976549
END:VEVENT
END:VCALENDAR