BEGIN:VCALENDAR
VERSION:2.0
PRODID:-//Hollywood Hills West - ECPv6.15.20//NONSGML v1.0//EN
CALSCALE:GREGORIAN
METHOD:PUBLISH
X-ORIGINAL-URL:https://www.hhwnc.org
X-WR-CALDESC:Events for Hollywood Hills West
REFRESH-INTERVAL;VALUE=DURATION:PT1H
X-Robots-Tag:noindex
X-PUBLISHED-TTL:PT1H
BEGIN:VTIMEZONE
TZID:America/Los_Angeles
BEGIN:DAYLIGHT
TZOFFSETFROM:-0800
TZOFFSETTO:-0700
TZNAME:PDT
DTSTART:20210314T100000
END:DAYLIGHT
BEGIN:STANDARD
TZOFFSETFROM:-0700
TZOFFSETTO:-0800
TZNAME:PST
DTSTART:20211107T090000
END:STANDARD
BEGIN:DAYLIGHT
TZOFFSETFROM:-0800
TZOFFSETTO:-0700
TZNAME:PDT
DTSTART:20220313T100000
END:DAYLIGHT
BEGIN:STANDARD
TZOFFSETFROM:-0700
TZOFFSETTO:-0800
TZNAME:PST
DTSTART:20221106T090000
END:STANDARD
BEGIN:DAYLIGHT
TZOFFSETFROM:-0800
TZOFFSETTO:-0700
TZNAME:PDT
DTSTART:20230312T100000
END:DAYLIGHT
BEGIN:STANDARD
TZOFFSETFROM:-0700
TZOFFSETTO:-0800
TZNAME:PST
DTSTART:20231105T090000
END:STANDARD
END:VTIMEZONE
BEGIN:VEVENT
DTSTART;TZID=America/Los_Angeles:20221011T080000
DTEND;TZID=America/Los_Angeles:20221013T170000
DTSTAMP:20260420T023802
CREATED:20220912T164428Z
LAST-MODIFIED:20220912T164538Z
UID:18381-1665475200-1665680400@www.hhwnc.org
SUMMARY:Free Virtual Speaker Event on Social Isolation & Loneliness\, October 11\, 2022
DESCRIPTION:Many stakeholders are impacted by loneliness\, particularly our senior community. Please join the discussion on social isolation and its impact on health and wellbeing organized by the non-profit The Foundation for Social Connection\, October 11 – 13. Registration is free. \nhttps://www.eventbrite.com/e/2022-action-forum-to-end-social-isolation-and-loneliness-registration-406226593677
URL:https://www.hhwnc.org/event/free-virtual-speaker-event-on-social-isolation-loneliness-october-11-2022/
LOCATION:CA
CATEGORIES:Community Events
END:VEVENT
BEGIN:VEVENT
DTSTART;TZID=America/Los_Angeles:20221017T183000
DTEND;TZID=America/Los_Angeles:20221017T200000
DTSTAMP:20260420T023802
CREATED:20221007T051329Z
LAST-MODIFIED:20221008T041800Z
UID:18445-1666031400-1666036800@www.hhwnc.org
SUMMARY:Parks & Open Space / Environment Committee Joint Meeting
DESCRIPTION:REVISED_POS committee_Agenda_10-17-22\n 
URL:https://www.hhwnc.org/event/parks-open-space-environment-committee-joint-meeting/
LOCATION:Zoom meeting link: https://us02web.zoom.us/j/83161901921
CATEGORIES:HHWNC Meetings
END:VEVENT
BEGIN:VEVENT
DTSTART;TZID=America/Los_Angeles:20221019T180000
DTEND;TZID=America/Los_Angeles:20221019T200000
DTSTAMP:20260420T023802
CREATED:20221009T051356Z
LAST-MODIFIED:20221009T051425Z
UID:18454-1666202400-1666209600@www.hhwnc.org
SUMMARY:Hollywood Hills West Neighborhood Council Board Meeting
DESCRIPTION:
URL:https://www.hhwnc.org/event/hollywood-hil-hills-west-neighborhood-council-board-meeting/
LOCATION:HOLLYWOOD HILLS WEST NEIGHBORHOOD COUNCIL BOARD MEETING
CATEGORIES:HHWNC Meetings
END:VEVENT
END:VCALENDAR