BEGIN:VCALENDAR
VERSION:2.0
PRODID:-//Hollywood Hills West - ECPv6.15.20//NONSGML v1.0//EN
CALSCALE:GREGORIAN
METHOD:PUBLISH
X-WR-CALNAME:Hollywood Hills West
X-ORIGINAL-URL:https://www.hhwnc.org
X-WR-CALDESC:Events for Hollywood Hills West
REFRESH-INTERVAL;VALUE=DURATION:PT1H
X-Robots-Tag:noindex
X-PUBLISHED-TTL:PT1H
BEGIN:VTIMEZONE
TZID:America/Los_Angeles
BEGIN:DAYLIGHT
TZOFFSETFROM:-0800
TZOFFSETTO:-0700
TZNAME:PDT
DTSTART:20200308T100000
END:DAYLIGHT
BEGIN:STANDARD
TZOFFSETFROM:-0700
TZOFFSETTO:-0800
TZNAME:PST
DTSTART:20201101T090000
END:STANDARD
BEGIN:DAYLIGHT
TZOFFSETFROM:-0800
TZOFFSETTO:-0700
TZNAME:PDT
DTSTART:20210314T100000
END:DAYLIGHT
BEGIN:STANDARD
TZOFFSETFROM:-0700
TZOFFSETTO:-0800
TZNAME:PST
DTSTART:20211107T090000
END:STANDARD
BEGIN:DAYLIGHT
TZOFFSETFROM:-0800
TZOFFSETTO:-0700
TZNAME:PDT
DTSTART:20220313T100000
END:DAYLIGHT
BEGIN:STANDARD
TZOFFSETFROM:-0700
TZOFFSETTO:-0800
TZNAME:PST
DTSTART:20221106T090000
END:STANDARD
BEGIN:DAYLIGHT
TZOFFSETFROM:-0800
TZOFFSETTO:-0700
TZNAME:PDT
DTSTART:20230312T100000
END:DAYLIGHT
BEGIN:STANDARD
TZOFFSETFROM:-0700
TZOFFSETTO:-0800
TZNAME:PST
DTSTART:20231105T090000
END:STANDARD
END:VTIMEZONE
BEGIN:VEVENT
DTSTART;TZID=America/Los_Angeles:20220913T183000
DTEND;TZID=America/Los_Angeles:20220913T210000
DTSTAMP:20260421T022916
CREATED:20220901T044150Z
LAST-MODIFIED:20220913T233152Z
UID:18338-1663093800-1663102800@www.hhwnc.org
SUMMARY:Tues\, Sept 13\, Joint Area 3 / Area 4 / Housing / Business Committees Meeting
DESCRIPTION:To download the agenda\, please visit https://www.hhwnc.org/tues-sept-13-area-3-meeting/. \nAgenda - Sept 13 Business\, Housing\, Transportation\, Areas 3 & 4
URL:https://www.hhwnc.org/event/tues-sept-13-area-3-meeting/
LOCATION:https://us02web.zoom.us/j/82571399966
CATEGORIES:HHWNC Meetings
END:VEVENT
BEGIN:VEVENT
DTSTART;TZID=America/Los_Angeles:20210915T183000
DTEND;TZID=America/Los_Angeles:20210915T203000
DTSTAMP:20260421T022916
CREATED:20210910T172250Z
LAST-MODIFIED:20210914T150954Z
UID:17609-1631730600-1631737800@www.hhwnc.org
SUMMARY:PLUM Committee Meeting - September 15\, 2021
DESCRIPTION:The PLUM committee of the Hollywood Hills West Neighborhood Council will hold a public meeting on Wednesday\, September 15\, at 6:30 PM on Zoom. \n I.             Call to order and welcome:  \n II.            1723 Wilcox – ENV-2019-5240-EAF;  \nContinuing discussion from April 19\, 2021 of a proposed demolition of an existing structure and construction of a seven-story 81 guest room hotel structure with 2 above ground floors of parking. Maximum height is 83 feet. https://planning.lacity.org/pdiscaseinfo/search/encoded/MjMyMDAx0. Possible motion and vote. \nIII.           Committee Business – Comments from the Committee on subject matters within the Committee’s jurisdiction \n\nComment on Committee Member’s own activities/ Brief announcements.\nBrief response to statements made/questions posed by persons exercising their general public comment rights.\nIntroduce new issues for consideration by the Board at its next meeting/request that the item be placed on the next meeting’s agenda.\nAsk Committee Chairpersons to research issues and report back to the Committee at a future time.\n Future Agenda Items and other Calendar Events\n Comments from the public on agenda items and non-agenda items within the Committee’s subject matter jurisdiction.\n Decision on next meeting date(s)\n\nVII.         Adjournment \n  \nZoom Meeting Link \nhttps://us02web.zoom.us/j/82313095392 \nPhone Dial in: +1 253 215 8782 \nMeeting ID: 971 1894 0283 \nOne tap mobile: \nUS: +16699006833\,\,82313095392#  or +12532158782\,\,82313095Or Telephone: \nDial (for higher quality\, dial a number based on your current location): \nUS: +1 669 900 6833  or +1 253 215 8782  or +1 346 248 7799  or +1 301 715 8592  or +1 312 626 6799  or +1 929 205 6099  or 833 548 0276 (Toll Free) or 833 548 0282 (Toll Free) or 877 853 5257 (Toll Free) or 888 475 4499 (Toll Free) \nWebinar ID: 823 1309 5392 \nInternational numbers available: https://us02web.zoom.us/u/kCt6Y8zYn
URL:https://www.hhwnc.org/event/plum-committee-meeting-september-15-2021/
LOCATION:https://us02web.zoom.us/j/82313095392
CATEGORIES:HHWNC Meetings
END:VEVENT
BEGIN:VEVENT
DTSTART;TZID=America/Los_Angeles:20210419T180000
DTEND;TZID=America/Los_Angeles:20210419T180000
DTSTAMP:20260421T022916
CREATED:20210415T023434Z
LAST-MODIFIED:20210419T204344Z
UID:17343-1618855200-1618855200@www.hhwnc.org
SUMMARY:April 19\, 2021\, Area 3\, Area 4\, Business\, Housing\, Public Safety Committees' meeting
DESCRIPTION:Monday\, April 19\, 6:00 PM\, – Area 3 / Area 4 / Public Safety / Business / Housing meeting \nItems to be discussed: \n1723 Wilcox – ENV-2019-5240-EAF; Proposed demolition of an existing structure and construction of a seven-story 81 guest room hotel structure with 2 above ground floors of parking and a 1\,903 sf rooftop restaurant. Maximum height is 83 feet. https://planning.lacity.org/pdiscaseinfo/search/encoded/MjMyMDAx0 \nWalk arounds with local police – Officer Brian White will join to discuss safety and the use of neighborhood walks to establish neighborhood residential presence in Area 3 and Area 4. \nDiscussion of City Council resolution Los Angeles City Council’s resolution CF-21-002-283 (Bonin) to include in its 2021-2022 State Legislative Program SUPPORT for AB 1400 (Kalra)\, which would create the California Guaranteed Health Care for All program\, or CalCare\, to provide comprehensive universal single-payer health care coverage and a health care cost control system for the benefit of all residents of the state. \nTo see the full agenda for the meeting\, click HERE. \nTo read the City’s resolution and Analyst’s Report\, click HERE \nTo read the text of AB 1400\, click HERE.
URL:https://www.hhwnc.org/event/area-3-area-4-business-housing-public-safety-committees-meeting/
LOCATION:ZOOM Digital Meeting
CATEGORIES:HHWNC Meetings
END:VEVENT
END:VCALENDAR