BEGIN:VCALENDAR
VERSION:2.0
PRODID:-//Hollywood Hills West - ECPv6.15.20//NONSGML v1.0//EN
CALSCALE:GREGORIAN
METHOD:PUBLISH
X-ORIGINAL-URL:https://www.hhwnc.org
X-WR-CALDESC:Events for Hollywood Hills West
REFRESH-INTERVAL;VALUE=DURATION:PT1H
X-Robots-Tag:noindex
X-PUBLISHED-TTL:PT1H
BEGIN:VTIMEZONE
TZID:America/Los_Angeles
BEGIN:DAYLIGHT
TZOFFSETFROM:-0800
TZOFFSETTO:-0700
TZNAME:PDT
DTSTART:20220313T100000
END:DAYLIGHT
BEGIN:STANDARD
TZOFFSETFROM:-0700
TZOFFSETTO:-0800
TZNAME:PST
DTSTART:20221106T090000
END:STANDARD
BEGIN:DAYLIGHT
TZOFFSETFROM:-0800
TZOFFSETTO:-0700
TZNAME:PDT
DTSTART:20230312T100000
END:DAYLIGHT
BEGIN:STANDARD
TZOFFSETFROM:-0700
TZOFFSETTO:-0800
TZNAME:PST
DTSTART:20231105T090000
END:STANDARD
BEGIN:DAYLIGHT
TZOFFSETFROM:-0800
TZOFFSETTO:-0700
TZNAME:PDT
DTSTART:20240310T100000
END:DAYLIGHT
BEGIN:STANDARD
TZOFFSETFROM:-0700
TZOFFSETTO:-0800
TZNAME:PST
DTSTART:20241103T090000
END:STANDARD
BEGIN:DAYLIGHT
TZOFFSETFROM:-0800
TZOFFSETTO:-0700
TZNAME:PDT
DTSTART:20250309T100000
END:DAYLIGHT
BEGIN:STANDARD
TZOFFSETFROM:-0700
TZOFFSETTO:-0800
TZNAME:PST
DTSTART:20251102T090000
END:STANDARD
BEGIN:DAYLIGHT
TZOFFSETFROM:-0800
TZOFFSETTO:-0700
TZNAME:PDT
DTSTART:20260308T100000
END:DAYLIGHT
BEGIN:STANDARD
TZOFFSETFROM:-0700
TZOFFSETTO:-0800
TZNAME:PST
DTSTART:20261101T090000
END:STANDARD
END:VTIMEZONE
BEGIN:VEVENT
DTSTART;TZID=America/Los_Angeles:20250115T180000
DTEND;TZID=America/Los_Angeles:20250115T220000
DTSTAMP:20260422T010542
CREATED:20250104T025057Z
LAST-MODIFIED:20250109T203637Z
UID:19901-1736964000-1736978400@www.hhwnc.org
SUMMARY:HHWNC Board Meeting Wed\, Jan 15\, 2025 - CANCELED
DESCRIPTION:CANCELLED
URL:https://www.hhwnc.org/event/hhwnc-board-meeting-wed-jan-15-2025/
LOCATION:To Be Announced
CATEGORIES:HHWNC Meetings
END:VEVENT
BEGIN:VEVENT
DTSTART;VALUE=DATE:20241016
DTEND;VALUE=DATE:20241017
DTSTAMP:20260422T010542
CREATED:20240923T051315Z
LAST-MODIFIED:20241011T185845Z
UID:19632-1729036800-1729123199@www.hhwnc.org
SUMMARY:HHWNC Board Meeting Oct 16\, 2024
DESCRIPTION:
URL:https://www.hhwnc.org/event/hhwnc-board-meeting-oct-16-2024/
LOCATION:Zoom
CATEGORIES:HHWNC Meetings
END:VEVENT
BEGIN:VEVENT
DTSTART;TZID=America/Los_Angeles:20240221T180000
DTEND;TZID=America/Los_Angeles:20240221T210000
DTSTAMP:20260422T010542
CREATED:20240208T213643Z
LAST-MODIFIED:20240219T232751Z
UID:19152-1708538400-1708549200@www.hhwnc.org
SUMMARY:HHWNC Board Meeting\, Wed.\, February 21\, 6:00 PM
DESCRIPTION:HHWNC Board will meet on Wed.\, February 21\, starting at 6:00 PM. The meeting will be a Zoom digital meeting. Zoom link TBA. Agenda TBA.
URL:https://www.hhwnc.org/event/hhwnc-board-meeting-wed-february-21-600-pm/
LOCATION:Zoom: https://us02web.zoom.us/j/86314980032
CATEGORIES:HHWNC Meetings
END:VEVENT
BEGIN:VEVENT
DTSTART;TZID=America/Los_Angeles:20240117T180000
DTEND;TZID=America/Los_Angeles:20240117T210000
DTSTAMP:20260422T010542
CREATED:20240107T060906Z
LAST-MODIFIED:20240118T005907Z
UID:19055-1705514400-1705525200@www.hhwnc.org
SUMMARY:HHWNC Board Meeting\, Wed\, Jan 17
DESCRIPTION:
URL:https://www.hhwnc.org/event/hhwnc-board-meeting-wed-jan-17/
LOCATION:Zoom Meeting Link https://us02web.zoom.us/j/89313932925
CATEGORIES:HHWNC Meetings
END:VEVENT
BEGIN:VEVENT
DTSTART;TZID=America/Los_Angeles:20231018T173000
DTEND;TZID=America/Los_Angeles:20231018T200000
DTSTAMP:20260422T010542
CREATED:20230208T232659Z
LAST-MODIFIED:20231018T152029Z
UID:18721-1697650200-1697659200@www.hhwnc.org
SUMMARY:HHWNC Board Meeting October 18\, 2023
DESCRIPTION:More info to come.
URL:https://www.hhwnc.org/event/hhwnc-board-meeting-october-18-2023/
LOCATION:Junior Achievement – LOD Cook Bldg\, 6250 Forest Lawn Dr. Hollywood\, CA 90046
CATEGORIES:HHWNC Meetings
END:VEVENT
BEGIN:VEVENT
DTSTART;TZID=America/Los_Angeles:20230920T173000
DTEND;TZID=America/Los_Angeles:20230920T200000
DTSTAMP:20260422T010542
CREATED:20230208T232540Z
LAST-MODIFIED:20230906T175404Z
UID:18719-1695231000-1695240000@www.hhwnc.org
SUMMARY:HHWNC Board Meeting September 20\, 2023
DESCRIPTION:
URL:https://www.hhwnc.org/event/hhwnc-board-meeting-september-20-2023/
LOCATION:Zoom
CATEGORIES:HHWNC Meetings
END:VEVENT
END:VCALENDAR