BEGIN:VCALENDAR
VERSION:2.0
PRODID:-//Hollywood Hills West - ECPv6.15.20//NONSGML v1.0//EN
CALSCALE:GREGORIAN
METHOD:PUBLISH
X-WR-CALNAME:Hollywood Hills West
X-ORIGINAL-URL:https://www.hhwnc.org
X-WR-CALDESC:Events for Hollywood Hills West
REFRESH-INTERVAL;VALUE=DURATION:PT1H
X-Robots-Tag:noindex
X-PUBLISHED-TTL:PT1H
BEGIN:VTIMEZONE
TZID:America/Los_Angeles
BEGIN:DAYLIGHT
TZOFFSETFROM:-0800
TZOFFSETTO:-0700
TZNAME:PDT
DTSTART:20180311T100000
END:DAYLIGHT
BEGIN:STANDARD
TZOFFSETFROM:-0700
TZOFFSETTO:-0800
TZNAME:PST
DTSTART:20181104T090000
END:STANDARD
BEGIN:DAYLIGHT
TZOFFSETFROM:-0800
TZOFFSETTO:-0700
TZNAME:PDT
DTSTART:20190310T100000
END:DAYLIGHT
BEGIN:STANDARD
TZOFFSETFROM:-0700
TZOFFSETTO:-0800
TZNAME:PST
DTSTART:20191103T090000
END:STANDARD
BEGIN:DAYLIGHT
TZOFFSETFROM:-0800
TZOFFSETTO:-0700
TZNAME:PDT
DTSTART:20200308T100000
END:DAYLIGHT
BEGIN:STANDARD
TZOFFSETFROM:-0700
TZOFFSETTO:-0800
TZNAME:PST
DTSTART:20201101T090000
END:STANDARD
BEGIN:DAYLIGHT
TZOFFSETFROM:-0800
TZOFFSETTO:-0700
TZNAME:PDT
DTSTART:20210314T100000
END:DAYLIGHT
BEGIN:STANDARD
TZOFFSETFROM:-0700
TZOFFSETTO:-0800
TZNAME:PST
DTSTART:20211107T090000
END:STANDARD
BEGIN:DAYLIGHT
TZOFFSETFROM:-0800
TZOFFSETTO:-0700
TZNAME:PDT
DTSTART:20220313T100000
END:DAYLIGHT
BEGIN:STANDARD
TZOFFSETFROM:-0700
TZOFFSETTO:-0800
TZNAME:PST
DTSTART:20221106T090000
END:STANDARD
BEGIN:DAYLIGHT
TZOFFSETFROM:-0800
TZOFFSETTO:-0700
TZNAME:PDT
DTSTART:20230312T100000
END:DAYLIGHT
BEGIN:STANDARD
TZOFFSETFROM:-0700
TZOFFSETTO:-0800
TZNAME:PST
DTSTART:20231105T090000
END:STANDARD
BEGIN:DAYLIGHT
TZOFFSETFROM:-0800
TZOFFSETTO:-0700
TZNAME:PDT
DTSTART:20240310T100000
END:DAYLIGHT
BEGIN:STANDARD
TZOFFSETFROM:-0700
TZOFFSETTO:-0800
TZNAME:PST
DTSTART:20241103T090000
END:STANDARD
BEGIN:DAYLIGHT
TZOFFSETFROM:-0800
TZOFFSETTO:-0700
TZNAME:PDT
DTSTART:20250309T100000
END:DAYLIGHT
BEGIN:STANDARD
TZOFFSETFROM:-0700
TZOFFSETTO:-0800
TZNAME:PST
DTSTART:20251102T090000
END:STANDARD
BEGIN:DAYLIGHT
TZOFFSETFROM:-0800
TZOFFSETTO:-0700
TZNAME:PDT
DTSTART:20260308T100000
END:DAYLIGHT
BEGIN:STANDARD
TZOFFSETFROM:-0700
TZOFFSETTO:-0800
TZNAME:PST
DTSTART:20261101T090000
END:STANDARD
END:VTIMEZONE
BEGIN:VTIMEZONE
TZID:UTC
BEGIN:STANDARD
TZOFFSETFROM:+0000
TZOFFSETTO:+0000
TZNAME:UTC
DTSTART:20160101T000000
END:STANDARD
END:VTIMEZONE
BEGIN:VEVENT
DTSTART;TZID=America/Los_Angeles:20251118T183000
DTEND;TZID=America/Los_Angeles:20251118T210000
DTSTAMP:20260420T065820
CREATED:20251111T192555Z
LAST-MODIFIED:20251115T004220Z
UID:20311-1763490600-1763499600@www.hhwnc.org
SUMMARY:Housing Meeting / Tuesday\, November 18\, 6:30 PM
DESCRIPTION:Please join us for a Housing meeting to be held on Tuesday\, November 18\, 2025\, 6:30 PM. \nOn the agenda will be: \n\nSB 79 and its effects on HHWNC stakeholders.\nZone Zero and its implications for property owners\nCalifornia Department of Housing and Community Development’s Affordable Housing Preservation Portal\, and\nthe City of Los Angeles’ “Missing Middle LA” program.\n\nHope to see you there. \nZoom Meeting Link: https://us02web.zoom.us/j/84013686375 \nMeeting ID: 840 1368 6375 \nPhone Dial in: +1 (669) 900 6833; Code: 840 1368 6375 \nTo see the full agenda\, please click HERE
URL:https://www.hhwnc.org/event/housing-meeting-tuesday-november-18-630-pm/
CATEGORIES:HHWNC Meetings
END:VEVENT
BEGIN:VEVENT
DTSTART;TZID=America/Los_Angeles:20240709T183000
DTEND;TZID=America/Los_Angeles:20240709T210000
DTSTAMP:20260420T065820
CREATED:20240620T042300Z
LAST-MODIFIED:20240706T200753Z
UID:19378-1720549800-1720558800@www.hhwnc.org
SUMMARY:July 9\, 6:30 PM\, PLUM / Area 7 / Housing Committee
DESCRIPTION:The PLUM Committee\, Housing Committee and Area 7 Committee will hold a meeting on Tuesday\, July 9\, at 6:30 PM over Zoom. \nOn the agenda will be: \n\nDemolition of three two-story apartment homes collectively containing 32 units\, and\nnew construction of an eight-story apartment community at 7762 Hollywood Blvd. DM-2024-794-DB-VHCA-ED1\nPresentation by Backpack Boyz to community\nHousing committee discussion on current ED-1 status and potential HHWNC Community Impact Statement.\nUpdate and discussion regarding Sunset / Gardner \n\nZoom Link: https://us02web.zoom.us/j/89638134618 \nMeeting ID: 896 3813 4618 \nCall in: +1 (719)-359-4580
URL:https://www.hhwnc.org/event/housing-meeting-on-ed1-tues-july-9-2024/
LOCATION:Zoom link listed above
CATEGORIES:HHWNC Meetings
END:VEVENT
BEGIN:VEVENT
DTSTART;TZID=America/Los_Angeles:20240618T183000
DTEND;TZID=America/Los_Angeles:20240618T210000
DTSTAMP:20260420T065820
CREATED:20240614T040243Z
LAST-MODIFIED:20240614T040533Z
UID:19354-1718735400-1718744400@www.hhwnc.org
SUMMARY:Housing\, Business\, All Areas Committees’ Meeting
DESCRIPTION:Join the Housing committee\, along with the Area committees of HHWNC on Tuesday evening\, June 18\, starting at 6:30 PM to discuss housing issues\, including the Mayor’s Executive Directive #1 (ED1). Please see the agenda below for more information. For a full downloadable agenda\, please click here \nZoom link: https://us02web.zoom.us/j/88541075973 \nMeeting ID: 885 4107 5973 \nHope to see you there. \nHousing Areas June 18\, 2024
URL:https://www.hhwnc.org/event/housing-business-all-areas-committees-meeting/
LOCATION:Zoom Meeting Link: https://us02web.zoom.us/j/88541075973
CATEGORIES:HHWNC Meetings
END:VEVENT
BEGIN:VEVENT
DTSTART;TZID=America/Los_Angeles:20240402T180000
DTEND;TZID=America/Los_Angeles:20240402T200000
DTSTAMP:20260420T065820
CREATED:20240328T191741Z
LAST-MODIFIED:20240328T191957Z
UID:19222-1712080800-1712088000@www.hhwnc.org
SUMMARY:Area 3\, Housing Committees Meeting\, 4/2/24
DESCRIPTION:There will be a joint meeting of the Area 3 and Housing committees of the Hollywood Hills West Neighborhood Council on Tuesday\, April 6\, 2024. \nItems to be discussed will be the results of the Milner Hard Closure Survey\, and Area 3 Housing issues. \nFor the complete agenda is embedded below. You can download a copy\, here. \nApril 2\, 2024 Area 3\, Housing Committees Agenda\n 
URL:https://www.hhwnc.org/event/area-3-housing-committees-meeting-4-2-24/
LOCATION:Yucca Community Center\, 6671 Yucca St.\, \, Hollywood\, CA\, 90028\, United States
CATEGORIES:HHWNC Meetings
GEO:34.1033662;-118.3350424
X-APPLE-STRUCTURED-LOCATION;VALUE=URI;X-ADDRESS=Yucca Community Center 6671 Yucca St.  Hollywood CA 90028 United States;X-APPLE-RADIUS=500;X-TITLE=6671 Yucca St.\,:geo:-118.3350424,34.1033662
END:VEVENT
BEGIN:VEVENT
DTSTART;TZID=America/Los_Angeles:20220913T183000
DTEND;TZID=America/Los_Angeles:20220913T210000
DTSTAMP:20260420T065820
CREATED:20220901T044150Z
LAST-MODIFIED:20220913T233152Z
UID:18338-1663093800-1663102800@www.hhwnc.org
SUMMARY:Tues\, Sept 13\, Joint Area 3 / Area 4 / Housing / Business Committees Meeting
DESCRIPTION:To download the agenda\, please visit https://www.hhwnc.org/tues-sept-13-area-3-meeting/. \nAgenda - Sept 13 Business\, Housing\, Transportation\, Areas 3 & 4
URL:https://www.hhwnc.org/event/tues-sept-13-area-3-meeting/
LOCATION:https://us02web.zoom.us/j/82571399966
CATEGORIES:HHWNC Meetings
END:VEVENT
BEGIN:VEVENT
DTSTART;TZID=America/Los_Angeles:20220706T183000
DTEND;TZID=America/Los_Angeles:20220706T213000
DTSTAMP:20260420T065820
CREATED:20220614T165218Z
LAST-MODIFIED:20220702T224307Z
UID:18276-1657132200-1657143000@www.hhwnc.org
SUMMARY:Area 4 / Housing / Area 3 Committees Meeting
DESCRIPTION:The Area 3\, Area 4 and Housing Committees of the Hollywood Hills West Neighborhood Council will hold a joint meeting on July 6\, 2022\, starting at 6:30 PM. \nhe joint Area 3\, Area 4\, Housing committees of the Hollywood Hills West Neighborhood Council will hold a joint meeting Wednesday\, July 6\, 2022\, starting at 6:30 PM. \nItems to be discussed include\, \n\nZA-2021-10702-ZV-CU-CUB; 1909 – 1915 N Highland Ave.\nPresentation of boutique hotel application by project representative. The original project involves the development of a 50 room\, hotel\, with 1000 sq ft café’/located at grade and on the ground floor. The café’ and bar will be open to the public. Parking garage will be below grade with required 42 spaces. Applicant has stated hotel will be smaller than original application posted on planning’s website. Possible motion and vote.\nLAMC 112.01 (a)(b) & 41.57\, Loud Noise Ordinances\nDiscussion of the Loud Noise Ordinance\, its enforcement\, sound issues\, Planning Department’s responsibility and possible solutions. Possible motion and vote.\nCouncil File 20-1376-21\nA discussion of City Council’s proposed expansion of 41.18 enforcement zones\, which would make it a crime to sit\, sleep\, or lie down on more than 46 square miles of City land. Possible motion and vote.\n\nFor a full agenda\, please visit https://www.hhwnc.org/july-6-630-pm-joint-area-3-area-4-housing-committees-meeting/\, and click on the Agenda button. \nLooking forward to seeing you there.
URL:https://www.hhwnc.org/event/area-4-housing-area-3-committees-meeting/
LOCATION:Zoom: https://us02web.zoom.us/j/81608368301\, https://us02web.zoom.us/j/81608368301
CATEGORIES:HHWNC Meetings
END:VEVENT
BEGIN:VEVENT
DTSTART;TZID=America/Los_Angeles:20220308T190000
DTEND;TZID=America/Los_Angeles:20220308T210000
DTSTAMP:20260420T065820
CREATED:20211031T173946Z
LAST-MODIFIED:20220305T233920Z
UID:17769-1646766000-1646773200@www.hhwnc.org
SUMMARY:Housing Committee meeting\, March 8\, 7:00 PM
DESCRIPTION:Please join us\, Tuesday\, March 8\, at 7:00 PM to discuss housing issues in affecting stakeholders within the Hollywood Hills West Neighborhood Council boundaries. \nItems to be discussed will be Los Angeles Municipal Code 41.18 regarding the ‘criminalizing’ of sitting\, sleeping\, or lying on a sidewalk in designated areas\, the Aviva Family and Children’s services request for a  Neighborhood Purpose Grant\, and City Council’s consideration of CF 22-10151\, which mandates “zero carbon” status for all new City buildings. \nThe meeting will be held over Zoom – https://us02web.zoom.us/j/81655178325. \nOr Telephone:\nDial(for higher quality\, dial a number based on your current location):\nUS: +1 669 900 6833 or +1 346 248 7799 or +1 253 215 8782 or +1 301 715 8592 or +1 312 626 6799 or +1 929 205 6099 or 888 475 4499 (Toll Free) or 833 548 0276 (Toll Free) or 833 548 0282 (Toll Free) or 877 853 5257 (Toll Free) \nWebinar ID: 816 5517 8325 \nMarch 8 2022 HOUSING Agenda3
URL:https://www.hhwnc.org/event/housing-meeting-2022-03-08/
LOCATION:Zoom: https://us02web.zoom.us/j/81655178325
CATEGORIES:HHWNC Meetings
END:VEVENT
BEGIN:VEVENT
DTSTART;TZID=America/Los_Angeles:20211109T190000
DTEND;TZID=America/Los_Angeles:20211109T210000
DTSTAMP:20260420T065820
CREATED:20211109T150050Z
LAST-MODIFIED:20211106T032804Z
UID:17770-1636484400-1636491600@www.hhwnc.org
SUMMARY:Housing & Area 9 Committees meeting\, Tuesday\, Nov 9\, 2021
DESCRIPTION:The Housing and Area 9 Committees of the Hollywood Hills West Neighborhood Council will hold a meeting on Tuesday\, November 9\, 2021 starting at 7:00 PM. \nAmong the topics to be discussed with possible motion and vote will be a continuing conversation on City Council motion 21-0658\, introduced by Councilmember Raman\, streamlining the development of Permanent Supportive Housing and 100% Affordable Housing Developments\, and incentivizing Section 8 tenants for local landlords. \nThe meeting will be conducted over Zoom: https://us02web.zoom.us/j/81728977166 \nFor the full agenda\, and Zoom call in numbers\, please visit https://www.hhwnc.org/housing-area-9-committees-meeting-tues-nov-9-2021/ \n 
URL:https://www.hhwnc.org/event/housing-area-9-meeting-tuesday-nov-9-2021/
CATEGORIES:HHWNC Meetings
END:VEVENT
BEGIN:VEVENT
DTSTART;TZID=America/Los_Angeles:20211109T190000
DTEND;TZID=America/Los_Angeles:20211109T210000
DTSTAMP:20260420T065820
CREATED:20211031T173946Z
LAST-MODIFIED:20211108T231706Z
UID:17764-1636484400-1636491600@www.hhwnc.org
SUMMARY:Housing / Area 9 meeting
DESCRIPTION:
URL:https://www.hhwnc.org/event/housing-meeting/2021-11-09/
CATEGORIES:HHWNC Meetings
END:VEVENT
BEGIN:VEVENT
DTSTART;TZID=America/Los_Angeles:20211012T190000
DTEND;TZID=America/Los_Angeles:20211012T210000
DTSTAMP:20260420T065820
CREATED:20211008T224844Z
LAST-MODIFIED:20211009T172228Z
UID:17686-1634065200-1634072400@www.hhwnc.org
SUMMARY:Housing / Area 3 meeting 10/12/21
DESCRIPTION:On Tuesday\, October 12\, at 7:00 PM\, the Housing Committee and Area 3 Committee will hold a Zoom Virtual meeting. On the agenda will be discussion of Councilmember Raman’s Council Motion 21-0658 which would streamline the development of 100% affordable housing and permanent supportive housing. \nAlso being discussed will be tenant landlord rights that the Housing and Community Investment Department of Los Angeles oversees. \nTo see the full agenda\, visit http://www.hhwnc.org/wp-content/uploads/2021/10/October-12-Housing-Agenda.pdf. \nHope to see you there.
URL:https://www.hhwnc.org/event/housing-area-3-meeting-10-12-21/
LOCATION:ZOOM Digital Meeting
CATEGORIES:HHWNC Meetings
END:VEVENT
BEGIN:VEVENT
DTSTART;TZID=America/Los_Angeles:20210913T183000
DTEND;TZID=America/Los_Angeles:20210913T210000
DTSTAMP:20260420T065820
CREATED:20210828T222311Z
LAST-MODIFIED:20210913T220251Z
UID:17586-1631557800-1631566800@www.hhwnc.org
SUMMARY:Area 3\, Area 4\, Business\, Public Safety\, Housing committee meeting\, Monday\, Sept. 13
DESCRIPTION:Zoom Meeting Link \nhttps://us02web.zoom.us/j/86441159471 \nPhone Dial in: +1 253 215 8782 \nMeeting ID: 971 1894 0283 \nOne tap mobile: \nUS: +16699006833\,\,86441159471#  or +13462487799\,\,86441159471# \nOr Telephone: \nDial (for higher quality\, dial a number based on your current location): \nUS: +1 669 900 6833  or +1 346 248 7799  or +1 253 215 8782  or +1 312 626 6799  or +1 929 205 6099  or +1 301 715 8592  or 833 548 0282 (Toll Free) or 877 853 5257 (Toll Free) or 888 475 4499 (Toll Free) or 833 548 0276 (Toll Free) \nWebinar ID: 864 4115 9471 \nInternational numbers available: https://us02web.zoom.us/u/kdW1gFdJjV \nTo see a full agenda and Zoom link\, please visit HEREhttps://www.hhwnc.org/area-3-housing/
URL:https://www.hhwnc.org/event/area-3-housing-committee-meeting-monday-sept-13/
LOCATION:Zoom: https://us02web.zoom.us/j/81608368301\, https://us02web.zoom.us/j/81608368301
CATEGORIES:HHWNC Meetings
END:VEVENT
BEGIN:VEVENT
DTSTART;TZID=America/Los_Angeles:20210630T180000
DTEND;TZID=America/Los_Angeles:20210630T200000
DTSTAMP:20260420T065820
CREATED:20210615T013538Z
LAST-MODIFIED:20210626T164926Z
UID:17456-1625076000-1625083200@www.hhwnc.org
SUMMARY:Area 3 meeting\, June 30\, 2021
DESCRIPTION:https://www.hhwnc.org/area-3-meeting-june-30-2021/
URL:https://www.hhwnc.org/event/area-3-meeting-june-30-2021/
LOCATION:ZOOM Digital Meeting
CATEGORIES:HHWNC Meetings
END:VEVENT
BEGIN:VEVENT
DTSTART;TZID=America/Los_Angeles:20201111T183000
DTEND;TZID=America/Los_Angeles:20201111T213000
DTSTAMP:20260420T065820
CREATED:20201108T223359Z
LAST-MODIFIED:20201108T235649Z
UID:16816-1605119400-1605130200@www.hhwnc.org
SUMMARY:Area 3\, Area 4\, Housing\, Infrastructure Committees' Meeting\, November 11\, 2020
DESCRIPTION:There will be a meeting of the Area 3\, Area 4\, Housing\, and Infrastructure Committees of the Hollywood Hills West Neighborhood Council to discuss the proposed Hollywood Community Plan Update 2’S (HCPU2) Community Plan Implementation Overlay (CPIO) of the Hollywood Community Plan Update 2 and how it will affect the communities located within the Area 3 and Area 4 boundaries. \nTo view the interactive map and the proposed changes to the Area\, visit https://ladcp.maps.arcgis.com/apps/MapSeries/index.html?appid=c7784b219ef845269c15b0cb4f048ef2. \nThe Frequently Asked Questions Draft to the Hollywood CPIO can be found at https://planning.lacity.org/odocument/533c014e-1b8d-475c-b60f-c219012bb159/Hollywood_CPIO_FAQs.pdf \nThe meeting will be held digitally\, this Wednesday\, November 11\, 2020 starting at 6:30 PM. The meeting can be accessed by either the link in the agenda below\, or calling the numbers below. Please enter the appropriate ID. Please note\, if you wish to address any of the agenda items\, you must access the meeting by phone. Please see the instructions in the agenda below. \nAgenda HHWNC Area 3\, Area 4\, Infrastructure\, Housing\, 11.11.20
URL:https://www.hhwnc.org/event/area-3-area-4-housing-infrastructure-committees-meeting-november-11-2020/
LOCATION:ZOOM Digital Meeting
CATEGORIES:Community Events
END:VEVENT
BEGIN:VEVENT
DTSTART;TZID=America/Los_Angeles:20190506T181500
DTEND;TZID=America/Los_Angeles:20190506T194500
DTSTAMP:20260420T065820
CREATED:20190429T025055Z
LAST-MODIFIED:20190503T073216Z
UID:15277-1557166500-1557171900@www.hhwnc.org
SUMMARY:Area 3 / Housing Committees' Meeting\, May 6\, 2019
DESCRIPTION:The next Area 3 & Housing Committees’ meeting will be held Monday\, May 6 from 6:15 PM – 7:45 PM at Yucca Community Center\, 6671 Yucca St\, Los Angeles\, CA 90028. The meeting will also include the Housing Committee. We will be talking about issues and policies that are affecting our neighborhood\, including the controversial SB 50\, the little heard of AB 724\, the application of JJJ and what is known about the upcoming roll-out of LA City’s AirBNB ordinance. \nFor a full agenda\, please visit here.
URL:https://www.hhwnc.org/event/area-3-housing-committees-meeting-may-6-2019/
LOCATION:Yucca Community Center\, 6671 Yucca St.\, \, Hollywood\, CA\, 90028\, United States
CATEGORIES:HHWNC Meetings
GEO:34.1033662;-118.3350424
X-APPLE-STRUCTURED-LOCATION;VALUE=URI;X-ADDRESS=Yucca Community Center 6671 Yucca St.  Hollywood CA 90028 United States;X-APPLE-RADIUS=500;X-TITLE=6671 Yucca St.\,:geo:-118.3350424,34.1033662
END:VEVENT
BEGIN:VEVENT
DTSTART;TZID=UTC:20180213T180000
DTEND;TZID=UTC:20180213T210000
DTSTAMP:20260420T065820
CREATED:20180210T014146Z
LAST-MODIFIED:20180210T052536Z
UID:13960-1518544800-1518555600@www.hhwnc.org
SUMMARY:Area 3 / Area 4 / Housing Committees Meeting
DESCRIPTION:This meeting will consider possible expansion of the Whitley Heights Historic Preservation Overlay Zone and the increase of Short Term Occupancy rentals in Area 3 and Area 4. To see the full agenda\, visit this link. \n 
URL:https://www.hhwnc.org/event/area-3-area-4-housing-committees-meeting/
LOCATION:Hollywood United Methodist Church\, 6817 Franklin Ave\, Los Angeles\, CA\, 90068\, United States
CATEGORIES:HHWNC Meetings
GEO:34.1043977;-118.3388481
X-APPLE-STRUCTURED-LOCATION;VALUE=URI;X-ADDRESS=Hollywood United Methodist Church 6817 Franklin Ave Los Angeles CA 90068 United States;X-APPLE-RADIUS=500;X-TITLE=6817 Franklin Ave:geo:-118.3388481,34.1043977
END:VEVENT
BEGIN:VEVENT
DTSTART;TZID=UTC:20171114T180000
DTEND;TZID=UTC:20171114T210000
DTSTAMP:20260420T065820
CREATED:20171014T033318Z
LAST-MODIFIED:20171114T124648Z
UID:13642-1510682400-1510693200@www.hhwnc.org
SUMMARY:Area 3 / Area 4 / Housing / Parks and Open Space Meeting re: Hollywood Community Plan Update
DESCRIPTION:This will be the second meeting to continue discussing the Hollywood Community Plan. We will include Area 3\, Area 4\, Housing\, and Parks and Open Spaces. To see the full agenda\, visit this link. \n 
URL:https://www.hhwnc.org/event/area-3-area-4-housing-meeting-re-hollywood-community-plan-update/
LOCATION:Zoom
CATEGORIES:HHWNC Meetings
END:VEVENT
BEGIN:VEVENT
DTSTART;TZID=UTC:20171010T180000
DTEND;TZID=UTC:20171010T210000
DTSTAMP:20260420T065820
CREATED:20171003T065922Z
LAST-MODIFIED:20171007T024139Z
UID:13614-1507658400-1507669200@www.hhwnc.org
SUMMARY:Area 3 / Area 4 / Housing
DESCRIPTION:The majority of the meeting will be to hear from stakeholders their desires of what they would like to see in the Hollywood Community Plan Update 2. Click here to access the agenda and the Hollywood Community Plan and supporting documents.
URL:https://www.hhwnc.org/event/area-3-area-4-public-safety-housing/
LOCATION:Hollywood United Methodist Church\, 6817 Franklin Ave\, Los Angeles\, CA\, 90068\, United States
CATEGORIES:HHWNC Meetings
GEO:34.1043977;-118.3388481
X-APPLE-STRUCTURED-LOCATION;VALUE=URI;X-ADDRESS=Hollywood United Methodist Church 6817 Franklin Ave Los Angeles CA 90068 United States;X-APPLE-RADIUS=500;X-TITLE=6817 Franklin Ave:geo:-118.3388481,34.1043977
END:VEVENT
BEGIN:VEVENT
DTSTART;TZID=UTC:20170207T180000
DTEND;TZID=UTC:20170207T200000
DTSTAMP:20260420T065820
CREATED:20170123T090431Z
LAST-MODIFIED:20170202T051757Z
UID:12763-1486490400-1486497600@www.hhwnc.org
SUMMARY:Area 3 Committee / Housing Committee Joint Meeting
DESCRIPTION:For the full agenda for this meeting\, please visit the Area 3 Committee Page. \nThree items are on the agenda – \n\n1749 Las Palmas Avenue & 6710 Yucca Street: The application is asking permission to demolish an existing two story building with 15 apartment units and build a 7-story mixed use building with 70 apartments and a 3\,117 square foot ground floor retail area. The height of the proposed building would be 71 feet.\n1719 Whitley Ave: The application is asking permission to demolish an existing complex of 40 apartment units and replace with a 156 room\, 10 story hotel\, providing 122 parking spaces and 16 bicycle parking spaces.\nDiscussion of possible monetary support for Yucca Community Center’s Spring Holiday event.\n\nItems will have a possible motion and vote.
URL:https://www.hhwnc.org/event/area-3-committee-meeting-3/
LOCATION:Las Palmas Senior Citizen Center\, 1820 N Las Palmas Ave\, Los Angeles\, CA\, 90028\, United States
CATEGORIES:HHWNC Meetings
GEO:34.1048514;-118.3359243
X-APPLE-STRUCTURED-LOCATION;VALUE=URI;X-ADDRESS=Las Palmas Senior Citizen Center 1820 N Las Palmas Ave Los Angeles CA 90028 United States;X-APPLE-RADIUS=500;X-TITLE=1820 N Las Palmas Ave:geo:-118.3359243,34.1048514
END:VEVENT
END:VCALENDAR