BEGIN:VCALENDAR
VERSION:2.0
PRODID:-//Hollywood Hills West - ECPv6.15.20//NONSGML v1.0//EN
CALSCALE:GREGORIAN
METHOD:PUBLISH
X-ORIGINAL-URL:https://www.hhwnc.org
X-WR-CALDESC:Events for Hollywood Hills West
REFRESH-INTERVAL;VALUE=DURATION:PT1H
X-Robots-Tag:noindex
X-PUBLISHED-TTL:PT1H
BEGIN:VTIMEZONE
TZID:America/Los_Angeles
BEGIN:DAYLIGHT
TZOFFSETFROM:-0800
TZOFFSETTO:-0700
TZNAME:PDT
DTSTART:20240310T100000
END:DAYLIGHT
BEGIN:STANDARD
TZOFFSETFROM:-0700
TZOFFSETTO:-0800
TZNAME:PST
DTSTART:20241103T090000
END:STANDARD
BEGIN:DAYLIGHT
TZOFFSETFROM:-0800
TZOFFSETTO:-0700
TZNAME:PDT
DTSTART:20250309T100000
END:DAYLIGHT
BEGIN:STANDARD
TZOFFSETFROM:-0700
TZOFFSETTO:-0800
TZNAME:PST
DTSTART:20251102T090000
END:STANDARD
BEGIN:DAYLIGHT
TZOFFSETFROM:-0800
TZOFFSETTO:-0700
TZNAME:PDT
DTSTART:20260308T100000
END:DAYLIGHT
BEGIN:STANDARD
TZOFFSETFROM:-0700
TZOFFSETTO:-0800
TZNAME:PST
DTSTART:20261101T090000
END:STANDARD
END:VTIMEZONE
BEGIN:VEVENT
DTSTART;TZID=America/Los_Angeles:20250529T183000
DTEND;TZID=America/Los_Angeles:20250529T210000
DTSTAMP:20260420T175917
CREATED:20250523T220206Z
LAST-MODIFIED:20250523T220629Z
UID:20129-1748543400-1748552400@www.hhwnc.org
SUMMARY:Joint Areas 3\, 4\, 5\, 7\, Parks & Open Spaces & Infrastructure Meeting\, May 29\, 6:30 PM
DESCRIPTION:Councilmember Hugo Soto-Martinez has requested the Neighborhood Councils that lie within Council District 13 present to him neighborhood projects / needs that have not yet been attended to by the City\, or are falling behind: i.e.\, medians\, mural restorations\, street infrastructure improvements approved lagging\, etc. \nThis meeting is an opportunity for stakeholders to let the committees know needs in their areas. Please see the map below for the boundaries that will be considered. CD 13 has a slim part of HHWNC\, so please consult the boundaries that the project should be in. \nThe Committees will consider the needs in their areas and advance to the Board if decided. \nThe meeting will be held Thursday\, May 9\, 2025 starting at 6:30 PM. \nThe meeting will be held via Zoom: https://us02web.zoom.us/j/89162369474r \nTo see the full agenda\, please visit: HERE \nHope to see you there. \n 
URL:https://www.hhwnc.org/event/joint-areas-3-4-5-7-parks-open-spaces-infrastructure-meeting-may-29-630-pm/
LOCATION:Zoom
CATEGORIES:HHWNC Meetings
END:VEVENT
BEGIN:VEVENT
DTSTART;TZID=America/Los_Angeles:20250130T173000
DTEND;TZID=America/Los_Angeles:20250130T183000
DTSTAMP:20260420T175917
CREATED:20250104T024152Z
LAST-MODIFIED:20250115T182627Z
UID:19897-1738258200-1738261800@www.hhwnc.org
SUMMARY:Smith Park Meeting - Postponed to Jan. 30
DESCRIPTION:Dear Stakeholders\,\n\nIn light of recent fires and extreme weather\, Council Districts 4 and 13 have postponed the upcoming Dorothy and Benjamin Smith Park community meeting.\n\nThe new date for the meeting will be on January 30 at 5:30-6:30 PM\, at the Hollywood Neighborhood City Hall – 6501 Fountain Avenue\, Hollywood\, CA 90028 (Fountain/Wilcox – in the LAPD Hollywood building).\n\nI look forward to seeing you all there!\n\nA Parks and Open Space Committee meeting will be held in early February – details to come soon.\n\n\nThank you\n\n\n——————————\nGrahamRossmore\nYourParks and Open Space Chair\n(213) 282-8142\nparkschair@hhwnc.org \nHHWNC.org
URL:https://www.hhwnc.org/event/dorothy-and-benjamin-smith-park-community-meeting/
CATEGORIES:Community Events
END:VEVENT
END:VCALENDAR