BEGIN:VCALENDAR
VERSION:2.0
PRODID:-//Hollywood Hills West - ECPv6.15.20//NONSGML v1.0//EN
CALSCALE:GREGORIAN
METHOD:PUBLISH
X-WR-CALNAME:Hollywood Hills West
X-ORIGINAL-URL:https://www.hhwnc.org
X-WR-CALDESC:Events for Hollywood Hills West
REFRESH-INTERVAL;VALUE=DURATION:PT1H
X-Robots-Tag:noindex
X-PUBLISHED-TTL:PT1H
BEGIN:VTIMEZONE
TZID:America/Los_Angeles
BEGIN:DAYLIGHT
TZOFFSETFROM:-0800
TZOFFSETTO:-0700
TZNAME:PDT
DTSTART:20190310T100000
END:DAYLIGHT
BEGIN:STANDARD
TZOFFSETFROM:-0700
TZOFFSETTO:-0800
TZNAME:PST
DTSTART:20191103T090000
END:STANDARD
BEGIN:DAYLIGHT
TZOFFSETFROM:-0800
TZOFFSETTO:-0700
TZNAME:PDT
DTSTART:20200308T100000
END:DAYLIGHT
BEGIN:STANDARD
TZOFFSETFROM:-0700
TZOFFSETTO:-0800
TZNAME:PST
DTSTART:20201101T090000
END:STANDARD
BEGIN:DAYLIGHT
TZOFFSETFROM:-0800
TZOFFSETTO:-0700
TZNAME:PDT
DTSTART:20210314T100000
END:DAYLIGHT
BEGIN:STANDARD
TZOFFSETFROM:-0700
TZOFFSETTO:-0800
TZNAME:PST
DTSTART:20211107T090000
END:STANDARD
BEGIN:DAYLIGHT
TZOFFSETFROM:-0800
TZOFFSETTO:-0700
TZNAME:PDT
DTSTART:20220313T100000
END:DAYLIGHT
BEGIN:STANDARD
TZOFFSETFROM:-0700
TZOFFSETTO:-0800
TZNAME:PST
DTSTART:20221106T090000
END:STANDARD
BEGIN:DAYLIGHT
TZOFFSETFROM:-0800
TZOFFSETTO:-0700
TZNAME:PDT
DTSTART:20230312T100000
END:DAYLIGHT
BEGIN:STANDARD
TZOFFSETFROM:-0700
TZOFFSETTO:-0800
TZNAME:PST
DTSTART:20231105T090000
END:STANDARD
BEGIN:DAYLIGHT
TZOFFSETFROM:-0800
TZOFFSETTO:-0700
TZNAME:PDT
DTSTART:20240310T100000
END:DAYLIGHT
BEGIN:STANDARD
TZOFFSETFROM:-0700
TZOFFSETTO:-0800
TZNAME:PST
DTSTART:20241103T090000
END:STANDARD
BEGIN:DAYLIGHT
TZOFFSETFROM:-0800
TZOFFSETTO:-0700
TZNAME:PDT
DTSTART:20250309T100000
END:DAYLIGHT
BEGIN:STANDARD
TZOFFSETFROM:-0700
TZOFFSETTO:-0800
TZNAME:PST
DTSTART:20251102T090000
END:STANDARD
END:VTIMEZONE
BEGIN:VEVENT
DTSTART;TZID=America/Los_Angeles:20200108T180000
DTEND;TZID=America/Los_Angeles:20200108T200000
DTSTAMP:20260425T213034
CREATED:20200103T064202Z
LAST-MODIFIED:20200103T064202Z
UID:15944-1578506400-1578513600@www.hhwnc.org
SUMMARY:PLUM Meeting\, Wednesday\, January 8\, 2020
DESCRIPTION:The PLUM Committee of the Hollywood Hills West Neighborhood Council (HHWNC) will hold its next meeting Wednesday\, January 8\, 2020 from 6:00 to 8:00 PM for the next meeting of HHWNC’s PLUM Committee. On the agenda are proposed projects at (i) 7917 – 8000 W. Sunset Boulevard in HHWNC’s Area 7 and City Council District 4\, and (ii) 1724 – 1744 N. Highland Avenue and 6760 – 6778 W. Yucca Street in HHWNC’s Area 3 City Council District 13. \n  \nFor more information on the proposed projects\, please access the posted agenda using the link below. \n  \nHHWNC PLUM Committee Meeting Agenda – January 8\, 2020 \n  \nPLUM Meeting \nThursday\, June 7 \n6pm – 8pm \nDurant Library\, 7140 W. Sunset Blvd. \nParking lot entrance is behind the Library
URL:https://www.hhwnc.org/event/plum-meeting-wednesday-january-8-2020/
LOCATION:William & Ariel Durant Public Library\, 7140 W. Sunset Blvd\, Los Angeles\, 90046
CATEGORIES:HHWNC Meetings
ORGANIZER;CN="Orrin Feldman":MAILTO:vicepresident@hhwnc.org
GEO:34.0976549;-118.3455952
X-APPLE-STRUCTURED-LOCATION;VALUE=URI;X-ADDRESS=William & Ariel Durant Public Library 7140 W. Sunset Blvd Los Angeles 90046;X-APPLE-RADIUS=500;X-TITLE=7140 W. Sunset Blvd:geo:-118.3455952,34.0976549
END:VEVENT
BEGIN:VEVENT
DTSTART;TZID=America/Los_Angeles:20220110T183000
DTEND;TZID=America/Los_Angeles:20220110T203000
DTSTAMP:20260425T213034
CREATED:20220104T183756Z
LAST-MODIFIED:20220107T201708Z
UID:17914-1641839400-1641846600@www.hhwnc.org
SUMMARY:PLUM / Area 3 meeting\, January 10\, 2021 6:30 PM
DESCRIPTION:Please join us\, Monday evening\, January 10 at 6:30 PM for a PLUM / Area 3 Joint Committees meeting to be held digitally on Zoom. \nAgenda will include Taco Bell’s request for restaurant and full line of alcohol at 6741 Hollywood Boulevard\, Karnevil’s request for full line of alcohol and entertainment at 6627 Hollywood Boulevard (previously Loteria Grill)\, and an update on the Franklin\, Cahuenga Triangle. \nFull agenda is below. \nTo download a copy of the agenda\, please visit http://www.hhwnc.org/wp-content/uploads/2022/01/Agenda-PLUM-1-10-22-w-minutes-9-15-12-6.pdf. \nZoom Meeting Link; https://us02web.zoom.us/j/82682967062\nZoom Meeting ID: 826 8296 7062\nPhone Dial in: +1 253 215 8782 \n  \nRevised Agenda PLUM\, Area 3 Committee 1.10.22
URL:https://www.hhwnc.org/event/plum-area-3-meeting-january-10-2021-630-pm/
LOCATION:ZOOM Digital Meeting
CATEGORIES:HHWNC Meetings,Project Alerts
END:VEVENT
BEGIN:VEVENT
DTSTART;TZID=America/Los_Angeles:20230327T180000
DTEND;TZID=America/Los_Angeles:20230327T203000
DTSTAMP:20260425T213034
CREATED:20230324T231109Z
LAST-MODIFIED:20230324T231520Z
UID:18834-1679940000-1679949000@www.hhwnc.org
SUMMARY:PLUM Committee Meeting\, Monday\, March 27 @ 6:00 PM
DESCRIPTION:Join us on Monday\, March 27\, at 6:00 PM for a special Planning and Land Use Management Committee meeting to discuss Madame Tussaud’s application for a full line of alcohol with new rooftop restaurant and two interior bars. \nYou can read the full application here: https://planning.lacity.org/pdiscaseinfo/document/NTI20/382be727-91db-4e5c-88e0-bb0f216d41aa/esubmit. \nFor the full agenda\, click here to be taken to the agenda page: https://www.hhwnc.org/plum-committee-meeting-monday-march-27-600-pm/. \nHope to see you there. \nZoom: https://us02web.zoom.us/j/81987625902
URL:https://www.hhwnc.org/event/plum-committee-meeting-monday-march-27-600-pm/
LOCATION:Zoom: https://us02web.zoom.us/j/81987625902
CATEGORIES:HHWNC Meetings
END:VEVENT
BEGIN:VEVENT
DTSTART;TZID=America/Los_Angeles:20240618T183000
DTEND;TZID=America/Los_Angeles:20240618T210000
DTSTAMP:20260425T213034
CREATED:20240614T040243Z
LAST-MODIFIED:20240614T040533Z
UID:19354-1718735400-1718744400@www.hhwnc.org
SUMMARY:Housing\, Business\, All Areas Committees’ Meeting
DESCRIPTION:Join the Housing committee\, along with the Area committees of HHWNC on Tuesday evening\, June 18\, starting at 6:30 PM to discuss housing issues\, including the Mayor’s Executive Directive #1 (ED1). Please see the agenda below for more information. For a full downloadable agenda\, please click here \nZoom link: https://us02web.zoom.us/j/88541075973 \nMeeting ID: 885 4107 5973 \nHope to see you there. \nHousing Areas June 18\, 2024
URL:https://www.hhwnc.org/event/housing-business-all-areas-committees-meeting/
LOCATION:Zoom Meeting Link: https://us02web.zoom.us/j/88541075973
CATEGORIES:HHWNC Meetings
END:VEVENT
BEGIN:VEVENT
DTSTART;TZID=America/Los_Angeles:20240709T183000
DTEND;TZID=America/Los_Angeles:20240709T210000
DTSTAMP:20260425T213034
CREATED:20240620T042300Z
LAST-MODIFIED:20240706T200753Z
UID:19378-1720549800-1720558800@www.hhwnc.org
SUMMARY:July 9\, 6:30 PM\, PLUM / Area 7 / Housing Committee
DESCRIPTION:The PLUM Committee\, Housing Committee and Area 7 Committee will hold a meeting on Tuesday\, July 9\, at 6:30 PM over Zoom. \nOn the agenda will be: \n\nDemolition of three two-story apartment homes collectively containing 32 units\, and\nnew construction of an eight-story apartment community at 7762 Hollywood Blvd. DM-2024-794-DB-VHCA-ED1\nPresentation by Backpack Boyz to community\nHousing committee discussion on current ED-1 status and potential HHWNC Community Impact Statement.\nUpdate and discussion regarding Sunset / Gardner \n\nZoom Link: https://us02web.zoom.us/j/89638134618 \nMeeting ID: 896 3813 4618 \nCall in: +1 (719)-359-4580
URL:https://www.hhwnc.org/event/housing-meeting-on-ed1-tues-july-9-2024/
LOCATION:Zoom link listed above
CATEGORIES:HHWNC Meetings
END:VEVENT
BEGIN:VEVENT
DTSTART;TZID=America/Los_Angeles:20241008T200000
DTEND;TZID=America/Los_Angeles:20241008T210000
DTSTAMP:20260425T213034
CREATED:20241004T015820Z
LAST-MODIFIED:20241004T020432Z
UID:19662-1728417600-1728421200@www.hhwnc.org
SUMMARY:PLUM Committee Meeting\, Tuesday Oct 8\, 2024
DESCRIPTION:There will be meeting on Tuesday\, October 8 at 8:00 PM of the PLUM committee  of the Hollywood Hills West Neighborhood Council to discuss \n\nthe Mayor’s Executive Directive 1\, which seeks to extend and make permanent the provision of “regulatory guidance to new 100% affordable housing proposals. The revisions being considered add additional protections to residential tenants\, ensures high fire risk area safeguards and looks at the design\, landscaping and open spaces of new ‘affordable’ housing. The full text of ED1 can be found HERE.  Possible motion and vote on a Community Impact Statement to be sent to City officials.\nthe proposed Citywide Housing Incentive Program (CHIP) Ordinance. CHIP is made up of three incentive programs\, State Density Bonus\, Mixed Income\, and the Affordable Housing. More detailed information may be found HERE. At issue is the continuation of single-family neighborhoods’ ability to fulfill State affordability mandates.\nCUB application of ZA-2024-5836-CUB; La Popular Restaurant at Ovation.\n\nZoom Meeting Link: https://us02web.zoom.us/j/82506487065 Meeting ID: 825 0648 7065 \nPhone Dial in: +1 (669) 900 6833; Code: 825 0648 7065 \nThis meeting will follow a Housing / All Areas / Business meeting\, starting at 6:00 PM\, which will have the same agenda. HHWNC bylaws and standing rules state that stakeholders can be voting committee members for Area and Issue committees. They cannot be for PLUM.If you wish to have your vote count\, please attend the Housing / All Areas / Business meeting at 6:00 PM\, using the same Zoom credentials as above. \nHope to see you on Zoom at the meeting. \nFor a full\, downoadable agenda\, visit
URL:https://www.hhwnc.org/event/plum-committee-meeting-tuesday-oct-8-2024/
CATEGORIES:HHWNC Meetings
END:VEVENT
END:VCALENDAR