BEGIN:VCALENDAR
VERSION:2.0
PRODID:-//Hollywood Hills West - ECPv6.15.20//NONSGML v1.0//EN
CALSCALE:GREGORIAN
METHOD:PUBLISH
X-WR-CALNAME:Hollywood Hills West
X-ORIGINAL-URL:https://www.hhwnc.org
X-WR-CALDESC:Events for Hollywood Hills West
REFRESH-INTERVAL;VALUE=DURATION:PT1H
X-Robots-Tag:noindex
X-PUBLISHED-TTL:PT1H
BEGIN:VTIMEZONE
TZID:UTC
BEGIN:STANDARD
TZOFFSETFROM:+0000
TZOFFSETTO:+0000
TZNAME:UTC
DTSTART:20170101T000000
END:STANDARD
END:VTIMEZONE
BEGIN:VTIMEZONE
TZID:America/Los_Angeles
BEGIN:DAYLIGHT
TZOFFSETFROM:-0800
TZOFFSETTO:-0700
TZNAME:PDT
DTSTART:20170312T100000
END:DAYLIGHT
BEGIN:STANDARD
TZOFFSETFROM:-0700
TZOFFSETTO:-0800
TZNAME:PST
DTSTART:20171105T090000
END:STANDARD
BEGIN:DAYLIGHT
TZOFFSETFROM:-0800
TZOFFSETTO:-0700
TZNAME:PDT
DTSTART:20180311T100000
END:DAYLIGHT
BEGIN:STANDARD
TZOFFSETFROM:-0700
TZOFFSETTO:-0800
TZNAME:PST
DTSTART:20181104T090000
END:STANDARD
BEGIN:DAYLIGHT
TZOFFSETFROM:-0800
TZOFFSETTO:-0700
TZNAME:PDT
DTSTART:20190310T100000
END:DAYLIGHT
BEGIN:STANDARD
TZOFFSETFROM:-0700
TZOFFSETTO:-0800
TZNAME:PST
DTSTART:20191103T090000
END:STANDARD
BEGIN:DAYLIGHT
TZOFFSETFROM:-0800
TZOFFSETTO:-0700
TZNAME:PDT
DTSTART:20200308T100000
END:DAYLIGHT
BEGIN:STANDARD
TZOFFSETFROM:-0700
TZOFFSETTO:-0800
TZNAME:PST
DTSTART:20201101T090000
END:STANDARD
BEGIN:DAYLIGHT
TZOFFSETFROM:-0800
TZOFFSETTO:-0700
TZNAME:PDT
DTSTART:20210314T100000
END:DAYLIGHT
BEGIN:STANDARD
TZOFFSETFROM:-0700
TZOFFSETTO:-0800
TZNAME:PST
DTSTART:20211107T090000
END:STANDARD
BEGIN:DAYLIGHT
TZOFFSETFROM:-0800
TZOFFSETTO:-0700
TZNAME:PDT
DTSTART:20220313T100000
END:DAYLIGHT
BEGIN:STANDARD
TZOFFSETFROM:-0700
TZOFFSETTO:-0800
TZNAME:PST
DTSTART:20221106T090000
END:STANDARD
BEGIN:DAYLIGHT
TZOFFSETFROM:-0800
TZOFFSETTO:-0700
TZNAME:PDT
DTSTART:20230312T100000
END:DAYLIGHT
BEGIN:STANDARD
TZOFFSETFROM:-0700
TZOFFSETTO:-0800
TZNAME:PST
DTSTART:20231105T090000
END:STANDARD
BEGIN:DAYLIGHT
TZOFFSETFROM:-0800
TZOFFSETTO:-0700
TZNAME:PDT
DTSTART:20240310T100000
END:DAYLIGHT
BEGIN:STANDARD
TZOFFSETFROM:-0700
TZOFFSETTO:-0800
TZNAME:PST
DTSTART:20241103T090000
END:STANDARD
BEGIN:DAYLIGHT
TZOFFSETFROM:-0800
TZOFFSETTO:-0700
TZNAME:PDT
DTSTART:20250309T100000
END:DAYLIGHT
BEGIN:STANDARD
TZOFFSETFROM:-0700
TZOFFSETTO:-0800
TZNAME:PST
DTSTART:20251102T090000
END:STANDARD
BEGIN:DAYLIGHT
TZOFFSETFROM:-0800
TZOFFSETTO:-0700
TZNAME:PDT
DTSTART:20260308T100000
END:DAYLIGHT
BEGIN:STANDARD
TZOFFSETFROM:-0700
TZOFFSETTO:-0800
TZNAME:PST
DTSTART:20261101T090000
END:STANDARD
END:VTIMEZONE
BEGIN:VEVENT
DTSTART;TZID=UTC:20180312T180000
DTEND;TZID=UTC:20180312T200000
DTSTAMP:20260420T153642
CREATED:20180212T123241Z
LAST-MODIFIED:20180212T123523Z
UID:13999-1520877600-1520884800@www.hhwnc.org
SUMMARY:Parks and Open Space Committee Meeting
DESCRIPTION:Please join us for the next Parks and Open Space Committee meeting\, Monday\, March 12th\, starting at 6:00 PM. This is your opportunity to have input on the issues in around the parks and open space in our community. \nAbout the Parks and Open Space Committee: \nWe recognize that the parks and open spaces within our neighborhood council area are a cherished and irreplaceable natural resource\, essential for our physical and mental well-being.  The goal of this committee is to promote and maintain these areas as a refuge\, in contrast to the city around it\, and to bring stakeholders together to do important and timely work in our community.
URL:https://www.hhwnc.org/event/parks-and-open-space-committee-meeting-4/
LOCATION:Will and Ariel Durant Branch Library\, 7140 Sunset Blvd\,  Los Angeles\, 90046
CATEGORIES:HHWNC Meetings
ORGANIZER;CN="Jeffery Masino":MAILTO:parkschair@hhwnc.org
GEO:34.0976549;-118.3455952
X-APPLE-STRUCTURED-LOCATION;VALUE=URI;X-ADDRESS=Will and Ariel Durant Branch Library 7140 Sunset Blvd  Los Angeles 90046;X-APPLE-RADIUS=500;X-TITLE=7140 Sunset Blvd:geo:-118.3455952,34.0976549
END:VEVENT
BEGIN:VEVENT
DTSTART;TZID=America/Los_Angeles:20180926T180000
DTEND;TZID=America/Los_Angeles:20180926T200000
DTSTAMP:20260420T153642
CREATED:20180917T184415Z
LAST-MODIFIED:20180917T184422Z
UID:14478-1537984800-1537992000@www.hhwnc.org
SUMMARY:Update on Dixon Study of Runyon Canyon Park
DESCRIPTION:Runyon Dixon Update Flyer_092618
URL:https://www.hhwnc.org/event/update-on-dixon-study-of-runyon-canyon-park/
LOCATION:William & Ariel Durant Public Library\, 7140 W. Sunset Blvd\, Los Angeles\, 90046
CATEGORIES:HHWNC Meetings
GEO:34.0976549;-118.3455952
X-APPLE-STRUCTURED-LOCATION;VALUE=URI;X-ADDRESS=William & Ariel Durant Public Library 7140 W. Sunset Blvd Los Angeles 90046;X-APPLE-RADIUS=500;X-TITLE=7140 W. Sunset Blvd:geo:-118.3455952,34.0976549
END:VEVENT
BEGIN:VEVENT
DTSTART;TZID=America/Los_Angeles:20190119T083000
DTEND;TZID=America/Los_Angeles:20190119T130000
DTSTAMP:20260420T153642
CREATED:20181223T213914Z
LAST-MODIFIED:20181223T214117Z
UID:14728-1547886600-1547902800@www.hhwnc.org
SUMMARY:HHWNC Runyon Third Annual Tree Planting
DESCRIPTION:On Saturday\, January 19\, 2019 \, join the Hollywood Hills West Neighborhood Council\, in partnership with Los Angeles Recreation And Parks\, and TreePeople (https://www.treepeople.org) for our third annual Runyon Canyon tree planting event. \nThis year\, we will be planting six Native California Live Oaks\, and five Tipu trees in lower Runyon Canyon Park \nVolunteer sign up can be found here:  https://www.treepeople.org/calendar/volunteer-events/2019-01-19/park-planting \nWe look forward to seeing you!
URL:https://www.hhwnc.org/event/hhwnc-runyon-third-annual-tree-planting/
LOCATION:Runyon Cyn Park Fuller Gate Entrance\, 2000 N Fuller Ave\, Los Angeles\,\, CA\, 90046
CATEGORIES:Community Events
ORGANIZER;CN="Jeffery Masino":MAILTO:parkschair@hhwnc.org
END:VEVENT
BEGIN:VEVENT
DTSTART;TZID=America/Los_Angeles:20190211T180000
DTEND;TZID=America/Los_Angeles:20190211T200000
DTSTAMP:20260420T153642
CREATED:20190119T214943Z
LAST-MODIFIED:20190129T160405Z
UID:14960-1549908000-1549915200@www.hhwnc.org
SUMMARY:2nd Update on Dixon Study of Runyon Canyon Park
DESCRIPTION:Runyon Dixon 2nd Update Flyer\n\nIn March of last year\, the Los Angeles City Council approved funding for a study of park access\, safety and mobility in and around Runyon Cyn Park to be undertaken by Dixon Resources\, overseen by CD4. Please join us for this update and discussion of next steps (CD4 Rep).
URL:https://www.hhwnc.org/event/2nd-update-on-dixon-study-of-runyon-canyon-park/
LOCATION:Will and Ariel Durant Branch Library\, 7140 Sunset Blvd\,  Los Angeles\, 90046
CATEGORIES:HHWNC Meetings
ORGANIZER;CN="Jeffery Masino":MAILTO:parkschair@hhwnc.org
GEO:34.0976549;-118.3455952
X-APPLE-STRUCTURED-LOCATION;VALUE=URI;X-ADDRESS=Will and Ariel Durant Branch Library 7140 Sunset Blvd  Los Angeles 90046;X-APPLE-RADIUS=500;X-TITLE=7140 Sunset Blvd:geo:-118.3455952,34.0976549
END:VEVENT
BEGIN:VEVENT
DTSTART;TZID=America/Los_Angeles:20190520T180000
DTEND;TZID=America/Los_Angeles:20190520T200000
DTSTAMP:20260420T153642
CREATED:20190422T033139Z
LAST-MODIFIED:20190422T034606Z
UID:15247-1558375200-1558382400@www.hhwnc.org
SUMMARY:Initial Recommendations Report on the  2018 Dixon Study of Runyon Canyon Park
DESCRIPTION:Do you have concerns about parking\, traffic\, trash\, park maintenance or other issues that you’d like to see the city address at Runyon Canyon Park?\nCouncilmember David Ryu (CD4) has initiated a study by Dixon Resources Unlimited to improve access\, mobility and other issues in and around the park.\nPlease join us for a report of initial recommendations and strategies to community by Dixon Resources on their 2018 Runyon Park Traffic Study at HHWNC’s Parks & Open Space / Transportation / Area 6 Committee meeting.\nParks & Open Space / Transportation / Area 6 Committee Meeting\nMonday\, May 20\, 2019\n6 pm – 8 pm\nDurant Public Library\n7140 Sunset Blvd (free parking in back)
URL:https://www.hhwnc.org/event/initial-recommendations-report-on-the-2018-dixon-study-of-runyon-canyon-park/
LOCATION:Will and Ariel Durant Branch Library\, 7140 Sunset Blvd\,  Los Angeles\, 90046
CATEGORIES:HHWNC Meetings
ORGANIZER;CN="Jeffery Masino":MAILTO:parkschair@hhwnc.org
GEO:34.0976549;-118.3455952
X-APPLE-STRUCTURED-LOCATION;VALUE=URI;X-ADDRESS=Will and Ariel Durant Branch Library 7140 Sunset Blvd  Los Angeles 90046;X-APPLE-RADIUS=500;X-TITLE=7140 Sunset Blvd:geo:-118.3455952,34.0976549
END:VEVENT
BEGIN:VEVENT
DTSTART;TZID=America/Los_Angeles:20190904T180000
DTEND;TZID=America/Los_Angeles:20190904T193000
DTSTAMP:20260420T153642
CREATED:20190724T152733Z
LAST-MODIFIED:20190826T164150Z
UID:15557-1567620000-1567625400@www.hhwnc.org
SUMMARY:Parks and Open Space Committee Meeting
DESCRIPTION:AGENDA NOW POSTED\nHOLLYWOOD HILLS WEST NEIGHBORHOOD COUNCIL\nParks and Open Space Committee Meeting\nSeptember 4\, 2019\n6:00PM – 7:45PM\nWill and Ariel Durant Library Branch 7140 Sunset Blvd\, Los Angeles\, CA 90046
URL:https://www.hhwnc.org/event/parks-and-open-space-committee-meeting-5/
LOCATION:Will and Ariel Durant Branch Library\, 7140 Sunset Blvd\,  Los Angeles\, 90046
CATEGORIES:HHWNC Meetings
ORGANIZER;CN="Jeffery Masino":MAILTO:parkschair@hhwnc.org
GEO:34.0976549;-118.3455952
X-APPLE-STRUCTURED-LOCATION;VALUE=URI;X-ADDRESS=Will and Ariel Durant Branch Library 7140 Sunset Blvd  Los Angeles 90046;X-APPLE-RADIUS=500;X-TITLE=7140 Sunset Blvd:geo:-118.3455952,34.0976549
END:VEVENT
BEGIN:VEVENT
DTSTART;TZID=America/Los_Angeles:20210929T183000
DTEND;TZID=America/Los_Angeles:20210929T203000
DTSTAMP:20260420T153642
CREATED:20210730T040106Z
LAST-MODIFIED:20211008T030555Z
UID:17526-1632940200-1632947400@www.hhwnc.org
SUMMARY:Hollywood Hills West Neighborhood Council to Hold Meeting for Upper Runyon Canyon Parking
DESCRIPTION:Hollywood Hills West Neighborhood Council to Hold Meeting for Upper Runyon Canyon Parking\n  \nPlease join HHWNC at a Parks & Open Space and Transportation committees meeting on the future use of the Mulholland Entrance parking lot. Located at 7317 Mulholland Drive\, the lot serves the North entrance of Runyon Canyon Park.  Come share your views with\, and ask questions to your City representatives. Participants will include Rachel Fox and Mehmet Berker\, with the Council District 4 Office\, and Stefanie Smith\, with Los Angeles Recreation & Parks. \nThe virtual meeting is scheduled for Wednesday\, September 29\, 2021\, beginning at 6:30 pm. The meeting will be held over Zoom.\n \nWhen:  Sep 29\, 2021 06:30 PM Pacific Time (US and Canada) \nTopic: Upper Runyon Mulholland parking lot – HHWNC Virtual Park & Open Spaces and Transportation Committees Meeting\n \n\nPlease click the Zoom meeting link below to join the webinar:\nhttps://us02web.zoom.us/j/83161901921\n\n\nOr One tap mobile :\nUS: +16699006833\,\,83161901921#  or +13462487799\,\,83161901921#\n\n\nOr Telephone:\nDial(for higher quality\, dial a number based on your current location):\nUS: +1 669 900 6833  or +1 346 248 7799  or +1 253 215 8782  or +1 312 626 6799  or +1 929 205 6099  or +1 301 715 8592  or 888 475 4499 (Toll Free) or 833 548 0276 (Toll Free) or 833 548 0282 (Toll Free) or 877 853 5257 (Toll Free)\n\nWebinar ID: 831 6190 1921 \nInternational numbers available: https://us02web.zoom.us/u/kej8uBzm1Q \nFor a full agenda\, please visit HERE and click the agenda button. \nOrganized by Jeff Masino\, Parks & Open Space Chair \nDuring the June 16\, 2021 HHWNC Board meeting\, a motion passed to hold an open and transparent meeting on the subject of reopening the Upper Runyon Canyon Parking lot near the top entrance of Runyon Cyn Park. This meeting is being held to meet that motion and respond to stakeholder’s requests.
URL:https://www.hhwnc.org/event/parks-open-space-runyon-canyon-parking-lot-reopening/
CATEGORIES:HHWNC Meetings
END:VEVENT
BEGIN:VEVENT
DTSTART;TZID=America/Los_Angeles:20221017T183000
DTEND;TZID=America/Los_Angeles:20221017T200000
DTSTAMP:20260420T153642
CREATED:20221007T051329Z
LAST-MODIFIED:20221008T041800Z
UID:18445-1666031400-1666036800@www.hhwnc.org
SUMMARY:Parks & Open Space / Environment Committee Joint Meeting
DESCRIPTION:REVISED_POS committee_Agenda_10-17-22\n 
URL:https://www.hhwnc.org/event/parks-open-space-environment-committee-joint-meeting/
LOCATION:Zoom meeting link: https://us02web.zoom.us/j/83161901921
CATEGORIES:HHWNC Meetings
END:VEVENT
BEGIN:VEVENT
DTSTART;TZID=America/Los_Angeles:20240604T190000
DTEND;TZID=America/Los_Angeles:20240604T203000
DTSTAMP:20260420T153642
CREATED:20240530T001106Z
LAST-MODIFIED:20240530T222100Z
UID:19307-1717527600-1717533000@www.hhwnc.org
SUMMARY:Joint Areas and Committees Meeting re: Mulholland and Runyon Canyon Park Issues
DESCRIPTION:Please join the Areas 2\, 5\, 6\, and 9 committees of the Hollywood Hills West Neighborhood Council\, along with the Public Safety and Transportation committees\, on Tuesday\, June 4\, 2024 at 7 PM on Zoom. The following will be discussed: \n\nMulholland traffic and illegal parking on the 4th of July\nAn update on the “No Tour Bus Ordinance” enforcement\nAn update on the Mulholland speed bumps\nIsssue surrounding the sundown closure of Runyon Canyon\n\nFor a full\, downloadable agenda\, please visit HERE \nWe hope to see you on Zoom. The meeting link is: https://us02web.zoom.us/j/89069930386.
URL:https://www.hhwnc.org/event/joint-areas-and-committees-meeting-re-mulholland-and-runyon-canyon-park-issues/
LOCATION:https://us02web.zoom.us/j/89069930386
CATEGORIES:HHWNC Meetings
END:VEVENT
BEGIN:VEVENT
DTSTART;TZID=America/Los_Angeles:20250409T170000
DTEND;TZID=America/Los_Angeles:20250409T190000
DTSTAMP:20260420T153642
CREATED:20250403T002712Z
LAST-MODIFIED:20250403T003832Z
UID:20043-1744218000-1744225200@www.hhwnc.org
SUMMARY:Parks + Areas 3\, 4\, 5\, 6\, and 7 Joint Committees Meeting
DESCRIPTION:Please join us for a Parks and Areas 3\, 4\, 5\, 6\, and 7 Joint Committees Meeting on Wednesday April 9\, beginning at 5:00 PM.  \nTopics planning to be discussed will be \n\nRunyon Canyon post fire and upgrades\nWattles Park fencing\nDorothy and Benjamin Smith Park update\nNeeds for the community via the City of LA Parks Needs Assessment survey.\n\nTo see and or download the full agenda and attachment\, please visit HERE. \nThe meeting will be held virtually over Zoom. \nZoom Meeting Link: https://us02web.zoom.us/j/85164802904 \nMeeting ID: 851 6480 2904 \nPhone Dial in: +1 (669) 444-9171 \nCode: 851 6480 2904 \nHope to see you there!
URL:https://www.hhwnc.org/event/parks-areas-3-4-5-6-and-7-joint-committees-meeting/
LOCATION:https://us02web.zoom.us/j/85164802904
CATEGORIES:HHWNC Meetings
END:VEVENT
END:VCALENDAR