BEGIN:VCALENDAR
VERSION:2.0
PRODID:-//Hollywood Hills West - ECPv6.15.20//NONSGML v1.0//EN
CALSCALE:GREGORIAN
METHOD:PUBLISH
X-ORIGINAL-URL:https://www.hhwnc.org
X-WR-CALDESC:Events for Hollywood Hills West
REFRESH-INTERVAL;VALUE=DURATION:PT1H
X-Robots-Tag:noindex
X-PUBLISHED-TTL:PT1H
BEGIN:VTIMEZONE
TZID:UTC
BEGIN:STANDARD
TZOFFSETFROM:+0000
TZOFFSETTO:+0000
TZNAME:UTC
DTSTART:20150101T000000
END:STANDARD
END:VTIMEZONE
BEGIN:VEVENT
DTSTART;TZID=UTC:20170516T180000
DTEND;TZID=UTC:20170516T200000
DTSTAMP:20260421T163945
CREATED:20170513T030319Z
LAST-MODIFIED:20170513T030319Z
UID:13286-1494957600-1494964800@www.hhwnc.org
SUMMARY:Area 3 Committee Meeting
DESCRIPTION:Tuesday\, May 16 at 6:00 PM the Area 3 committee of the Hollywood Hills West Neighborhood Council will convene at the Las Palmas Senior Citizens Center. On the agenda will be: \n\nWhitley Heights Civic Association’s proposal to install lighting in the “picnic groves” eastern adjacent to Hollywood Bowl Parking Lot D\n1905 Grace Avenue ꟷ AA-20167-0829-PMLA\, the recent historic addition to city historic sites\, has applied to build three more homes on a small lot subdivision.\n6650 Franklin Avenue ꟷ ENV-2017-1504-EAF\, yhe owners of the Montecito are looking to build additional housing to this historic building.\n\nFor a full agenda\, please visit this link.
URL:https://www.hhwnc.org/event/area-3-committee-meeting-5/
LOCATION:Las Palmas Senior Citizen Center\, 1820 N Las Palmas Ave\, Los Angeles\, CA\, 90028\, United States
CATEGORIES:HHWNC Meetings
GEO:34.1048514;-118.3359243
X-APPLE-STRUCTURED-LOCATION;VALUE=URI;X-ADDRESS=Las Palmas Senior Citizen Center 1820 N Las Palmas Ave Los Angeles CA 90028 United States;X-APPLE-RADIUS=500;X-TITLE=1820 N Las Palmas Ave:geo:-118.3359243,34.1048514
END:VEVENT
BEGIN:VEVENT
DTSTART;TZID=UTC:20170418T180000
DTEND;TZID=UTC:20170418T210000
DTSTAMP:20260421T163945
CREATED:20170404T084039Z
LAST-MODIFIED:20170414T003824Z
UID:13128-1492538400-1492549200@www.hhwnc.org
SUMMARY:Area 3 / Area 4 / Transportation Committee Meeting
DESCRIPTION:For a downloadable PDF of the agenda below\, visit here. \nI.     Call to order and welcome. \nII.    Approval of March 14\, 2016 minutes \nIII.   Area 3 Planning and Land Use \n6615 -6619 Hollywood Boulevard – The Dudes Brewing Company \nThe Dudes Brewing Company is a Torrance based brewery as well as restaurant operator. \nThe Dudes Brewing Company has applied to the City’s Planning Department for a conditional use permit\, as well as a zoning variance\, to open a restaurant as a tasting room in conjunction with a 7.850 square foot restaurant at this site. The proposal is sell beer and wine for on-site consumption\, and beer for off-site consumption. There would be 124 interior seats and 95 exterior seats on a second floor rooftop patio. There would be an additional 18 seats on a 395 square foot outdoor dining area. The proposed hours of operation would be 8 a.m. daily to 12:30 a.m. daily. The proposed hours for alcohol sales would be from 11 a.m. to midnight daily. \nThe requested variance is to ask the City’s Planning Department for permission to install a bowling alley. \nIV.   Area 3 / Area 3 Transportation issues \nTopics to be discussed include traffic\, parking\, Uber/Lyft/Waze\, public transportation\, biking\, pedestrian issues and any other topics affecting Area 3 and Area 4. \nV.    Old Business; New Business \nVI.   Public Comments: comments from the public on agenda items and non-agenda items within the Committee’s subject matter jurisdiction. \nVII.  Decision on next meeting date(s) \nVIII. Adjournment \n  \nThe quorum for the Hollywood Hills West Neighborhood Council committees is five (5). The public is requested to fill out a “Speaker Card” to address the Committee(s) on any item of the agenda prior to the Board taking action on an item. Public comments on agenda items will be heard when the item is considered. Comments from the public on non-agenda and agenda items are heard during the Public Comment Period and\, within the discretion of the presiding officer of the Committee(s)\, when the respective item is being considered. Comments from the public on other matters not appearing on the Agenda that is within the Committee’s subject matter jurisdiction will be heard during the Public Comment period. Public comment is limited to 2 minutes per speaker unless waived by the presiding officer of the Committee(s). Agenda is posted for public review: on bulletin boards at: the Las Palmas Senior Center\, 1820 Las Palmas Ave. Los Angeles\, 90028; the Yucca Community Center\, 6671 Yucca St.\, Hollywood\, CA 90028\, and electronically on the Hollywood Hills West Neighborhood Council website www.hhwnc.org and on the Department Of Neighborhood Empowerment (www.lacityneighborhoods.com) or at the scheduled meeting. In addition\, if you would like a copy of any record related to an item on the agenda\, please contact Kathy Banuelos at Secretary@HHWNC.org. As a covered entity under Title II of the Americans with Disabilities Act\, the City of Los Angeles does not discriminate on the basis of disability and upon request\, will provide reasonable accommodation to ensure equal access to its programs\, services\, and activities. Sign language interpreters\, assistive listening devices\, or other auxiliary aids and/or services may be provided upon request. To ensure availability of services\, please make your request at least three (3) business days (72 hours) prior to the meeting you wish to attend by contacting the Neighborhood Council Project Coordinator at 213-485-1360 or e-mail to lorenzo.briceno@lacity.org.
URL:https://www.hhwnc.org/event/area-3-area-3-transportation-committee-meeting/
LOCATION:Hollywood United Methodist Church\, 6817 Franklin Ave\, Los Angeles\, CA\, 90068\, United States
CATEGORIES:HHWNC Meetings
GEO:34.1043977;-118.3388481
X-APPLE-STRUCTURED-LOCATION;VALUE=URI;X-ADDRESS=Hollywood United Methodist Church 6817 Franklin Ave Los Angeles CA 90068 United States;X-APPLE-RADIUS=500;X-TITLE=6817 Franklin Ave:geo:-118.3388481,34.1043977
END:VEVENT
BEGIN:VEVENT
DTSTART;TZID=UTC:20170314T180000
DTEND;TZID=UTC:20170314T200000
DTSTAMP:20260421T163945
CREATED:20170305T144914Z
LAST-MODIFIED:20170314T073302Z
UID:12955-1489514400-1489521600@www.hhwnc.org
SUMMARY:Area 3 Committee Meeting
DESCRIPTION:For full agenda click here. \nConfirmed Agenda Items: \n\nZA-2011-2376-CUB; Jameson’s located at 6681 Hollywood Blvd is requesting an extension of CUB with modifications.\nCPC-2014-4901-DB & ENV 2014-4902-CE. 1749 North Las Palmas Avenue & 6710 West Yucca Street – Planning Dept. #s  The applicant\, has applied to the City’s Planning Department for permission to demolish an existing two-story\, 15-unit apartment building and the construction\, use and maintenance of a seven-story mixed-use development containing 70 residential units ꟷ 7 which will be Very Low Income Households ꟷ 3\,117 square feet of ground floor retail\, measuring 71 feet in height. The project is requesting it be exempt from CEQA\, reduce parking 20 39 residential stalls\, with 70 long term bicycle parking stalls\, and change the required 19 foot rearyard setback to 10 feet.
URL:https://www.hhwnc.org/event/area-3-committee-meeting-4/
LOCATION:Las Palmas Senior Citizen Center\, 1820 N Las Palmas Ave\, Los Angeles\, CA\, 90028\, United States
CATEGORIES:HHWNC Meetings
GEO:34.1048514;-118.3359243
X-APPLE-STRUCTURED-LOCATION;VALUE=URI;X-ADDRESS=Las Palmas Senior Citizen Center 1820 N Las Palmas Ave Los Angeles CA 90028 United States;X-APPLE-RADIUS=500;X-TITLE=1820 N Las Palmas Ave:geo:-118.3359243,34.1048514
END:VEVENT
BEGIN:VEVENT
DTSTART;TZID=UTC:20170207T180000
DTEND;TZID=UTC:20170207T200000
DTSTAMP:20260421T163945
CREATED:20170123T090431Z
LAST-MODIFIED:20170202T051757Z
UID:12763-1486490400-1486497600@www.hhwnc.org
SUMMARY:Area 3 Committee / Housing Committee Joint Meeting
DESCRIPTION:For the full agenda for this meeting\, please visit the Area 3 Committee Page. \nThree items are on the agenda – \n\n1749 Las Palmas Avenue & 6710 Yucca Street: The application is asking permission to demolish an existing two story building with 15 apartment units and build a 7-story mixed use building with 70 apartments and a 3\,117 square foot ground floor retail area. The height of the proposed building would be 71 feet.\n1719 Whitley Ave: The application is asking permission to demolish an existing complex of 40 apartment units and replace with a 156 room\, 10 story hotel\, providing 122 parking spaces and 16 bicycle parking spaces.\nDiscussion of possible monetary support for Yucca Community Center’s Spring Holiday event.\n\nItems will have a possible motion and vote.
URL:https://www.hhwnc.org/event/area-3-committee-meeting-3/
LOCATION:Las Palmas Senior Citizen Center\, 1820 N Las Palmas Ave\, Los Angeles\, CA\, 90028\, United States
CATEGORIES:HHWNC Meetings
GEO:34.1048514;-118.3359243
X-APPLE-STRUCTURED-LOCATION;VALUE=URI;X-ADDRESS=Las Palmas Senior Citizen Center 1820 N Las Palmas Ave Los Angeles CA 90028 United States;X-APPLE-RADIUS=500;X-TITLE=1820 N Las Palmas Ave:geo:-118.3359243,34.1048514
END:VEVENT
BEGIN:VEVENT
DTSTART;TZID=UTC:20161206T180000
DTEND;TZID=UTC:20161206T200000
DTSTAMP:20260421T163945
CREATED:20161201T003533Z
LAST-MODIFIED:20161201T031240Z
UID:12558-1481047200-1481054400@www.hhwnc.org
SUMMARY:Area 3 Committee Meeting
DESCRIPTION:For the full agenda for this meeting\, please visit the Area 3 Committee Page. \nThree items are on the agenda – \n\nWhiskey Hotel\, previously known as Dark-Red Hotel\, to be built at 1717 Wilcox will be presented. The applicant has applied to the City’s Planning Department for permission to demolish an existing structure and construct a 134 room hotel with a 2\,500 square foot ground floor restaurant\, a rooftop bar\, three rooftop terraces\, 104 parking spaces and 60\,693 square feet. Applicant has requested Planning department to change the zoning to accomplish for outdoor use. The floor to area ratio would be 2.94 to 1.  Side yards would be eliminated on North and South side of property.\nObtain Parking Permit District 64 signs for South of Franklin\, North of Hollywood\, West of Highland and East of Cahuenga will also be discussed.\nPossible monetary support for the Holiday Program at Yucca Community Center\n\nItems will have a possible motion and vote.
URL:https://www.hhwnc.org/event/area-3-committee-meeting-2/
LOCATION:Las Palmas Senior Citizen Center\, 1820 N Las Palmas Ave\, Los Angeles\, CA\, 90028\, United States
CATEGORIES:Community Events,HHWNC Meetings
GEO:34.1048514;-118.3359243
X-APPLE-STRUCTURED-LOCATION;VALUE=URI;X-ADDRESS=Las Palmas Senior Citizen Center 1820 N Las Palmas Ave Los Angeles CA 90028 United States;X-APPLE-RADIUS=500;X-TITLE=1820 N Las Palmas Ave:geo:-118.3359243,34.1048514
END:VEVENT
BEGIN:VEVENT
DTSTART;TZID=UTC:20161107T180000
DTEND;TZID=UTC:20161107T200000
DTSTAMP:20260421T163945
CREATED:20161025T031522Z
LAST-MODIFIED:20161101T114421Z
UID:12413-1478541600-1478548800@www.hhwnc.org
SUMMARY:Area 3 Committee Meeting
DESCRIPTION:For agenda\, please visit meeting page at http://www.hhwnc.org/area-3-committee-meeting/
URL:https://www.hhwnc.org/event/area-3-committee-meeting/
LOCATION:Yucca Community Center\, 6671 Yucca St.\, \, Hollywood\, CA\, 90028\, United States
CATEGORIES:Community Events,HHWNC Meetings
GEO:34.1033662;-118.3350424
X-APPLE-STRUCTURED-LOCATION;VALUE=URI;X-ADDRESS=Yucca Community Center 6671 Yucca St.  Hollywood CA 90028 United States;X-APPLE-RADIUS=500;X-TITLE=6671 Yucca St.\,:geo:-118.3350424,34.1033662
END:VEVENT
END:VCALENDAR