BEGIN:VCALENDAR
VERSION:2.0
PRODID:-//Hollywood Hills West - ECPv6.15.20//NONSGML v1.0//EN
CALSCALE:GREGORIAN
METHOD:PUBLISH
X-ORIGINAL-URL:https://www.hhwnc.org
X-WR-CALDESC:Events for Hollywood Hills West
REFRESH-INTERVAL;VALUE=DURATION:PT1H
X-Robots-Tag:noindex
X-PUBLISHED-TTL:PT1H
BEGIN:VTIMEZONE
TZID:America/Los_Angeles
BEGIN:DAYLIGHT
TZOFFSETFROM:-0800
TZOFFSETTO:-0700
TZNAME:PDT
DTSTART:20180311T100000
END:DAYLIGHT
BEGIN:STANDARD
TZOFFSETFROM:-0700
TZOFFSETTO:-0800
TZNAME:PST
DTSTART:20181104T090000
END:STANDARD
BEGIN:DAYLIGHT
TZOFFSETFROM:-0800
TZOFFSETTO:-0700
TZNAME:PDT
DTSTART:20190310T100000
END:DAYLIGHT
BEGIN:STANDARD
TZOFFSETFROM:-0700
TZOFFSETTO:-0800
TZNAME:PST
DTSTART:20191103T090000
END:STANDARD
BEGIN:DAYLIGHT
TZOFFSETFROM:-0800
TZOFFSETTO:-0700
TZNAME:PDT
DTSTART:20200308T100000
END:DAYLIGHT
BEGIN:STANDARD
TZOFFSETFROM:-0700
TZOFFSETTO:-0800
TZNAME:PST
DTSTART:20201101T090000
END:STANDARD
BEGIN:DAYLIGHT
TZOFFSETFROM:-0800
TZOFFSETTO:-0700
TZNAME:PDT
DTSTART:20210314T100000
END:DAYLIGHT
BEGIN:STANDARD
TZOFFSETFROM:-0700
TZOFFSETTO:-0800
TZNAME:PST
DTSTART:20211107T090000
END:STANDARD
END:VTIMEZONE
BEGIN:VEVENT
DTSTART;TZID=America/Los_Angeles:20201013T180000
DTEND;TZID=America/Los_Angeles:20201013T210000
DTSTAMP:20260420T075754
CREATED:20201003T193754Z
LAST-MODIFIED:20201003T193754Z
UID:16752-1602612000-1602622800@www.hhwnc.org
SUMMARY:Area 2\, 10/13/2020; Community Discussion on Two Proposed Developments within Cahuenga Pass
DESCRIPTION:Dear Cahuenga Pass Residents\,\n\nHHWNC will host a virtual community meeting on Tuesday\, Oct 13th to discuss two proposed developments in Area 2;\n\n\n3593 Multiview Drive. Plans and renderings* can be viewed HERE.\n2901 – 2905 Oak Point Drive. Plans and renderings* can be viewed HERE.\n\n*Please note that more files might be added to this link as and when made available by\nowner(s)/ developer(s).\n\nTo join the meeting Tuesday\, please log on via Zoom (instructions below)\, or dial-in through your telephone to listen\, share your thoughts on the development\, and participate in the discussions with the neighbors as well as the owners/ developers of each property.\n\nZoom Meeting Link: https://zoom.us/j/96961734873\nWebinar ID: 969 6173 4873\nTelephone Dial in: +1-669-900-6833 Enter Code 96961734873#\n\nFor a full agenda of the meeting\, click HERE.\n\nLooking forward to seeing everyone!
URL:https://www.hhwnc.org/event/area-2-10-13-2020-community-discussion-on-two-proposed-developments-within-cahuenga-pass/
LOCATION:ZOOM Digital Meeting
CATEGORIES:HHWNC Meetings
ORGANIZER;CN="Chandan St Clare":MAILTO:area2chair@hhwnc.org
END:VEVENT
BEGIN:VEVENT
DTSTART;TZID=America/Los_Angeles:20200304T180000
DTEND;TZID=America/Los_Angeles:20200304T210000
DTSTAMP:20260420T075754
CREATED:20200228T181011Z
LAST-MODIFIED:20200301T033127Z
UID:16069-1583344800-1583355600@www.hhwnc.org
SUMMARY:Area 2 Meeting on 03/04/20
DESCRIPTION:The next Area 2 committee meeting will be held on Wed\, March 4th at 6pm at the Nissan Dealership Conference Room Level 2 on Cahuenga Blvd. \nWe will hear a presentation by Theatre West regarding a request for funding for a community program this summer; and from the project management team for the development at 3902-3910 N. Kentucky & 3900 N. Fredonia. \nThis meeting is being held for the benefit of the residents in the surrounding area who might be affected by the development\, and/or anyone who has concerns about the project. The owner\, architect\, and planning consultant will be on hand to respond to your questions. \nThe Area 2 committee consists of HHWNC’s Area 2 Chair and stakeholders within the Universal City and Cahuenga Pass boundaries. \nClick here for the meeting agenda. The conference room will be open at 5.45pm and dinner sandwiches from Porto’s will be provided. The meeting will commence promptly at 6pm. \nI hope to see you all there! \nChandan St Clare\nArea 2 Chair – Universal City & Cahuenga Pass
URL:https://www.hhwnc.org/event/area-2-meeting-on-03-04-20/
LOCATION:Universal Nissan\, 3550 Cahuenga Blvd W.\, Los Angeles\, CA\, 90068
CATEGORIES:HHWNC Meetings
ORGANIZER;CN="Chandan St Clare":MAILTO:area2chair@hhwnc.org
GEO:34.1337364;-118.3568208
X-APPLE-STRUCTURED-LOCATION;VALUE=URI;X-ADDRESS=Universal Nissan 3550 Cahuenga Blvd W. Los Angeles CA 90068;X-APPLE-RADIUS=500;X-TITLE=3550 Cahuenga Blvd W.:geo:-118.3568208,34.1337364
END:VEVENT
BEGIN:VEVENT
DTSTART;TZID=America/Los_Angeles:20191028T180000
DTEND;TZID=America/Los_Angeles:20191028T190000
DTSTAMP:20260420T075754
CREATED:20191023T195312Z
LAST-MODIFIED:20191023T195312Z
UID:15836-1572285600-1572289200@www.hhwnc.org
SUMMARY:Area 2 Committee - 10.28.19 - SE Valley Community Plan
DESCRIPTION:Have you wondered how our community in Cahuenga Pass will evolve over the next 20 years? What are some of the issues you face today and would like to see addressed as our community evolves? Come have your say on Monday\, Oct 28th at 6:00 PM when we will sit with Miles Orr and his team from the city’s planning division to discuss our concerns and hear the updates to the Southeast Valley Community Plan for our area. \nWe need to understand what the plan has in store for us in the Cahuenga Pass area and need to make sure City Planning is aware of our specific neighborhood concerns. This will be a great chance for us to be able to ask questions and discuss the possible upcoming changes with them in a smaller setting. Please let me know if you plan to come. Food will be provided. \nIf you have a planning concern but cannot attend the meeting\, please feel free to email your question to me this weekend and I will bring it up at the meeting on your behalf. \nThis is an important meeting\, so I hope you will be there as this Southeast Valley Community Plan will govern what happens in our area for decades to come!\nFOR MORE INFO: \nhttps://planning.lacity.org/plans-policies/community-plan-update/southeast-valley-community-plan-update \nFor the full agenda\, click here: Agenda Area 2 10/28/19
URL:https://www.hhwnc.org/event/area-2-committee-10-28-19-se-valley-community-plan/
CATEGORIES:HHWNC Meetings
ORGANIZER;CN="Chandan St Clare":MAILTO:area2chair@hhwnc.org
END:VEVENT
END:VCALENDAR