BEGIN:VCALENDAR
VERSION:2.0
PRODID:-//Hollywood Hills West - ECPv6.15.20//NONSGML v1.0//EN
CALSCALE:GREGORIAN
METHOD:PUBLISH
X-ORIGINAL-URL:https://www.hhwnc.org
X-WR-CALDESC:Events for Hollywood Hills West
REFRESH-INTERVAL;VALUE=DURATION:PT1H
X-Robots-Tag:noindex
X-PUBLISHED-TTL:PT1H
BEGIN:VTIMEZONE
TZID:America/Los_Angeles
BEGIN:DAYLIGHT
TZOFFSETFROM:-0800
TZOFFSETTO:-0700
TZNAME:PDT
DTSTART:20240310T100000
END:DAYLIGHT
BEGIN:STANDARD
TZOFFSETFROM:-0700
TZOFFSETTO:-0800
TZNAME:PST
DTSTART:20241103T090000
END:STANDARD
BEGIN:DAYLIGHT
TZOFFSETFROM:-0800
TZOFFSETTO:-0700
TZNAME:PDT
DTSTART:20250309T100000
END:DAYLIGHT
BEGIN:STANDARD
TZOFFSETFROM:-0700
TZOFFSETTO:-0800
TZNAME:PST
DTSTART:20251102T090000
END:STANDARD
BEGIN:DAYLIGHT
TZOFFSETFROM:-0800
TZOFFSETTO:-0700
TZNAME:PDT
DTSTART:20260308T100000
END:DAYLIGHT
BEGIN:STANDARD
TZOFFSETFROM:-0700
TZOFFSETTO:-0800
TZNAME:PST
DTSTART:20261101T090000
END:STANDARD
END:VTIMEZONE
BEGIN:VEVENT
DTSTART;TZID=America/Los_Angeles:20250607T100000
DTEND;TZID=America/Los_Angeles:20250607T140000
DTSTAMP:20260422T151215
CREATED:20250408T193614Z
LAST-MODIFIED:20250408T194400Z
UID:20056-1749290400-1749304800@www.hhwnc.org
SUMMARY:Wildﬁre Preparedness Fair - Saturday\, June 7th\, 10am-2pm
DESCRIPTION:Sponsored by: Hollywood Hills Fire Safe Council & CD 4 HHWNC\, HUNC \nWildfirePreparedessFair-June7-2025
URL:https://www.hhwnc.org/event/wild%ef%ac%81re-preparedness-fair-2025/
LOCATION:Lake Hollywood Park\, 3160 N. Canyon Drive\, Los Angeles\, CA\, 90027
CATEGORIES:Community Events
GEO:34.1266583;-118.3115358
X-APPLE-STRUCTURED-LOCATION;VALUE=URI;X-ADDRESS=Lake Hollywood Park 3160 N. Canyon Drive Los Angeles CA 90027;X-APPLE-RADIUS=500;X-TITLE=3160 N. Canyon Drive:geo:-118.3115358,34.1266583
END:VEVENT
END:VCALENDAR