BEGIN:VCALENDAR
VERSION:2.0
PRODID:-//Hollywood Hills West - ECPv6.15.20//NONSGML v1.0//EN
CALSCALE:GREGORIAN
METHOD:PUBLISH
X-WR-CALNAME:Hollywood Hills West
X-ORIGINAL-URL:https://www.hhwnc.org
X-WR-CALDESC:Events for Hollywood Hills West
REFRESH-INTERVAL;VALUE=DURATION:PT1H
X-Robots-Tag:noindex
X-PUBLISHED-TTL:PT1H
BEGIN:VTIMEZONE
TZID:America/Los_Angeles
BEGIN:DAYLIGHT
TZOFFSETFROM:-0800
TZOFFSETTO:-0700
TZNAME:PDT
DTSTART:20180311T100000
END:DAYLIGHT
BEGIN:STANDARD
TZOFFSETFROM:-0700
TZOFFSETTO:-0800
TZNAME:PST
DTSTART:20181104T090000
END:STANDARD
BEGIN:DAYLIGHT
TZOFFSETFROM:-0800
TZOFFSETTO:-0700
TZNAME:PDT
DTSTART:20190310T100000
END:DAYLIGHT
BEGIN:STANDARD
TZOFFSETFROM:-0700
TZOFFSETTO:-0800
TZNAME:PST
DTSTART:20191103T090000
END:STANDARD
BEGIN:DAYLIGHT
TZOFFSETFROM:-0800
TZOFFSETTO:-0700
TZNAME:PDT
DTSTART:20200308T100000
END:DAYLIGHT
BEGIN:STANDARD
TZOFFSETFROM:-0700
TZOFFSETTO:-0800
TZNAME:PST
DTSTART:20201101T090000
END:STANDARD
BEGIN:DAYLIGHT
TZOFFSETFROM:-0800
TZOFFSETTO:-0700
TZNAME:PDT
DTSTART:20210314T100000
END:DAYLIGHT
BEGIN:STANDARD
TZOFFSETFROM:-0700
TZOFFSETTO:-0800
TZNAME:PST
DTSTART:20211107T090000
END:STANDARD
BEGIN:DAYLIGHT
TZOFFSETFROM:-0800
TZOFFSETTO:-0700
TZNAME:PDT
DTSTART:20220313T100000
END:DAYLIGHT
BEGIN:STANDARD
TZOFFSETFROM:-0700
TZOFFSETTO:-0800
TZNAME:PST
DTSTART:20221106T090000
END:STANDARD
BEGIN:DAYLIGHT
TZOFFSETFROM:-0800
TZOFFSETTO:-0700
TZNAME:PDT
DTSTART:20230312T100000
END:DAYLIGHT
BEGIN:STANDARD
TZOFFSETFROM:-0700
TZOFFSETTO:-0800
TZNAME:PST
DTSTART:20231105T090000
END:STANDARD
BEGIN:DAYLIGHT
TZOFFSETFROM:-0800
TZOFFSETTO:-0700
TZNAME:PDT
DTSTART:20240310T100000
END:DAYLIGHT
BEGIN:STANDARD
TZOFFSETFROM:-0700
TZOFFSETTO:-0800
TZNAME:PST
DTSTART:20241103T090000
END:STANDARD
END:VTIMEZONE
BEGIN:VEVENT
DTSTART;TZID=America/Los_Angeles:20230513T100000
DTEND;TZID=America/Los_Angeles:20230513T160000
DTSTAMP:20260423T200707
CREATED:20230510T194143Z
LAST-MODIFIED:20230510T194242Z
UID:18849-1683972000-1683993600@www.hhwnc.org
SUMMARY:LAFD 'Fire Service Day' Citywide Open Firehouse Event - Sat 5/13 10am-4pm
DESCRIPTION:The Los Angeles CITY Fire Department will be hosting Fire Service Day. This is a day where ALL Fire Stations across the city OPEN their doors and welcome the public in to take a look at the stations\, apparatus\, and even the crews. Additionally\, several stations around the city will have additional FAMILY FRIENDLY ENTERTAINMENT and FOOD for those attending. \nThe second Saturday of each May is designated “Fire Service Day” in the City of Los Angeles\, when we plan for your visit to a neighborhood Fire Station\, because we are your Los Angeles Fire Department and we place great value on our community relationships.  We hope you will come spend part of your day with us and learn about the services we offer\, interact with firefighters\, increase your fire safety knowledge\, and enjoy some FREE family fun. \nAll Neighborhood Fire Stations will be open for tours. \nPlease see the link below for individual station events: \nhttps://www.lafd.org/news/join-us-may-13-2023-lafd-fire-service-day-citywide-open-firehouse-event
URL:https://www.hhwnc.org/event/lafd-fire-service-day-5-13/
LOCATION:LAFD Museum and Memorial\, 1355 N Cahuenga\, Los Angeles\, United States
CATEGORIES:Community Events
ATTACH;FMTTYPE=image/jpeg:https://www.hhwnc.org/wp-content/uploads/2023/05/FSD.jpg
END:VEVENT
BEGIN:VEVENT
DTSTART;TZID=America/Los_Angeles:20220514T100000
DTEND;TZID=America/Los_Angeles:20220514T140000
DTSTAMP:20260423T200707
CREATED:20220511T223039Z
LAST-MODIFIED:20220511T223039Z
UID:18243-1652522400-1652536800@www.hhwnc.org
SUMMARY:Los Angeles City Fire Service Day
DESCRIPTION:Once a Year LAFD Fire Service Day – Come see the station \nSTATION 27\n1327 North Cole Avenue\nLos Angeles\, CA 90028 \nAfter 2 years with the door closed to the public\, your Neighborhood Fire Station will celebrate Fire Service Day. \nSaturday May 14th from 10am-2pm\, LAFD will host special events at the following fire stations – each station will have different free events\, demos – cars being cut up\, ladder exercises\, rides on fire engines and trucks\, presentations\, free food\, family friendly entertainment. \nYour LAFD Community Emergency Response Team will have an outreach booth at each of the above locations. \nWe’d love to have you drop by and say hello. FS 27 – Battalion 5 – Jackie Kozak\, Bob Adjemian\, Ben Golfarb – lafdcertbatt5@gmail.com \n10am to 2pm
URL:https://www.hhwnc.org/event/los-angeles-city-fire-service-day/
LOCATION:LAFD – Cole Station\, 1327 North Cole Avenue\, Los Angeles\, 90028\, United States
CATEGORIES:Community Events
ATTACH;FMTTYPE=image/jpeg:https://www.hhwnc.org/wp-content/uploads/2022/05/LAFD.jpg
END:VEVENT
BEGIN:VEVENT
DTSTART;TZID=America/Los_Angeles:20220503T180000
DTEND;TZID=America/Los_Angeles:20220503T203000
DTSTAMP:20260423T200707
CREATED:20220407T005247Z
LAST-MODIFIED:20220426T223422Z
UID:18150-1651600800-1651609800@www.hhwnc.org
SUMMARY:LAFD CERT Training - North Hollywood - May 3rd to Jun 14th
DESCRIPTION:Date and time – Seven Classes\nTue\, May 3\, 2022\, –Tue\, Jun 14\, 2022:  6:00 PM – 8:30 PM PDT\nSign Up at Eventbrite:\nhttps://www.eventbrite.com/e/lafd-cert-north-hollywood-tickets-315710226787?utm_source=eventbrite&utm_medium=email&utm_content=follow_notification&utm_campaign=following_published_event&utm_term=LAFD+CERT+-NORTH+HOLLYWOOD&aff=ebemoffollowpublishemail \n\nLocation – LAFD STATION 89\n7063 Laurel Canyon Blvd\nCommunity RoomNorth\nHollywood\, CA 91605\n\n\nINSTRUCTOR:  FIREFIGHTERS TED DEBS\, JEFF VAN GORDER\, RANDALL OPPERMAN 213-202-3136\n6:00 PM – 8:30 PM\nClass 1 –  MAY 3       (Introduction\, Disaster Awareness)\nClass 2 –  MAY 10     (ICS and Disaster Psychology)\nClass 3 –  MAY 17     (Disaster Medical Operations 1)\nClass 4 –  MAY 24     (Disaster Medical Operations 2)\nClass 5 –  MAY 31     (Fire Suppression and Hazardous Materials)\nClass 6 –  JUN 7    (Light Search and Rescue)\nClass 7 –  JUN 14      (Terrorism & CERT)
URL:https://www.hhwnc.org/event/lafd-cert-training-north-hollywood-may-3rd-to-jun-14th/2022-05-03/
LOCATION:LAFD STATION 89 – Community Room\, 7063 Laurel Canyon Blvd\, Hollywood\, CA\, 91605\, United States
CATEGORIES:Community Events
ATTACH;FMTTYPE=image/png:https://www.hhwnc.org/wp-content/uploads/2022/04/CERT-Scaled.png
END:VEVENT
BEGIN:VEVENT
DTSTART;TZID=America/Los_Angeles:20191016T183000
DTEND;TZID=America/Los_Angeles:20191016T203000
DTSTAMP:20260423T200707
CREATED:20191009T235529Z
LAST-MODIFIED:20191009T235529Z
UID:15762-1571250600-1571257800@www.hhwnc.org
SUMMARY:Hollywood Hills Evacuation Exercise Town Hall Meeting
DESCRIPTION:The Los Angeles Fire Department will be conducting a large scale evacuation in the Hollywood Hills on November 16\, 2019. Chief Hogan will lead the Town Hall tomorrow night and explain how the evacuation exercise will be conducted and provide detailed information on how residents should prepare for real fire events. We are now in fire season and this town hall and evacuation exercise are critical opportunities to prepare yourself.
URL:https://www.hhwnc.org/event/hollywood-hills-evacuation-exercise-town-hall-meeting/
LOCATION:friendship auditorium\, 3201 Riverside Dr.\, Los Angeles\, CA\, 90027
CATEGORIES:Community Events
ATTACH;FMTTYPE=image/png:https://www.hhwnc.org/wp-content/uploads/2019/10/Evac-Drill-Town-Hall.png
END:VEVENT
END:VCALENDAR