BEGIN:VCALENDAR
VERSION:2.0
PRODID:-//Hollywood Hills West - ECPv6.15.20//NONSGML v1.0//EN
CALSCALE:GREGORIAN
METHOD:PUBLISH
X-WR-CALNAME:Hollywood Hills West
X-ORIGINAL-URL:https://www.hhwnc.org
X-WR-CALDESC:Events for Hollywood Hills West
REFRESH-INTERVAL;VALUE=DURATION:PT1H
X-Robots-Tag:noindex
X-PUBLISHED-TTL:PT1H
BEGIN:VTIMEZONE
TZID:America/Los_Angeles
BEGIN:DAYLIGHT
TZOFFSETFROM:-0800
TZOFFSETTO:-0700
TZNAME:PDT
DTSTART:20180311T100000
END:DAYLIGHT
BEGIN:STANDARD
TZOFFSETFROM:-0700
TZOFFSETTO:-0800
TZNAME:PST
DTSTART:20181104T090000
END:STANDARD
BEGIN:DAYLIGHT
TZOFFSETFROM:-0800
TZOFFSETTO:-0700
TZNAME:PDT
DTSTART:20190310T100000
END:DAYLIGHT
BEGIN:STANDARD
TZOFFSETFROM:-0700
TZOFFSETTO:-0800
TZNAME:PST
DTSTART:20191103T090000
END:STANDARD
BEGIN:DAYLIGHT
TZOFFSETFROM:-0800
TZOFFSETTO:-0700
TZNAME:PDT
DTSTART:20200308T100000
END:DAYLIGHT
BEGIN:STANDARD
TZOFFSETFROM:-0700
TZOFFSETTO:-0800
TZNAME:PST
DTSTART:20201101T090000
END:STANDARD
END:VTIMEZONE
BEGIN:VTIMEZONE
TZID:UTC
BEGIN:STANDARD
TZOFFSETFROM:+0000
TZOFFSETTO:+0000
TZNAME:UTC
DTSTART:20150101T000000
END:STANDARD
END:VTIMEZONE
BEGIN:VEVENT
DTSTART;TZID=America/Los_Angeles:20191008T183000
DTEND;TZID=America/Los_Angeles:20191008T203000
DTSTAMP:20260423T090321
CREATED:20190919T204948Z
LAST-MODIFIED:20190919T205120Z
UID:15681-1570559400-1570566600@www.hhwnc.org
SUMMARY:Evacuation Town Hall
DESCRIPTION:Hollywood Hills Exercise Town Hall
URL:https://www.hhwnc.org/event/evacutaion-town-hall/
LOCATION:American Legion Hollywood Post\, 2035 N Highland Avenue\, Hollywood\, CA\, 90068\, United States
CATEGORIES:Community Events
GEO:34.1076369;-118.3374134
X-APPLE-STRUCTURED-LOCATION;VALUE=URI;X-ADDRESS=American Legion Hollywood Post 2035 N Highland Avenue Hollywood CA 90068 United States;X-APPLE-RADIUS=500;X-TITLE=2035 N Highland Avenue:geo:-118.3374134,34.1076369
END:VEVENT
BEGIN:VEVENT
DTSTART;TZID=America/Los_Angeles:20190511T183000
DTEND;TZID=America/Los_Angeles:20190511T210000
DTSTAMP:20260423T090321
CREATED:20190423T050630Z
LAST-MODIFIED:20190423T050630Z
UID:15265-1557599400-1557608400@www.hhwnc.org
SUMMARY:Peter Jackson's THEY SHALL NOT GROW OLD (Free Screening)
DESCRIPTION:
URL:https://www.hhwnc.org/event/peter-jacksons-they-shall-not-grow-old-free-screening/
LOCATION:American Legion Hollywood Post\, 2035 N Highland Avenue\, Hollywood\, CA\, 90068\, United States
CATEGORIES:Community Events
GEO:34.1076369;-118.3374134
X-APPLE-STRUCTURED-LOCATION;VALUE=URI;X-ADDRESS=American Legion Hollywood Post 2035 N Highland Avenue Hollywood CA 90068 United States;X-APPLE-RADIUS=500;X-TITLE=2035 N Highland Avenue:geo:-118.3374134,34.1076369
END:VEVENT
BEGIN:VEVENT
DTSTART;TZID=America/Los_Angeles:20190417T180000
DTEND;TZID=America/Los_Angeles:20190417T200000
DTSTAMP:20260423T090321
CREATED:20190329T214250Z
LAST-MODIFIED:20190417T000437Z
UID:15182-1555524000-1555531200@www.hhwnc.org
SUMMARY:HHWNC Special Meeting April 2019 (Location Change)
DESCRIPTION:
URL:https://www.hhwnc.org/event/hhwnc-board-meeting-april-2019/
LOCATION:American Legion Hollywood Post\, 2035 N Highland Avenue\, Hollywood\, CA\, 90068\, United States
CATEGORIES:HHWNC Meetings
GEO:34.1076369;-118.3374134
X-APPLE-STRUCTURED-LOCATION;VALUE=URI;X-ADDRESS=American Legion Hollywood Post 2035 N Highland Avenue Hollywood CA 90068 United States;X-APPLE-RADIUS=500;X-TITLE=2035 N Highland Avenue:geo:-118.3374134,34.1076369
END:VEVENT
BEGIN:VEVENT
DTSTART;TZID=America/Los_Angeles:20190316T110000
DTEND;TZID=America/Los_Angeles:20190316T150000
DTSTAMP:20260423T090321
CREATED:20190211T195625Z
LAST-MODIFIED:20190211T200008Z
UID:15092-1552734000-1552748400@www.hhwnc.org
SUMMARY:Public Safety Event - Fire\, Earthquake and Evacuation Sat\,  March 16th
DESCRIPTION:The best defense is a good offense. This event will help you prepare for Fire\, Earthquake & Evacuation emergencies in the Hollywood Hills. 11 am to 3 pm – American Legion Hall\, Highland Ave. Free Parking. Food & Beverages provided.
URL:https://www.hhwnc.org/event/public-safety-event-fire-earthquake-evacuation-sat-march-16th/
LOCATION:American Legion Hollywood Post\, 2035 N Highland Avenue\, Hollywood\, CA\, 90068\, United States
CATEGORIES:Community Events
GEO:34.1076369;-118.3374134
X-APPLE-STRUCTURED-LOCATION;VALUE=URI;X-ADDRESS=American Legion Hollywood Post 2035 N Highland Avenue Hollywood CA 90068 United States;X-APPLE-RADIUS=500;X-TITLE=2035 N Highland Avenue:geo:-118.3374134,34.1076369
END:VEVENT
BEGIN:VEVENT
DTSTART;TZID=UTC:20161116T173000
DTEND;TZID=UTC:20161116T203000
DTSTAMP:20260423T090321
CREATED:20160323T100331Z
LAST-MODIFIED:20161116T073822Z
UID:7546-1479317400-1479328200@www.hhwnc.org
SUMMARY:Mini Tour Bus Town Hall Discussion at the American Legion Hollywood Post
DESCRIPTION:  \nMini Tour Bus Trauma!  Town Hall Discussion \n5:30-6:30 pm – Reception:  Food and Soft Drinks will be provided.   The venue provides a no-host bar for those interested. \n6:30-8:30 pm – Town Hall Discussion \nCome\, comment\, question! \nLocation:  American Legion Hollywood Post\, 2035 N. Highland Ave\, Hollywood CA 90068 \nFREE PARKING – Enter north of Franklin on the west side of Highland.  Adjacent to Belmont Village.  Additional parking at the Hollywood Bowl. \n(Note:  There will be a Jimmy Kimmel concert that night south of Hollywood Blvd.)
URL:https://www.hhwnc.org/event/board-meeting-2016-05-18-2016-11-16/
LOCATION:American Legion Hollywood Post\, 2035 N Highland Avenue\, Hollywood\, CA\, 90068\, United States
CATEGORIES:Community Events,HHWNC Meetings
GEO:34.1076369;-118.3374134
X-APPLE-STRUCTURED-LOCATION;VALUE=URI;X-ADDRESS=American Legion Hollywood Post 2035 N Highland Avenue Hollywood CA 90068 United States;X-APPLE-RADIUS=500;X-TITLE=2035 N Highland Avenue:geo:-118.3374134,34.1076369
END:VEVENT
END:VCALENDAR