BEGIN:VCALENDAR
VERSION:2.0
PRODID:-//Hollywood Hills West - ECPv6.15.20//NONSGML v1.0//EN
CALSCALE:GREGORIAN
METHOD:PUBLISH
X-ORIGINAL-URL:https://www.hhwnc.org
X-WR-CALDESC:Events for Hollywood Hills West
REFRESH-INTERVAL;VALUE=DURATION:PT1H
X-Robots-Tag:noindex
X-PUBLISHED-TTL:PT1H
BEGIN:VTIMEZONE
TZID:UTC
BEGIN:STANDARD
TZOFFSETFROM:+0000
TZOFFSETTO:+0000
TZNAME:UTC
DTSTART:20150101T000000
END:STANDARD
END:VTIMEZONE
BEGIN:VEVENT
DTSTART;TZID=UTC:20161019T190000
DTEND;TZID=UTC:20161019T200000
DTSTAMP:20260420T201302
CREATED:20160831T232106Z
LAST-MODIFIED:20160831T232416Z
UID:8190-1476903600-1476907200@www.hhwnc.org
SUMMARY:Renters Alliance Town Hall
DESCRIPTION:
URL:https://www.hhwnc.org/event/renters-alliance-town-hall/
LOCATION:First Presbyterian Church of Hollywood\, 1760 North Gower St.\, Hollywood\, CA\, 90028\, United States
CATEGORIES:Community Events
GEO:34.1033878;-118.3221956
X-APPLE-STRUCTURED-LOCATION;VALUE=URI;X-ADDRESS=First Presbyterian Church of Hollywood 1760 North Gower St. Hollywood CA 90028 United States;X-APPLE-RADIUS=500;X-TITLE=1760 North Gower St.:geo:-118.3221956,34.1033878
END:VEVENT
END:VCALENDAR