BEGIN:VCALENDAR
VERSION:2.0
PRODID:-//Hollywood Hills West - ECPv6.15.20//NONSGML v1.0//EN
CALSCALE:GREGORIAN
METHOD:PUBLISH
X-WR-CALNAME:Hollywood Hills West
X-ORIGINAL-URL:https://www.hhwnc.org
X-WR-CALDESC:Events for Hollywood Hills West
REFRESH-INTERVAL;VALUE=DURATION:PT1H
X-Robots-Tag:noindex
X-PUBLISHED-TTL:PT1H
BEGIN:VTIMEZONE
TZID:UTC
BEGIN:STANDARD
TZOFFSETFROM:+0000
TZOFFSETTO:+0000
TZNAME:UTC
DTSTART:20150101T000000
END:STANDARD
END:VTIMEZONE
BEGIN:VEVENT
DTSTART;TZID=UTC:20161015T100000
DTEND;TZID=UTC:20161015T113000
DTSTAMP:20260425T162218
CREATED:20161006T093957Z
LAST-MODIFIED:20161006T094527Z
UID:12355-1476525600-1476531000@www.hhwnc.org
SUMMARY:Area 6 Meeting
DESCRIPTION:
URL:https://www.hhwnc.org/event/area-6-meeting/
LOCATION:William & Ariel Durant Public Library\, 7140 W. Sunset Blvd\, Los Angeles\, 90046
CATEGORIES:HHWNC Meetings
GEO:34.0976549;-118.3455952
X-APPLE-STRUCTURED-LOCATION;VALUE=URI;X-ADDRESS=William & Ariel Durant Public Library 7140 W. Sunset Blvd Los Angeles 90046;X-APPLE-RADIUS=500;X-TITLE=7140 W. Sunset Blvd:geo:-118.3455952,34.0976549
END:VEVENT
BEGIN:VEVENT
DTSTART;TZID=UTC:20160720T180000
DTEND;TZID=UTC:20160720T200000
DTSTAMP:20260425T162218
CREATED:20160323T100331Z
LAST-MODIFIED:20160716T035057Z
UID:7543-1469037600-1469044800@www.hhwnc.org
SUMMARY:Board Meeting
DESCRIPTION:The Board meets regularly on the 3rd Wednesday of the month.
URL:https://www.hhwnc.org/event/board-meeting-2016-05-18-2016-07-20/
LOCATION:William & Ariel Durant Public Library\, 7140 W. Sunset Blvd\, Los Angeles\, 90046
CATEGORIES:HHWNC Meetings
GEO:34.0976549;-118.3455952
X-APPLE-STRUCTURED-LOCATION;VALUE=URI;X-ADDRESS=William & Ariel Durant Public Library 7140 W. Sunset Blvd Los Angeles 90046;X-APPLE-RADIUS=500;X-TITLE=7140 W. Sunset Blvd:geo:-118.3455952,34.0976549
END:VEVENT
BEGIN:VEVENT
DTSTART;TZID=UTC:20160623T180000
DTEND;TZID=UTC:20160623T200000
DTSTAMP:20260425T162218
CREATED:20160617T073052Z
LAST-MODIFIED:20160619T045833Z
UID:7547-1466704800-1466712000@www.hhwnc.org
SUMMARY:PLUM Committee Meeting
DESCRIPTION:View agenda
URL:https://www.hhwnc.org/event/plum-committee-meeting/
LOCATION:William & Ariel Durant Public Library\, 7140 W. Sunset Blvd\, Los Angeles\, 90046
CATEGORIES:HHWNC Meetings
GEO:34.0976549;-118.3455952
X-APPLE-STRUCTURED-LOCATION;VALUE=URI;X-ADDRESS=William & Ariel Durant Public Library 7140 W. Sunset Blvd Los Angeles 90046;X-APPLE-RADIUS=500;X-TITLE=7140 W. Sunset Blvd:geo:-118.3455952,34.0976549
END:VEVENT
BEGIN:VEVENT
DTSTART;TZID=UTC:20160615T180000
DTEND;TZID=UTC:20160615T200000
DTSTAMP:20260425T162218
CREATED:20160323T100331Z
LAST-MODIFIED:20160727T010632Z
UID:7542-1466013600-1466020800@www.hhwnc.org
SUMMARY:Board Meeting
DESCRIPTION:The Board meets regularly on the 3rd Wednesday of the month.
URL:https://www.hhwnc.org/event/board-meeting-2016-05-18-2016-06-15/
LOCATION:William & Ariel Durant Public Library\, 7140 W. Sunset Blvd\, Los Angeles\, 90046
CATEGORIES:HHWNC Meetings
GEO:34.0976549;-118.3455952
X-APPLE-STRUCTURED-LOCATION;VALUE=URI;X-ADDRESS=William & Ariel Durant Public Library 7140 W. Sunset Blvd Los Angeles 90046;X-APPLE-RADIUS=500;X-TITLE=7140 W. Sunset Blvd:geo:-118.3455952,34.0976549
END:VEVENT
BEGIN:VEVENT
DTSTART;TZID=UTC:20160609T180000
DTEND;TZID=UTC:20160609T200000
DTSTAMP:20260425T162218
CREATED:20160601T050813Z
LAST-MODIFIED:20160601T051337Z
UID:7407-1465495200-1465502400@www.hhwnc.org
SUMMARY:Area 9 Committee
DESCRIPTION:
URL:https://www.hhwnc.org/event/area-9-committee/
LOCATION:William & Ariel Durant Public Library\, 7140 W. Sunset Blvd\, Los Angeles\, 90046
CATEGORIES:HHWNC Meetings
GEO:34.0976549;-118.3455952
X-APPLE-STRUCTURED-LOCATION;VALUE=URI;X-ADDRESS=William & Ariel Durant Public Library 7140 W. Sunset Blvd Los Angeles 90046;X-APPLE-RADIUS=500;X-TITLE=7140 W. Sunset Blvd:geo:-118.3455952,34.0976549
END:VEVENT
BEGIN:VEVENT
DTSTART;TZID=UTC:20160608T180000
DTEND;TZID=UTC:20160608T200000
DTSTAMP:20260425T162218
CREATED:20160601T050133Z
LAST-MODIFIED:20160608T104450Z
UID:7400-1465408800-1465416000@www.hhwnc.org
SUMMARY:Planning & Land Use Management Committee
DESCRIPTION:
URL:https://www.hhwnc.org/event/planning-land-use-management-committee/
LOCATION:William & Ariel Durant Public Library\, 7140 W. Sunset Blvd\, Los Angeles\, 90046
CATEGORIES:HHWNC Meetings
GEO:34.0976549;-118.3455952
X-APPLE-STRUCTURED-LOCATION;VALUE=URI;X-ADDRESS=William & Ariel Durant Public Library 7140 W. Sunset Blvd Los Angeles 90046;X-APPLE-RADIUS=500;X-TITLE=7140 W. Sunset Blvd:geo:-118.3455952,34.0976549
END:VEVENT
BEGIN:VEVENT
DTSTART;TZID=UTC:20160606T180000
DTEND;TZID=UTC:20160606T200000
DTSTAMP:20260425T162218
CREATED:20160603T104210Z
LAST-MODIFIED:20160603T104210Z
UID:7445-1465236000-1465243200@www.hhwnc.org
SUMMARY:Area 7\, Housing and Business Joint Meeting
DESCRIPTION:
URL:https://www.hhwnc.org/event/area-7-housing-and-business-joint-meeting/
LOCATION:William & Ariel Durant Public Library\, 7140 W. Sunset Blvd\, Los Angeles\, 90046
CATEGORIES:HHWNC Meetings
GEO:34.0976549;-118.3455952
X-APPLE-STRUCTURED-LOCATION;VALUE=URI;X-ADDRESS=William & Ariel Durant Public Library 7140 W. Sunset Blvd Los Angeles 90046;X-APPLE-RADIUS=500;X-TITLE=7140 W. Sunset Blvd:geo:-118.3455952,34.0976549
END:VEVENT
BEGIN:VEVENT
DTSTART;TZID=UTC:20160525T060000
DTEND;TZID=UTC:20160525T200000
DTSTAMP:20260425T162218
CREATED:20160521T020508Z
LAST-MODIFIED:20160522T010801Z
UID:7277-1464156000-1464206400@www.hhwnc.org
SUMMARY:Area 7 Meeting
DESCRIPTION:Agenda
URL:https://www.hhwnc.org/event/area-7-meeting/
LOCATION:William & Ariel Durant Public Library\, 7140 W. Sunset Blvd\, Los Angeles\, 90046
CATEGORIES:HHWNC Meetings
GEO:34.0976549;-118.3455952
X-APPLE-STRUCTURED-LOCATION;VALUE=URI;X-ADDRESS=William & Ariel Durant Public Library 7140 W. Sunset Blvd Los Angeles 90046;X-APPLE-RADIUS=500;X-TITLE=7140 W. Sunset Blvd:geo:-118.3455952,34.0976549
END:VEVENT
BEGIN:VEVENT
DTSTART;TZID=UTC:20160518T180000
DTEND;TZID=UTC:20160518T200000
DTSTAMP:20260425T162218
CREATED:20160323T100331Z
LAST-MODIFIED:20160617T072103Z
UID:6121-1463594400-1463601600@www.hhwnc.org
SUMMARY:Board Meeting
DESCRIPTION:The Board meets regularly on the 3rd Wednesday of the month.
URL:https://www.hhwnc.org/event/board-meeting-2016-05-18/2016-05-18/
LOCATION:William & Ariel Durant Public Library\, 7140 W. Sunset Blvd\, Los Angeles\, 90046
CATEGORIES:HHWNC Meetings
GEO:34.0976549;-118.3455952
X-APPLE-STRUCTURED-LOCATION;VALUE=URI;X-ADDRESS=William & Ariel Durant Public Library 7140 W. Sunset Blvd Los Angeles 90046;X-APPLE-RADIUS=500;X-TITLE=7140 W. Sunset Blvd:geo:-118.3455952,34.0976549
END:VEVENT
BEGIN:VEVENT
DTSTART;TZID=UTC:20160511T170000
DTEND;TZID=UTC:20160511T180000
DTSTAMP:20260425T162218
CREATED:20160429T012201Z
LAST-MODIFIED:20160601T020459Z
UID:7113-1462986000-1462989600@www.hhwnc.org
SUMMARY:Housing Committee Meeting
DESCRIPTION:Meets the 2nd Tuesday of the month \nWe will discuss the homesharing ordinance. \nOfficial hearing notice
URL:https://www.hhwnc.org/event/housing-committee-meeting/
LOCATION:William & Ariel Durant Public Library\, 7140 W. Sunset Blvd\, Los Angeles\, 90046
CATEGORIES:HHWNC Meetings
GEO:34.0976549;-118.3455952
X-APPLE-STRUCTURED-LOCATION;VALUE=URI;X-ADDRESS=William & Ariel Durant Public Library 7140 W. Sunset Blvd Los Angeles 90046;X-APPLE-RADIUS=500;X-TITLE=7140 W. Sunset Blvd:geo:-118.3455952,34.0976549
END:VEVENT
BEGIN:VEVENT
DTSTART;TZID=UTC:20160420T173000
DTEND;TZID=UTC:20160420T200000
DTSTAMP:20260425T162218
CREATED:20160323T100331Z
LAST-MODIFIED:20160617T034727Z
UID:6113-1461173400-1461182400@www.hhwnc.org
SUMMARY:Board Meeting
DESCRIPTION:The Board meets regularly on the 3rd Wednesday of the month.
URL:https://www.hhwnc.org/event/board-meeting/
LOCATION:William & Ariel Durant Public Library\, 7140 W. Sunset Blvd\, Los Angeles\, 90046
CATEGORIES:HHWNC Meetings
GEO:34.0976549;-118.3455952
X-APPLE-STRUCTURED-LOCATION;VALUE=URI;X-ADDRESS=William & Ariel Durant Public Library 7140 W. Sunset Blvd Los Angeles 90046;X-APPLE-RADIUS=500;X-TITLE=7140 W. Sunset Blvd:geo:-118.3455952,34.0976549
END:VEVENT
BEGIN:VEVENT
DTSTART;TZID=UTC:20160413T180000
DTEND;TZID=UTC:20160413T200000
DTSTAMP:20260425T162218
CREATED:20160323T101150Z
LAST-MODIFIED:20160323T101150Z
UID:6128-1460570400-1460577600@www.hhwnc.org
SUMMARY:PLUM Meeting
DESCRIPTION:
URL:https://www.hhwnc.org/event/plum-meeting/
LOCATION:William & Ariel Durant Public Library\, 7140 W. Sunset Blvd\, Los Angeles\, 90046
CATEGORIES:HHWNC Meetings
GEO:34.0976549;-118.3455952
X-APPLE-STRUCTURED-LOCATION;VALUE=URI;X-ADDRESS=William & Ariel Durant Public Library 7140 W. Sunset Blvd Los Angeles 90046;X-APPLE-RADIUS=500;X-TITLE=7140 W. Sunset Blvd:geo:-118.3455952,34.0976549
END:VEVENT
BEGIN:VEVENT
DTSTART;TZID=UTC:20160319T190000
DTEND;TZID=UTC:20160319T200000
DTSTAMP:20260425T162218
CREATED:20160318T041445Z
LAST-MODIFIED:20160323T103319Z
UID:5757-1458414000-1458417600@www.hhwnc.org
SUMMARY:New Event
DESCRIPTION:Here are the details
URL:https://www.hhwnc.org/event/new-event/
LOCATION:William & Ariel Durant Public Library\, 7140 W. Sunset Blvd\, Los Angeles\, 90046
GEO:34.0976549;-118.3455952
X-APPLE-STRUCTURED-LOCATION;VALUE=URI;X-ADDRESS=William & Ariel Durant Public Library 7140 W. Sunset Blvd Los Angeles 90046;X-APPLE-RADIUS=500;X-TITLE=7140 W. Sunset Blvd:geo:-118.3455952,34.0976549
END:VEVENT
END:VCALENDAR