BEGIN:VCALENDAR
VERSION:2.0
PRODID:-//Hollywood Hills West - ECPv6.15.20//NONSGML v1.0//EN
CALSCALE:GREGORIAN
METHOD:PUBLISH
X-ORIGINAL-URL:https://www.hhwnc.org
X-WR-CALDESC:Events for Hollywood Hills West
REFRESH-INTERVAL;VALUE=DURATION:PT1H
X-Robots-Tag:noindex
X-PUBLISHED-TTL:PT1H
BEGIN:VTIMEZONE
TZID:America/Los_Angeles
BEGIN:DAYLIGHT
TZOFFSETFROM:-0800
TZOFFSETTO:-0700
TZNAME:PDT
DTSTART:20170312T100000
END:DAYLIGHT
BEGIN:STANDARD
TZOFFSETFROM:-0700
TZOFFSETTO:-0800
TZNAME:PST
DTSTART:20171105T090000
END:STANDARD
BEGIN:DAYLIGHT
TZOFFSETFROM:-0800
TZOFFSETTO:-0700
TZNAME:PDT
DTSTART:20180311T100000
END:DAYLIGHT
BEGIN:STANDARD
TZOFFSETFROM:-0700
TZOFFSETTO:-0800
TZNAME:PST
DTSTART:20181104T090000
END:STANDARD
BEGIN:DAYLIGHT
TZOFFSETFROM:-0800
TZOFFSETTO:-0700
TZNAME:PDT
DTSTART:20190310T100000
END:DAYLIGHT
BEGIN:STANDARD
TZOFFSETFROM:-0700
TZOFFSETTO:-0800
TZNAME:PST
DTSTART:20191103T090000
END:STANDARD
END:VTIMEZONE
BEGIN:VTIMEZONE
TZID:UTC
BEGIN:STANDARD
TZOFFSETFROM:+0000
TZOFFSETTO:+0000
TZNAME:UTC
DTSTART:20150101T000000
END:STANDARD
END:VTIMEZONE
BEGIN:VEVENT
DTSTART;TZID=America/Los_Angeles:20180627T093000
DTEND;TZID=America/Los_Angeles:20180627T103000
DTSTAMP:20260420T213417
CREATED:20180605T154745Z
LAST-MODIFIED:20180605T154745Z
UID:14229-1530091800-1530095400@www.hhwnc.org
SUMMARY:7500 Sunset Hearing
DESCRIPTION:The Planning Department has issued a notice of a public hearing to be held by a hearing officer with regard to Faring Captial’s pending application to build two mixed use buildings there with retail space on the ground floor and apartments on floors 2 through 5.  The hearing will occur on Wednesday\, June 27\, 2018 at 9:30 a.m. in LA City Hall’s Room 1020. \n7500 Sunset Boulevard – is a 1.64 acre site along Sunset Boulevard’s south side which is bounded by Curson Avenue to the west and N. Gardner Street to the east. The site is in HHWNC’s Area 7 and City Council District 4. \nThe hearing notice includes a request that people coming to the hearing should use the 201 N. Main Street entrance at City Hall. \nThe Planning Department’s staff contact is Sergio Ibarra\, who can be reached at (213) 847-3633 and sergio.ibarra@lacity.org.
URL:https://www.hhwnc.org/event/7500-sunset-hearing/
LOCATION:Los Angeles City Hall\, 200 N Spring Street\, Los Angeles\, CA\, 90012\, United States
CATEGORIES:Project Alerts
GEO:34.0537126;-118.2428145
X-APPLE-STRUCTURED-LOCATION;VALUE=URI;X-ADDRESS=Los Angeles City Hall 200 N Spring Street Los Angeles CA 90012 United States;X-APPLE-RADIUS=500;X-TITLE=200 N Spring Street:geo:-118.2428145,34.0537126
END:VEVENT
BEGIN:VEVENT
DTSTART;TZID=UTC:20160818T113000
DTEND;TZID=UTC:20160818T123000
DTSTAMP:20260420T213417
CREATED:20160817T073922Z
LAST-MODIFIED:20160817T074012Z
UID:8038-1471519800-1471523400@www.hhwnc.org
SUMMARY:Cultural Heritage Commission Hearing
DESCRIPTION:Cultural Heritage Commission will be holding a hearing Thursday 8/18 at 11:30 at City Hall\, 200 N Spring Street\, room 1010 regarding the Sunset Square HPOZ.  The Planning Department will review the HPOZ on September 22.
URL:https://www.hhwnc.org/event/cultural-heritage-commission-hearing/
LOCATION:Los Angeles City Hall\, 200 N Spring Street\, Los Angeles\, CA\, 90012\, United States
CATEGORIES:Project Alerts
GEO:34.0537126;-118.2428145
X-APPLE-STRUCTURED-LOCATION;VALUE=URI;X-ADDRESS=Los Angeles City Hall 200 N Spring Street Los Angeles CA 90012 United States;X-APPLE-RADIUS=500;X-TITLE=200 N Spring Street:geo:-118.2428145,34.0537126
END:VEVENT
BEGIN:VEVENT
DTSTART;TZID=UTC:20160728T100000
DTEND;TZID=UTC:20160728T100000
DTSTAMP:20260420T213417
CREATED:20160713T103116Z
LAST-MODIFIED:20160713T103434Z
UID:7747-1469700000-1469700000@www.hhwnc.org
SUMMARY:Hearing: 1708 Las Palmas - The Rusty Mullet restaurant
DESCRIPTION:A revised hearing notice changes the date for the Planning Department’s hearing to consider how The Rusty Mullet restaurant has been operated is rescheduled from Tuesday\, July 19\, 2016\, to Thursday\, July 28\, 2016. The hearing will occur at Los Angeles City Hall’s Room 1050 at 10 a.m. \nThe Planning Dept.’s case no. is DIR-2016-1722(RV).  The CA CEQA no. is ENV-2016-1723(CE)
URL:https://www.hhwnc.org/event/1708-las-palmas-the-rusty-mullet-restaurant/
LOCATION:Los Angeles City Hall\, 200 N Spring Street\, Los Angeles\, CA\, 90012\, United States
CATEGORIES:Project Alerts
GEO:34.0537126;-118.2428145
X-APPLE-STRUCTURED-LOCATION;VALUE=URI;X-ADDRESS=Los Angeles City Hall 200 N Spring Street Los Angeles CA 90012 United States;X-APPLE-RADIUS=500;X-TITLE=200 N Spring Street:geo:-118.2428145,34.0537126
END:VEVENT
END:VCALENDAR