BEGIN:VCALENDAR
VERSION:2.0
PRODID:-//Hollywood Hills West - ECPv6.15.20//NONSGML v1.0//EN
CALSCALE:GREGORIAN
METHOD:PUBLISH
X-WR-CALNAME:Hollywood Hills West
X-ORIGINAL-URL:https://www.hhwnc.org
X-WR-CALDESC:Events for Hollywood Hills West
REFRESH-INTERVAL;VALUE=DURATION:PT1H
X-Robots-Tag:noindex
X-PUBLISHED-TTL:PT1H
BEGIN:VTIMEZONE
TZID:America/Los_Angeles
BEGIN:DAYLIGHT
TZOFFSETFROM:-0800
TZOFFSETTO:-0700
TZNAME:PDT
DTSTART:20170312T100000
END:DAYLIGHT
BEGIN:STANDARD
TZOFFSETFROM:-0700
TZOFFSETTO:-0800
TZNAME:PST
DTSTART:20171105T090000
END:STANDARD
BEGIN:DAYLIGHT
TZOFFSETFROM:-0800
TZOFFSETTO:-0700
TZNAME:PDT
DTSTART:20180311T100000
END:DAYLIGHT
BEGIN:STANDARD
TZOFFSETFROM:-0700
TZOFFSETTO:-0800
TZNAME:PST
DTSTART:20181104T090000
END:STANDARD
BEGIN:DAYLIGHT
TZOFFSETFROM:-0800
TZOFFSETTO:-0700
TZNAME:PDT
DTSTART:20190310T100000
END:DAYLIGHT
BEGIN:STANDARD
TZOFFSETFROM:-0700
TZOFFSETTO:-0800
TZNAME:PST
DTSTART:20191103T090000
END:STANDARD
BEGIN:DAYLIGHT
TZOFFSETFROM:-0800
TZOFFSETTO:-0700
TZNAME:PDT
DTSTART:20200308T100000
END:DAYLIGHT
BEGIN:STANDARD
TZOFFSETFROM:-0700
TZOFFSETTO:-0800
TZNAME:PST
DTSTART:20201101T090000
END:STANDARD
BEGIN:DAYLIGHT
TZOFFSETFROM:-0800
TZOFFSETTO:-0700
TZNAME:PDT
DTSTART:20210314T100000
END:DAYLIGHT
BEGIN:STANDARD
TZOFFSETFROM:-0700
TZOFFSETTO:-0800
TZNAME:PST
DTSTART:20211107T090000
END:STANDARD
BEGIN:DAYLIGHT
TZOFFSETFROM:-0800
TZOFFSETTO:-0700
TZNAME:PDT
DTSTART:20220313T100000
END:DAYLIGHT
BEGIN:STANDARD
TZOFFSETFROM:-0700
TZOFFSETTO:-0800
TZNAME:PST
DTSTART:20221106T090000
END:STANDARD
BEGIN:DAYLIGHT
TZOFFSETFROM:-0800
TZOFFSETTO:-0700
TZNAME:PDT
DTSTART:20230312T100000
END:DAYLIGHT
BEGIN:STANDARD
TZOFFSETFROM:-0700
TZOFFSETTO:-0800
TZNAME:PST
DTSTART:20231105T090000
END:STANDARD
BEGIN:DAYLIGHT
TZOFFSETFROM:-0800
TZOFFSETTO:-0700
TZNAME:PDT
DTSTART:20240310T100000
END:DAYLIGHT
BEGIN:STANDARD
TZOFFSETFROM:-0700
TZOFFSETTO:-0800
TZNAME:PST
DTSTART:20241103T090000
END:STANDARD
BEGIN:DAYLIGHT
TZOFFSETFROM:-0800
TZOFFSETTO:-0700
TZNAME:PDT
DTSTART:20250309T100000
END:DAYLIGHT
BEGIN:STANDARD
TZOFFSETFROM:-0700
TZOFFSETTO:-0800
TZNAME:PST
DTSTART:20251102T090000
END:STANDARD
BEGIN:DAYLIGHT
TZOFFSETFROM:-0800
TZOFFSETTO:-0700
TZNAME:PDT
DTSTART:20260308T100000
END:DAYLIGHT
BEGIN:STANDARD
TZOFFSETFROM:-0700
TZOFFSETTO:-0800
TZNAME:PST
DTSTART:20261101T090000
END:STANDARD
BEGIN:DAYLIGHT
TZOFFSETFROM:-0800
TZOFFSETTO:-0700
TZNAME:PDT
DTSTART:20270314T100000
END:DAYLIGHT
BEGIN:STANDARD
TZOFFSETFROM:-0700
TZOFFSETTO:-0800
TZNAME:PST
DTSTART:20271107T090000
END:STANDARD
END:VTIMEZONE
BEGIN:VTIMEZONE
TZID:UTC
BEGIN:STANDARD
TZOFFSETFROM:+0000
TZOFFSETTO:+0000
TZNAME:UTC
DTSTART:20160101T000000
END:STANDARD
END:VTIMEZONE
BEGIN:VEVENT
DTSTART;VALUE=DATE:20260318
DTEND;VALUE=DATE:20260319
DTSTAMP:20260421T042945
CREATED:20260113T191428Z
LAST-MODIFIED:20260113T191544Z
UID:20383-1773792000-1773878399@www.hhwnc.org
SUMMARY:HHWNC Board Meeting\, March 18\, 2026
DESCRIPTION:
URL:https://www.hhwnc.org/event/hhwnc-board-meeting-march-18-2026/
LOCATION:Zoom
CATEGORIES:HHWNC Meetings
END:VEVENT
BEGIN:VEVENT
DTSTART;VALUE=DATE:20260218
DTEND;VALUE=DATE:20260219
DTSTAMP:20260421T042945
CREATED:20260113T190932Z
LAST-MODIFIED:20260113T191132Z
UID:20379-1771372800-1771459199@www.hhwnc.org
SUMMARY:HHWNC Board Meeting\, February 18\, 2026
DESCRIPTION:
URL:https://www.hhwnc.org/event/hhwnc-board-meeting-february-18-2026/
LOCATION:Zoom
CATEGORIES:HHWNC Meetings
END:VEVENT
BEGIN:VEVENT
DTSTART;VALUE=DATE:20260121
DTEND;VALUE=DATE:20260122
DTSTAMP:20260421T042945
CREATED:20260113T190136Z
LAST-MODIFIED:20260113T190511Z
UID:20375-1768953600-1769039999@www.hhwnc.org
SUMMARY:HHWNC Board Meeting\, January 21\, 2026
DESCRIPTION:
URL:https://www.hhwnc.org/event/hhwnc-board-meeting-january-21-2026/
LOCATION:Zoom
CATEGORIES:HHWNC Meetings
END:VEVENT
BEGIN:VEVENT
DTSTART;VALUE=DATE:20251119
DTEND;VALUE=DATE:20251120
DTSTAMP:20260421T042945
CREATED:20251114T041323Z
LAST-MODIFIED:20251114T041338Z
UID:20326-1763510400-1763596799@www.hhwnc.org
SUMMARY:HHWNC Board Meeting\, November 19\, 2025
DESCRIPTION:
URL:https://www.hhwnc.org/event/hhwnc-board-meeting-november-19-2025/
LOCATION:Zoom
END:VEVENT
BEGIN:VEVENT
DTSTART;VALUE=DATE:20251015
DTEND;VALUE=DATE:20251016
DTSTAMP:20260421T042945
CREATED:20250918T234134Z
LAST-MODIFIED:20251010T195039Z
UID:20226-1760486400-1760572799@www.hhwnc.org
SUMMARY:HHWNC Board Meeting\, October 15\, 2025\, 6:00 pm
DESCRIPTION:There will be a digital meeting of the Hollywood Hills West Neighborhood Council on Wednesday\, October 15\, starting at 6:00 PM. \nhttps://us02web.zoom.us/j/83755294766 \n  \n  \n 
URL:https://www.hhwnc.org/event/hhwnc-board-meeting-october-18-2025/
LOCATION:Zoom
CATEGORIES:HHWNC Meetings
END:VEVENT
BEGIN:VEVENT
DTSTART;TZID=America/Los_Angeles:20250529T183000
DTEND;TZID=America/Los_Angeles:20250529T210000
DTSTAMP:20260421T042945
CREATED:20250523T220206Z
LAST-MODIFIED:20250523T220629Z
UID:20129-1748543400-1748552400@www.hhwnc.org
SUMMARY:Joint Areas 3\, 4\, 5\, 7\, Parks & Open Spaces & Infrastructure Meeting\, May 29\, 6:30 PM
DESCRIPTION:Councilmember Hugo Soto-Martinez has requested the Neighborhood Councils that lie within Council District 13 present to him neighborhood projects / needs that have not yet been attended to by the City\, or are falling behind: i.e.\, medians\, mural restorations\, street infrastructure improvements approved lagging\, etc. \nThis meeting is an opportunity for stakeholders to let the committees know needs in their areas. Please see the map below for the boundaries that will be considered. CD 13 has a slim part of HHWNC\, so please consult the boundaries that the project should be in. \nThe Committees will consider the needs in their areas and advance to the Board if decided. \nThe meeting will be held Thursday\, May 9\, 2025 starting at 6:30 PM. \nThe meeting will be held via Zoom: https://us02web.zoom.us/j/89162369474r \nTo see the full agenda\, please visit: HERE \nHope to see you there. \n 
URL:https://www.hhwnc.org/event/joint-areas-3-4-5-7-parks-open-spaces-infrastructure-meeting-may-29-630-pm/
LOCATION:Zoom
CATEGORIES:HHWNC Meetings
END:VEVENT
BEGIN:VEVENT
DTSTART;TZID=America/Los_Angeles:20250204T183000
DTEND;TZID=America/Los_Angeles:20250204T203000
DTSTAMP:20260421T042945
CREATED:20250129T202452Z
LAST-MODIFIED:20250201T211651Z
UID:19952-1738693800-1738701000@www.hhwnc.org
SUMMARY:PLUM & Area 3 Meetings to be held 2/4/25 to consider 1749 Las Palmas
DESCRIPTION:The Area 3 Committee\, and the PLUM Committee (which also includes the chairs of Business\, Transportation\, Environment\, Infrastructure and Housing) of the HHWNC will be meeting Tuesday\, February 4 via Zoom to discuss the new 7 story\, 89 unit apartment project\, with parking\, open roof and commercial space planned at 1749 Las Palmas. The meeting with possible motion and vote\, will follow the presentation\, scheduled for 6:30 PM\, during the Area 3 meeting. \nFor the full set of plans\, please visit: http://www.hhwnc.org/wp-content/uploads/2025/01/1749-Las-Palmas-full-s.pdf. \nFor the full agenda\, please visit: http://www.hhwnc.org/wp-content/uploads/2025/01/Area-3-Meeting-2-4-25.pdf \nHope to see you on the Zoom: \nhttps://us02web.zoom.us/j/85649189621 Meeting ID: 856 4918 9621 \nPhone Dial in: +1 (669) 900 6833; Code: 856 4918 9621 \n  \n 
URL:https://www.hhwnc.org/event/plum-meeting-2-4-25-1749-las-palmas/
LOCATION:Zoom
CATEGORIES:HHWNC Meetings,Project Alerts
END:VEVENT
BEGIN:VEVENT
DTSTART;TZID=America/Los_Angeles:20241008T180000
DTEND;TZID=America/Los_Angeles:20241008T200000
DTSTAMP:20260421T042945
CREATED:20240923T051054Z
LAST-MODIFIED:20241004T015749Z
UID:19630-1728410400-1728417600@www.hhwnc.org
SUMMARY:Housing / Business / All Areas Committees' Meeting
DESCRIPTION:There will be meeting on Tuesday\, October 8 at 6:00 PM of the Housing\, Business and Areas committees of the Hollywood Hills West Neighborhood Council to discuss \n\nthe Mayor’s Executive Directive 1\, which seeks to extend and make permanent the provision of “regulatory guidance to new 100% affordable housing proposals. The revisions being considered add additional protections to residential tenants\, ensures high fire risk area safeguards and looks at the design\, landscaping and open spaces of new ‘affordable’ housing. The full text of ED1 can be found HERE.  Possible motion and vote on a Community Impact Statement to be sent to City officials.\nthe proposed Citywide Housing Incentive Program (CHIP) Ordinance. CHIP is made up of three incentive programs\, State Density Bonus\, Mixed Income\, and the Affordable Housing. More detailed information may be found HERE. At issue is the continuation of single-family neighborhoods’ ability to fulfill State affordability mandates.\n\nZoom Meeting Link: https://us02web.zoom.us/j/82506487065 Meeting ID: 825 0648 7065 \nPhone Dial in: +1 (669) 900 6833; Code: 825 0648 7065 \nThe meeting will be followed by a PLUM meeting\, which will have the same agenda. HHWNC bylaws and standing rules state that stakeholders can be voting committee members for Area and Issue committees. They cannot be for PLUM. \nHope to see you on Zoom at the meeting. \nFor a full\, downoadable agenda\, visit HERE
URL:https://www.hhwnc.org/event/housing-all-areas-committee-meeting/
LOCATION:Zoom
CATEGORIES:HHWNC Meetings
END:VEVENT
BEGIN:VEVENT
DTSTART;TZID=America/Los_Angeles:20230920T173000
DTEND;TZID=America/Los_Angeles:20230920T200000
DTSTAMP:20260421T042945
CREATED:20230208T232540Z
LAST-MODIFIED:20230906T175404Z
UID:18719-1695231000-1695240000@www.hhwnc.org
SUMMARY:HHWNC Board Meeting September 20\, 2023
DESCRIPTION:
URL:https://www.hhwnc.org/event/hhwnc-board-meeting-september-20-2023/
LOCATION:Zoom
CATEGORIES:HHWNC Meetings
END:VEVENT
BEGIN:VEVENT
DTSTART;TZID=America/Los_Angeles:20230315T173000
DTEND;TZID=America/Los_Angeles:20230315T200000
DTSTAMP:20260421T042945
CREATED:20230208T230350Z
LAST-MODIFIED:20230310T000811Z
UID:18707-1678901400-1678910400@www.hhwnc.org
SUMMARY:HHWNC Board Meeting March 15\, 2023
DESCRIPTION:HOLLYWOOD HILLS WEST NEIGHBORHOOD COUNCIL BOARD MEETING  \nMarch 15\, 2023 \n5:30 pm \nZoom Meeting Link https://us02web.zoom.us/j/85311647732 \nMeeting ID: 853 1164 7732 \nPhone Dial in: +1-669-900-6833 Code: 853 1164 7732
URL:https://www.hhwnc.org/event/hhwnc-board-meeting-march-15-2023/
LOCATION:Zoom
CATEGORIES:HHWNC Meetings
END:VEVENT
BEGIN:VEVENT
DTSTART;TZID=America/Los_Angeles:20181105T181500
DTEND;TZID=America/Los_Angeles:20181105T210000
DTSTAMP:20260421T042945
CREATED:20181006T204222Z
LAST-MODIFIED:20181102T080901Z
UID:14516-1541441700-1541451600@www.hhwnc.org
SUMMARY:Area 3 & Housing Committees Meeting
DESCRIPTION:For full agenda\, please visit http://www.hhwnc.org/area-3-housing-committees-meeting/ \n 
URL:https://www.hhwnc.org/event/area-3-meeting-2/
LOCATION:Zoom
CATEGORIES:HHWNC Meetings
END:VEVENT
BEGIN:VEVENT
DTSTART;TZID=UTC:20171114T180000
DTEND;TZID=UTC:20171114T210000
DTSTAMP:20260421T042945
CREATED:20171014T033318Z
LAST-MODIFIED:20171114T124648Z
UID:13642-1510682400-1510693200@www.hhwnc.org
SUMMARY:Area 3 / Area 4 / Housing / Parks and Open Space Meeting re: Hollywood Community Plan Update
DESCRIPTION:This will be the second meeting to continue discussing the Hollywood Community Plan. We will include Area 3\, Area 4\, Housing\, and Parks and Open Spaces. To see the full agenda\, visit this link. \n 
URL:https://www.hhwnc.org/event/area-3-area-4-housing-meeting-re-hollywood-community-plan-update/
LOCATION:Zoom
CATEGORIES:HHWNC Meetings
END:VEVENT
END:VCALENDAR