BEGIN:VCALENDAR
VERSION:2.0
PRODID:-//Hollywood Hills West - ECPv6.15.20//NONSGML v1.0//EN
CALSCALE:GREGORIAN
METHOD:PUBLISH
X-WR-CALNAME:Hollywood Hills West
X-ORIGINAL-URL:https://www.hhwnc.org
X-WR-CALDESC:Events for Hollywood Hills West
REFRESH-INTERVAL;VALUE=DURATION:PT1H
X-Robots-Tag:noindex
X-PUBLISHED-TTL:PT1H
BEGIN:VTIMEZONE
TZID:America/Los_Angeles
BEGIN:DAYLIGHT
TZOFFSETFROM:-0800
TZOFFSETTO:-0700
TZNAME:PDT
DTSTART:20170312T100000
END:DAYLIGHT
BEGIN:STANDARD
TZOFFSETFROM:-0700
TZOFFSETTO:-0800
TZNAME:PST
DTSTART:20171105T090000
END:STANDARD
BEGIN:DAYLIGHT
TZOFFSETFROM:-0800
TZOFFSETTO:-0700
TZNAME:PDT
DTSTART:20180311T100000
END:DAYLIGHT
BEGIN:STANDARD
TZOFFSETFROM:-0700
TZOFFSETTO:-0800
TZNAME:PST
DTSTART:20181104T090000
END:STANDARD
BEGIN:DAYLIGHT
TZOFFSETFROM:-0800
TZOFFSETTO:-0700
TZNAME:PDT
DTSTART:20190310T100000
END:DAYLIGHT
BEGIN:STANDARD
TZOFFSETFROM:-0700
TZOFFSETTO:-0800
TZNAME:PST
DTSTART:20191103T090000
END:STANDARD
BEGIN:DAYLIGHT
TZOFFSETFROM:-0800
TZOFFSETTO:-0700
TZNAME:PDT
DTSTART:20200308T100000
END:DAYLIGHT
BEGIN:STANDARD
TZOFFSETFROM:-0700
TZOFFSETTO:-0800
TZNAME:PST
DTSTART:20201101T090000
END:STANDARD
END:VTIMEZONE
BEGIN:VTIMEZONE
TZID:UTC
BEGIN:STANDARD
TZOFFSETFROM:+0000
TZOFFSETTO:+0000
TZNAME:UTC
DTSTART:20160101T000000
END:STANDARD
END:VTIMEZONE
BEGIN:VEVENT
DTSTART;TZID=America/Los_Angeles:20190124T183000
DTEND;TZID=America/Los_Angeles:20190124T200000
DTSTAMP:20260421T035344
CREATED:20190118T225310Z
LAST-MODIFIED:20190118T225524Z
UID:14955-1548354600-1548360000@www.hhwnc.org
SUMMARY:PLUM Committee Meeting Jan. 24 (Review Comments for Hollywood Community Plan)
DESCRIPTION:To discuss the Hollywood Community Plan
URL:https://www.hhwnc.org/event/plum-committee-meeting-11/
LOCATION:Will and Ariel Durant Branch Library\, 7140 Sunset Blvd\,  Los Angeles\, 90046
CATEGORIES:HHWNC Meetings
GEO:34.0976549;-118.3455952
X-APPLE-STRUCTURED-LOCATION;VALUE=URI;X-ADDRESS=Will and Ariel Durant Branch Library 7140 Sunset Blvd  Los Angeles 90046;X-APPLE-RADIUS=500;X-TITLE=7140 Sunset Blvd:geo:-118.3455952,34.0976549
END:VEVENT
BEGIN:VEVENT
DTSTART;TZID=America/Los_Angeles:20181206T180000
DTEND;TZID=America/Los_Angeles:20181206T200000
DTSTAMP:20260421T035344
CREATED:20181127T224957Z
LAST-MODIFIED:20181127T225220Z
UID:14664-1544119200-1544126400@www.hhwnc.org
SUMMARY:PLUM Meeting December 6th
DESCRIPTION:
URL:https://www.hhwnc.org/event/plum-meeting-december-6th/
LOCATION:Will and Ariel Durant Branch Library\, 7140 Sunset Blvd\,  Los Angeles\, 90046
CATEGORIES:HHWNC Meetings
GEO:34.0976549;-118.3455952
X-APPLE-STRUCTURED-LOCATION;VALUE=URI;X-ADDRESS=Will and Ariel Durant Branch Library 7140 Sunset Blvd  Los Angeles 90046;X-APPLE-RADIUS=500;X-TITLE=7140 Sunset Blvd:geo:-118.3455952,34.0976549
END:VEVENT
BEGIN:VEVENT
DTSTART;TZID=America/Los_Angeles:20181205T180000
DTEND;TZID=America/Los_Angeles:20181205T200000
DTSTAMP:20260421T035344
CREATED:20181022T235103Z
LAST-MODIFIED:20181022T235103Z
UID:14546-1544032800-1544040000@www.hhwnc.org
SUMMARY:HHWNC Board Meeting
DESCRIPTION:
URL:https://www.hhwnc.org/event/hhwnc-board-meeting-10/
LOCATION:Will and Ariel Durant Branch Library\, 7140 Sunset Blvd\,  Los Angeles\, 90046
CATEGORIES:HHWNC Meetings
GEO:34.0976549;-118.3455952
X-APPLE-STRUCTURED-LOCATION;VALUE=URI;X-ADDRESS=Will and Ariel Durant Branch Library 7140 Sunset Blvd  Los Angeles 90046;X-APPLE-RADIUS=500;X-TITLE=7140 Sunset Blvd:geo:-118.3455952,34.0976549
END:VEVENT
BEGIN:VEVENT
DTSTART;TZID=America/Los_Angeles:20181101T180000
DTEND;TZID=America/Los_Angeles:20181101T200000
DTSTAMP:20260421T035344
CREATED:20181026T155516Z
LAST-MODIFIED:20181031T203847Z
UID:14560-1541095200-1541102400@www.hhwnc.org
SUMMARY:PLUM Meeting November 1st
DESCRIPTION:
URL:https://www.hhwnc.org/event/plum-meeting-november-1st/
LOCATION:Will and Ariel Durant Branch Library\, 7140 Sunset Blvd\,  Los Angeles\, 90046
CATEGORIES:HHWNC Meetings
GEO:34.0976549;-118.3455952
X-APPLE-STRUCTURED-LOCATION;VALUE=URI;X-ADDRESS=Will and Ariel Durant Branch Library 7140 Sunset Blvd  Los Angeles 90046;X-APPLE-RADIUS=500;X-TITLE=7140 Sunset Blvd:geo:-118.3455952,34.0976549
END:VEVENT
BEGIN:VEVENT
DTSTART;TZID=UTC:20181017T180000
DTEND;TZID=UTC:20181017T200000
DTSTAMP:20260421T035344
CREATED:20180317T233907Z
LAST-MODIFIED:20180318T235536Z
UID:14085-1539799200-1539806400@www.hhwnc.org
SUMMARY:HHWNC Board Meeting
DESCRIPTION:
URL:https://www.hhwnc.org/event/hhwnc-board-meeting-9/
LOCATION:Will and Ariel Durant Branch Library\, 7140 Sunset Blvd\,  Los Angeles\, 90046
CATEGORIES:HHWNC Meetings
GEO:34.0976549;-118.3455952
X-APPLE-STRUCTURED-LOCATION;VALUE=URI;X-ADDRESS=Will and Ariel Durant Branch Library 7140 Sunset Blvd  Los Angeles 90046;X-APPLE-RADIUS=500;X-TITLE=7140 Sunset Blvd:geo:-118.3455952,34.0976549
END:VEVENT
BEGIN:VEVENT
DTSTART;TZID=America/Los_Angeles:20181004T180000
DTEND;TZID=America/Los_Angeles:20181004T200000
DTSTAMP:20260421T035344
CREATED:20180614T194341Z
LAST-MODIFIED:20180614T194342Z
UID:14263-1538676000-1538683200@www.hhwnc.org
SUMMARY:PLUM Committee Meeting at Durant Library
DESCRIPTION:
URL:https://www.hhwnc.org/event/plum-committee-meeting-at-durant-library-4/
LOCATION:Will and Ariel Durant Branch Library\, 7140 Sunset Blvd\,  Los Angeles\, 90046
CATEGORIES:HHWNC Meetings
GEO:34.0976549;-118.3455952
X-APPLE-STRUCTURED-LOCATION;VALUE=URI;X-ADDRESS=Will and Ariel Durant Branch Library 7140 Sunset Blvd  Los Angeles 90046;X-APPLE-RADIUS=500;X-TITLE=7140 Sunset Blvd:geo:-118.3455952,34.0976549
END:VEVENT
BEGIN:VEVENT
DTSTART;TZID=UTC:20180920T180000
DTEND;TZID=UTC:20180920T200000
DTSTAMP:20260421T035344
CREATED:20180317T233837Z
LAST-MODIFIED:20180726T010432Z
UID:14083-1537466400-1537473600@www.hhwnc.org
SUMMARY:HHWNC Board Meeting
DESCRIPTION:
URL:https://www.hhwnc.org/event/hhwnc-board-meeting-8/
LOCATION:Will and Ariel Durant Branch Library\, 7140 Sunset Blvd\,  Los Angeles\, 90046
CATEGORIES:HHWNC Meetings
GEO:34.0976549;-118.3455952
X-APPLE-STRUCTURED-LOCATION;VALUE=URI;X-ADDRESS=Will and Ariel Durant Branch Library 7140 Sunset Blvd  Los Angeles 90046;X-APPLE-RADIUS=500;X-TITLE=7140 Sunset Blvd:geo:-118.3455952,34.0976549
END:VEVENT
BEGIN:VEVENT
DTSTART;TZID=America/Los_Angeles:20180906T180000
DTEND;TZID=America/Los_Angeles:20180906T200000
DTSTAMP:20260421T035344
CREATED:20180830T211912Z
LAST-MODIFIED:20180830T211912Z
UID:14382-1536256800-1536264000@www.hhwnc.org
SUMMARY:HHWNC PLUM Meeting on Sept. 6th
DESCRIPTION:
URL:https://www.hhwnc.org/event/hhwnc-plum-meeting-on-sept-6th/
LOCATION:Will and Ariel Durant Branch Library\, 7140 Sunset Blvd\,  Los Angeles\, 90046
CATEGORIES:Community Events,HHWNC Meetings
GEO:34.0976549;-118.3455952
X-APPLE-STRUCTURED-LOCATION;VALUE=URI;X-ADDRESS=Will and Ariel Durant Branch Library 7140 Sunset Blvd  Los Angeles 90046;X-APPLE-RADIUS=500;X-TITLE=7140 Sunset Blvd:geo:-118.3455952,34.0976549
END:VEVENT
BEGIN:VEVENT
DTSTART;TZID=America/Los_Angeles:20180821T180000
DTEND;TZID=America/Los_Angeles:20180821T200000
DTSTAMP:20260421T035344
CREATED:20180801T215929Z
LAST-MODIFIED:20180810T034527Z
UID:14336-1534874400-1534881600@www.hhwnc.org
SUMMARY:JOINT PARKS AND OPEN SPACE\, ENVIRONMENT COMMITTEE MEETING
DESCRIPTION:POS COMMITTEE_AGENDA 8.21.18Please join us for the next joint Parks and Open Space Committee and Environment meeting\, Tuesday\, August 21st\, starting at 6:00 PM. This is your opportunity to have input on the issues in around the parks and open space and the environment in our community. \nAbout the Parks and Open Space Committee: \nWe recognize that the parks and open spaces within our neighborhood council area are a cherished and irreplaceable natural resource\, essential for our physical and mental well-being.  The goal of this committee is to promote and maintain these areas as a refuge\, in contrast to the city around it\, and to bring stakeholders together to do important and timely work in our community.
URL:https://www.hhwnc.org/event/joint-parks-and-open-space-environment-committee-meeting/
LOCATION:Will and Ariel Durant Branch Library\, 7140 Sunset Blvd\,  Los Angeles\, 90046
CATEGORIES:HHWNC Meetings
ORGANIZER;CN="Jeffery Masino":MAILTO:parkschair@hhwnc.org
GEO:34.0976549;-118.3455952
X-APPLE-STRUCTURED-LOCATION;VALUE=URI;X-ADDRESS=Will and Ariel Durant Branch Library 7140 Sunset Blvd  Los Angeles 90046;X-APPLE-RADIUS=500;X-TITLE=7140 Sunset Blvd:geo:-118.3455952,34.0976549
END:VEVENT
BEGIN:VEVENT
DTSTART;TZID=America/Los_Angeles:20180802T180000
DTEND;TZID=America/Los_Angeles:20180802T200000
DTSTAMP:20260421T035344
CREATED:20180614T193951Z
LAST-MODIFIED:20180802T161542Z
UID:14258-1533232800-1533240000@www.hhwnc.org
SUMMARY:CANCELED - PLUM Committee Meeting at Durant Library
DESCRIPTION:
URL:https://www.hhwnc.org/event/plum-committee-meeting-at-durant-library-2/
LOCATION:Will and Ariel Durant Branch Library\, 7140 Sunset Blvd\,  Los Angeles\, 90046
CATEGORIES:HHWNC Meetings
GEO:34.0976549;-118.3455952
X-APPLE-STRUCTURED-LOCATION;VALUE=URI;X-ADDRESS=Will and Ariel Durant Branch Library 7140 Sunset Blvd  Los Angeles 90046;X-APPLE-RADIUS=500;X-TITLE=7140 Sunset Blvd:geo:-118.3455952,34.0976549
END:VEVENT
BEGIN:VEVENT
DTSTART;TZID=UTC:20180718T180000
DTEND;TZID=UTC:20180718T200000
DTSTAMP:20260421T035344
CREATED:20180317T233802Z
LAST-MODIFIED:20180317T233802Z
UID:14081-1531936800-1531944000@www.hhwnc.org
SUMMARY:HHWNC Board Meeting
DESCRIPTION:
URL:https://www.hhwnc.org/event/hhwnc-board-meeting-7/
LOCATION:Will and Ariel Durant Branch Library\, 7140 Sunset Blvd\,  Los Angeles\, 90046
CATEGORIES:HHWNC Meetings
GEO:34.0976549;-118.3455952
X-APPLE-STRUCTURED-LOCATION;VALUE=URI;X-ADDRESS=Will and Ariel Durant Branch Library 7140 Sunset Blvd  Los Angeles 90046;X-APPLE-RADIUS=500;X-TITLE=7140 Sunset Blvd:geo:-118.3455952,34.0976549
END:VEVENT
BEGIN:VEVENT
DTSTART;TZID=America/Los_Angeles:20180712T180000
DTEND;TZID=America/Los_Angeles:20180712T200000
DTSTAMP:20260421T035344
CREATED:20180614T193747Z
LAST-MODIFIED:20180614T194547Z
UID:14255-1531418400-1531425600@www.hhwnc.org
SUMMARY:PLUM Committee Meeting at  Durant Library
DESCRIPTION:
URL:https://www.hhwnc.org/event/plum-committee-meeting-at-durant-library/2018-07-12/
LOCATION:Will and Ariel Durant Branch Library\, 7140 Sunset Blvd\,  Los Angeles\, 90046
CATEGORIES:HHWNC Meetings
GEO:34.0976549;-118.3455952
X-APPLE-STRUCTURED-LOCATION;VALUE=URI;X-ADDRESS=Will and Ariel Durant Branch Library 7140 Sunset Blvd  Los Angeles 90046;X-APPLE-RADIUS=500;X-TITLE=7140 Sunset Blvd:geo:-118.3455952,34.0976549
END:VEVENT
BEGIN:VEVENT
DTSTART;TZID=UTC:20180620T180000
DTEND;TZID=UTC:20180620T200000
DTSTAMP:20260421T035344
CREATED:20180317T233732Z
LAST-MODIFIED:20180619T172754Z
UID:14079-1529517600-1529524800@www.hhwnc.org
SUMMARY:HHWNC Board Meeting
DESCRIPTION:
URL:https://www.hhwnc.org/event/hhwnc-board-meeting-6/
LOCATION:Will and Ariel Durant Branch Library\, 7140 Sunset Blvd\,  Los Angeles\, 90046
CATEGORIES:HHWNC Meetings
GEO:34.0976549;-118.3455952
X-APPLE-STRUCTURED-LOCATION;VALUE=URI;X-ADDRESS=Will and Ariel Durant Branch Library 7140 Sunset Blvd  Los Angeles 90046;X-APPLE-RADIUS=500;X-TITLE=7140 Sunset Blvd:geo:-118.3455952,34.0976549
END:VEVENT
BEGIN:VEVENT
DTSTART;TZID=America/Los_Angeles:20180607T180000
DTEND;TZID=America/Los_Angeles:20180607T200000
DTSTAMP:20260421T035344
CREATED:20180601T014838Z
LAST-MODIFIED:20180605T154457Z
UID:14225-1528394400-1528401600@www.hhwnc.org
SUMMARY:PLUM Committee Meeting
DESCRIPTION:
URL:https://www.hhwnc.org/event/plum-committee-meeting-10/
LOCATION:Will and Ariel Durant Branch Library\, 7140 Sunset Blvd\,  Los Angeles\, 90046
CATEGORIES:HHWNC Meetings
GEO:34.0976549;-118.3455952
X-APPLE-STRUCTURED-LOCATION;VALUE=URI;X-ADDRESS=Will and Ariel Durant Branch Library 7140 Sunset Blvd  Los Angeles 90046;X-APPLE-RADIUS=500;X-TITLE=7140 Sunset Blvd:geo:-118.3455952,34.0976549
END:VEVENT
BEGIN:VEVENT
DTSTART;TZID=America/Los_Angeles:20180529T180000
DTEND;TZID=America/Los_Angeles:20180529T200000
DTSTAMP:20260421T035344
CREATED:20180525T162501Z
LAST-MODIFIED:20180525T162501Z
UID:14206-1527616800-1527624000@www.hhwnc.org
SUMMARY:Area 7 / Business / Transportation Meeting
DESCRIPTION:Please join us to review and discuss updated plans for the 7500 Sunset Blvd project. Additional information can be found here:\nhttp://www.hhwnc.org/area-7-business-transportation-meeting/
URL:https://www.hhwnc.org/event/area-7-business-transportation-meeting/
LOCATION:Will and Ariel Durant Branch Library\, 7140 Sunset Blvd\,  Los Angeles\, 90046
CATEGORIES:HHWNC Meetings
GEO:34.0976549;-118.3455952
X-APPLE-STRUCTURED-LOCATION;VALUE=URI;X-ADDRESS=Will and Ariel Durant Branch Library 7140 Sunset Blvd  Los Angeles 90046;X-APPLE-RADIUS=500;X-TITLE=7140 Sunset Blvd:geo:-118.3455952,34.0976549
END:VEVENT
BEGIN:VEVENT
DTSTART;TZID=UTC:20180516T180000
DTEND;TZID=UTC:20180516T200000
DTSTAMP:20260421T035344
CREATED:20180317T233659Z
LAST-MODIFIED:20180317T233659Z
UID:14077-1526493600-1526500800@www.hhwnc.org
SUMMARY:HHWNC Board Meeting
DESCRIPTION:
URL:https://www.hhwnc.org/event/hhwnc-board-meeting-5/
LOCATION:Will and Ariel Durant Branch Library\, 7140 Sunset Blvd\,  Los Angeles\, 90046
CATEGORIES:HHWNC Meetings
GEO:34.0976549;-118.3455952
X-APPLE-STRUCTURED-LOCATION;VALUE=URI;X-ADDRESS=Will and Ariel Durant Branch Library 7140 Sunset Blvd  Los Angeles 90046;X-APPLE-RADIUS=500;X-TITLE=7140 Sunset Blvd:geo:-118.3455952,34.0976549
END:VEVENT
BEGIN:VEVENT
DTSTART;TZID=America/Los_Angeles:20180514T180000
DTEND;TZID=America/Los_Angeles:20180514T200000
DTSTAMP:20260421T035344
CREATED:20180507T035629Z
LAST-MODIFIED:20180509T195812Z
UID:14187-1526320800-1526328000@www.hhwnc.org
SUMMARY:JOINT PARKS AND OPEN SPACE\, AREA 6\, TRANSPORTATION  COMMITTEE MEETING
DESCRIPTION:POS COMMITTEE_AGENDA 5.14.18
URL:https://www.hhwnc.org/event/joint-parks-and-open-space-area-6-infrastructure-transportation-committee-meeting/
LOCATION:Will and Ariel Durant Branch Library\, 7140 Sunset Blvd\,  Los Angeles\, 90046
GEO:34.0976549;-118.3455952
X-APPLE-STRUCTURED-LOCATION;VALUE=URI;X-ADDRESS=Will and Ariel Durant Branch Library 7140 Sunset Blvd  Los Angeles 90046;X-APPLE-RADIUS=500;X-TITLE=7140 Sunset Blvd:geo:-118.3455952,34.0976549
END:VEVENT
BEGIN:VEVENT
DTSTART;TZID=America/Los_Angeles:20180503T180000
DTEND;TZID=America/Los_Angeles:20180503T200000
DTSTAMP:20260421T035344
CREATED:20180426T034648Z
LAST-MODIFIED:20180426T034720Z
UID:14180-1525370400-1525377600@www.hhwnc.org
SUMMARY:PLUM Committee Meeting
DESCRIPTION:
URL:https://www.hhwnc.org/event/plum-committee-meeting-9/
LOCATION:Will and Ariel Durant Branch Library\, 7140 Sunset Blvd\,  Los Angeles\, 90046
CATEGORIES:HHWNC Meetings
GEO:34.0976549;-118.3455952
X-APPLE-STRUCTURED-LOCATION;VALUE=URI;X-ADDRESS=Will and Ariel Durant Branch Library 7140 Sunset Blvd  Los Angeles 90046;X-APPLE-RADIUS=500;X-TITLE=7140 Sunset Blvd:geo:-118.3455952,34.0976549
END:VEVENT
BEGIN:VEVENT
DTSTART;TZID=UTC:20180418T180000
DTEND;TZID=UTC:20180418T200000
DTSTAMP:20260421T035344
CREATED:20180317T233629Z
LAST-MODIFIED:20180317T233629Z
UID:14075-1524074400-1524081600@www.hhwnc.org
SUMMARY:HHWNC Board Meeting
DESCRIPTION:
URL:https://www.hhwnc.org/event/hhwnc-board-meeting-4/
LOCATION:Will and Ariel Durant Branch Library\, 7140 Sunset Blvd\,  Los Angeles\, 90046
CATEGORIES:HHWNC Meetings
GEO:34.0976549;-118.3455952
X-APPLE-STRUCTURED-LOCATION;VALUE=URI;X-ADDRESS=Will and Ariel Durant Branch Library 7140 Sunset Blvd  Los Angeles 90046;X-APPLE-RADIUS=500;X-TITLE=7140 Sunset Blvd:geo:-118.3455952,34.0976549
END:VEVENT
BEGIN:VEVENT
DTSTART;TZID=UTC:20180312T180000
DTEND;TZID=UTC:20180312T200000
DTSTAMP:20260421T035344
CREATED:20180212T123241Z
LAST-MODIFIED:20180212T123523Z
UID:13999-1520877600-1520884800@www.hhwnc.org
SUMMARY:Parks and Open Space Committee Meeting
DESCRIPTION:Please join us for the next Parks and Open Space Committee meeting\, Monday\, March 12th\, starting at 6:00 PM. This is your opportunity to have input on the issues in around the parks and open space in our community. \nAbout the Parks and Open Space Committee: \nWe recognize that the parks and open spaces within our neighborhood council area are a cherished and irreplaceable natural resource\, essential for our physical and mental well-being.  The goal of this committee is to promote and maintain these areas as a refuge\, in contrast to the city around it\, and to bring stakeholders together to do important and timely work in our community.
URL:https://www.hhwnc.org/event/parks-and-open-space-committee-meeting-4/
LOCATION:Will and Ariel Durant Branch Library\, 7140 Sunset Blvd\,  Los Angeles\, 90046
CATEGORIES:HHWNC Meetings
ORGANIZER;CN="Jeffery Masino":MAILTO:parkschair@hhwnc.org
GEO:34.0976549;-118.3455952
X-APPLE-STRUCTURED-LOCATION;VALUE=URI;X-ADDRESS=Will and Ariel Durant Branch Library 7140 Sunset Blvd  Los Angeles 90046;X-APPLE-RADIUS=500;X-TITLE=7140 Sunset Blvd:geo:-118.3455952,34.0976549
END:VEVENT
BEGIN:VEVENT
DTSTART;TZID=UTC:20180301T180000
DTEND;TZID=UTC:20180301T200000
DTSTAMP:20260421T035344
CREATED:20180224T083054Z
LAST-MODIFIED:20180224T083214Z
UID:14047-1519927200-1519934400@www.hhwnc.org
SUMMARY:PLUM Committee Meeting
DESCRIPTION:
URL:https://www.hhwnc.org/event/plum-committee-meeting-8/
LOCATION:Will and Ariel Durant Branch Library\, 7140 Sunset Blvd\,  Los Angeles\, 90046
CATEGORIES:HHWNC Meetings
GEO:34.0976549;-118.3455952
X-APPLE-STRUCTURED-LOCATION;VALUE=URI;X-ADDRESS=Will and Ariel Durant Branch Library 7140 Sunset Blvd  Los Angeles 90046;X-APPLE-RADIUS=500;X-TITLE=7140 Sunset Blvd:geo:-118.3455952,34.0976549
END:VEVENT
BEGIN:VEVENT
DTSTART;TZID=UTC:20180221T180000
DTEND;TZID=UTC:20180221T200000
DTSTAMP:20260421T035344
CREATED:20180202T081755Z
LAST-MODIFIED:20180202T081755Z
UID:13952-1519236000-1519243200@www.hhwnc.org
SUMMARY:HHWNC Board Meeting
DESCRIPTION:
URL:https://www.hhwnc.org/event/hhwnc-board-meeting-2/
LOCATION:Will and Ariel Durant Branch Library\, 7140 Sunset Blvd\,  Los Angeles\, 90046
CATEGORIES:HHWNC Meetings
GEO:34.0976549;-118.3455952
X-APPLE-STRUCTURED-LOCATION;VALUE=URI;X-ADDRESS=Will and Ariel Durant Branch Library 7140 Sunset Blvd  Los Angeles 90046;X-APPLE-RADIUS=500;X-TITLE=7140 Sunset Blvd:geo:-118.3455952,34.0976549
END:VEVENT
BEGIN:VEVENT
DTSTART;TZID=UTC:20180208T180000
DTEND;TZID=UTC:20180208T200000
DTSTAMP:20260421T035344
CREATED:20180202T081639Z
LAST-MODIFIED:20180202T081639Z
UID:13949-1518112800-1518120000@www.hhwnc.org
SUMMARY:Plum Committee Meeting
DESCRIPTION:
URL:https://www.hhwnc.org/event/plum-committee-meeting-7/
LOCATION:Will and Ariel Durant Branch Library\, 7140 Sunset Blvd\,  Los Angeles\, 90046
CATEGORIES:HHWNC Meetings
GEO:34.0976549;-118.3455952
X-APPLE-STRUCTURED-LOCATION;VALUE=URI;X-ADDRESS=Will and Ariel Durant Branch Library 7140 Sunset Blvd  Los Angeles 90046;X-APPLE-RADIUS=500;X-TITLE=7140 Sunset Blvd:geo:-118.3455952,34.0976549
END:VEVENT
BEGIN:VEVENT
DTSTART;TZID=UTC:20180117T180000
DTEND;TZID=UTC:20180117T210000
DTSTAMP:20260421T035344
CREATED:20170513T014953Z
LAST-MODIFIED:20180107T060739Z
UID:13278-1516212000-1516222800@www.hhwnc.org
SUMMARY:HHWNC Board Meeting at Durant Library
DESCRIPTION:
URL:https://www.hhwnc.org/event/hhwnc-board-meeting-at-durant-library-1-17-2018/
LOCATION:Will and Ariel Durant Branch Library\, 7140 Sunset Blvd\,  Los Angeles\, 90046
CATEGORIES:HHWNC Meetings
GEO:34.0976549;-118.3455952
X-APPLE-STRUCTURED-LOCATION;VALUE=URI;X-ADDRESS=Will and Ariel Durant Branch Library 7140 Sunset Blvd  Los Angeles 90046;X-APPLE-RADIUS=500;X-TITLE=7140 Sunset Blvd:geo:-118.3455952,34.0976549
END:VEVENT
BEGIN:VEVENT
DTSTART;TZID=UTC:20180111T180000
DTEND;TZID=UTC:20180111T194500
DTSTAMP:20260421T035344
CREATED:20180104T005547Z
LAST-MODIFIED:20180104T005547Z
UID:13867-1515693600-1515699900@www.hhwnc.org
SUMMARY:Area 6 / Transportation Meeting
DESCRIPTION:Representatives from LADOT will update stakeholders on the latest developments regarding their recommendation to turn Del Zuro and portions of La Cuesta into one-way streets. This is a follow up to the September 28\, 2017 Transportation/Area 6 meeting where public comment was heard on the proposal. The recommendation was originally presented at the August 24th Transportation Committee meeting.
URL:https://www.hhwnc.org/event/area-6-transportation-meeting/
LOCATION:Will and Ariel Durant Branch Library\, 7140 Sunset Blvd\,  Los Angeles\, 90046
CATEGORIES:HHWNC Meetings
GEO:34.0976549;-118.3455952
X-APPLE-STRUCTURED-LOCATION;VALUE=URI;X-ADDRESS=Will and Ariel Durant Branch Library 7140 Sunset Blvd  Los Angeles 90046;X-APPLE-RADIUS=500;X-TITLE=7140 Sunset Blvd:geo:-118.3455952,34.0976549
END:VEVENT
BEGIN:VEVENT
DTSTART;TZID=UTC:20180104T180000
DTEND;TZID=UTC:20180104T194500
DTSTAMP:20260421T035344
CREATED:20180104T005747Z
LAST-MODIFIED:20180104T005747Z
UID:13871-1515088800-1515095100@www.hhwnc.org
SUMMARY:PLUM Meeting
DESCRIPTION:
URL:https://www.hhwnc.org/event/plum-meeting-3/
LOCATION:Will and Ariel Durant Branch Library\, 7140 Sunset Blvd\,  Los Angeles\, 90046
CATEGORIES:HHWNC Meetings
GEO:34.0976549;-118.3455952
X-APPLE-STRUCTURED-LOCATION;VALUE=URI;X-ADDRESS=Will and Ariel Durant Branch Library 7140 Sunset Blvd  Los Angeles 90046;X-APPLE-RADIUS=500;X-TITLE=7140 Sunset Blvd:geo:-118.3455952,34.0976549
END:VEVENT
BEGIN:VEVENT
DTSTART;TZID=UTC:20170928T180000
DTEND;TZID=UTC:20170928T194500
DTSTAMP:20260421T035344
CREATED:20170917T060627Z
LAST-MODIFIED:20170918T010051Z
UID:13592-1506621600-1506627900@www.hhwnc.org
SUMMARY:Transportation / Area 6 Meeting 9.28.17
DESCRIPTION:This is a follow-up meeting to our August 24th meeting where LADOT presented a proposal to make Del Zuro and part of La Cuesta one-way streets. Please see this PDF attachment for a map showing LADOT’s proposal. \nYou can view the minutes from the August 24th meeting here. \nIf you are not able to attend the meeting but would like to submit comments in advance to be read at the meeting\, please send them to transportationchair@hhwnc.org. \nPlease click here for full details and background on the proposal and previous meetings.
URL:https://www.hhwnc.org/event/transportation-area-6-meeting-9-28-17/
LOCATION:Will and Ariel Durant Branch Library\, 7140 Sunset Blvd\,  Los Angeles\, 90046
CATEGORIES:HHWNC Meetings
GEO:34.0976549;-118.3455952
X-APPLE-STRUCTURED-LOCATION;VALUE=URI;X-ADDRESS=Will and Ariel Durant Branch Library 7140 Sunset Blvd  Los Angeles 90046;X-APPLE-RADIUS=500;X-TITLE=7140 Sunset Blvd:geo:-118.3455952,34.0976549
END:VEVENT
BEGIN:VEVENT
DTSTART;TZID=UTC:20170824T180000
DTEND;TZID=UTC:20170824T200000
DTSTAMP:20260421T035344
CREATED:20170816T232241Z
LAST-MODIFIED:20170816T232241Z
UID:13521-1503597600-1503604800@www.hhwnc.org
SUMMARY:Transportation Committee Meeting
DESCRIPTION:
URL:https://www.hhwnc.org/event/transportation-committee-meeting/
LOCATION:Will and Ariel Durant Branch Library\, 7140 Sunset Blvd\,  Los Angeles\, 90046
CATEGORIES:HHWNC Meetings
GEO:34.0976549;-118.3455952
X-APPLE-STRUCTURED-LOCATION;VALUE=URI;X-ADDRESS=Will and Ariel Durant Branch Library 7140 Sunset Blvd  Los Angeles 90046;X-APPLE-RADIUS=500;X-TITLE=7140 Sunset Blvd:geo:-118.3455952,34.0976549
END:VEVENT
BEGIN:VEVENT
DTSTART;TZID=UTC:20170706T080000
DTEND;TZID=UTC:20170706T170000
DTSTAMP:20260421T035344
CREATED:20170415T004925Z
LAST-MODIFIED:20170415T004926Z
UID:13182-1499328000-1499360400@www.hhwnc.org
SUMMARY:Plum Committee Meeting
DESCRIPTION:
URL:https://www.hhwnc.org/event/plum-committee-meeting-4/
LOCATION:Will and Ariel Durant Branch Library\, 7140 Sunset Blvd\,  Los Angeles\, 90046
CATEGORIES:HHWNC Meetings
GEO:34.0976549;-118.3455952
X-APPLE-STRUCTURED-LOCATION;VALUE=URI;X-ADDRESS=Will and Ariel Durant Branch Library 7140 Sunset Blvd  Los Angeles 90046;X-APPLE-RADIUS=500;X-TITLE=7140 Sunset Blvd:geo:-118.3455952,34.0976549
END:VEVENT
BEGIN:VEVENT
DTSTART;TZID=UTC:20170613T180000
DTEND;TZID=UTC:20170613T193000
DTSTAMP:20260421T035344
CREATED:20170521T044449Z
LAST-MODIFIED:20170607T024910Z
UID:13296-1497376800-1497382200@www.hhwnc.org
SUMMARY:Parks and Open Space Committee Meeting
DESCRIPTION:POS COMMITTEE REV._AGENDA 6.13.17Dear Hollywood Hills West Neighborhood Council Stakeholders\,\n\n\n\n\n\nPlease join us onTuesday\, June 13\, 2017\, for the next HHWNC Parks and Open Space Committee meeting.  This is your opportunity to be directly involved in matters pertaining to parks and open spaces in our area\, including Runyon Canyon.  Please email any questions to parkschair@HHWNC.org.  Thank you for your interest and support.\n\n \n \nHOLLYWOOD HILLS WEST NEIGHBORHOOD COUNCIL\nParks and Open Space Committee Meeting\nTuesday\, June 13\, 2017\n6:00 pm\nWill and Ariel Durant Library Branch: 7140 Sunset Blvd\, Los Angeles\, CA 90046\n\n\n\n\n \nJeffery Masino\nParks and Open Space Chair\n\n\n\n\n\n\n\n 
URL:https://www.hhwnc.org/event/parks-and-open-space-committee-meeting-2/
LOCATION:Will and Ariel Durant Branch Library\, 7140 Sunset Blvd\,  Los Angeles\, 90046
CATEGORIES:HHWNC Meetings
ORGANIZER;CN="Jeffery Masino":MAILTO:parkschair@hhwnc.org
GEO:34.0976549;-118.3455952
X-APPLE-STRUCTURED-LOCATION;VALUE=URI;X-ADDRESS=Will and Ariel Durant Branch Library 7140 Sunset Blvd  Los Angeles 90046;X-APPLE-RADIUS=500;X-TITLE=7140 Sunset Blvd:geo:-118.3455952,34.0976549
END:VEVENT
END:VCALENDAR