BEGIN:VCALENDAR
VERSION:2.0
PRODID:-//Hollywood Hills West - ECPv6.15.20//NONSGML v1.0//EN
CALSCALE:GREGORIAN
METHOD:PUBLISH
X-ORIGINAL-URL:https://www.hhwnc.org
X-WR-CALDESC:Events for Hollywood Hills West
REFRESH-INTERVAL;VALUE=DURATION:PT1H
X-Robots-Tag:noindex
X-PUBLISHED-TTL:PT1H
BEGIN:VTIMEZONE
TZID:America/Los_Angeles
BEGIN:DAYLIGHT
TZOFFSETFROM:-0800
TZOFFSETTO:-0700
TZNAME:PDT
DTSTART:20170312T100000
END:DAYLIGHT
BEGIN:STANDARD
TZOFFSETFROM:-0700
TZOFFSETTO:-0800
TZNAME:PST
DTSTART:20171105T090000
END:STANDARD
BEGIN:DAYLIGHT
TZOFFSETFROM:-0800
TZOFFSETTO:-0700
TZNAME:PDT
DTSTART:20180311T100000
END:DAYLIGHT
BEGIN:STANDARD
TZOFFSETFROM:-0700
TZOFFSETTO:-0800
TZNAME:PST
DTSTART:20181104T090000
END:STANDARD
BEGIN:DAYLIGHT
TZOFFSETFROM:-0800
TZOFFSETTO:-0700
TZNAME:PDT
DTSTART:20190310T100000
END:DAYLIGHT
BEGIN:STANDARD
TZOFFSETFROM:-0700
TZOFFSETTO:-0800
TZNAME:PST
DTSTART:20191103T090000
END:STANDARD
BEGIN:DAYLIGHT
TZOFFSETFROM:-0800
TZOFFSETTO:-0700
TZNAME:PDT
DTSTART:20200308T100000
END:DAYLIGHT
BEGIN:STANDARD
TZOFFSETFROM:-0700
TZOFFSETTO:-0800
TZNAME:PST
DTSTART:20201101T090000
END:STANDARD
BEGIN:DAYLIGHT
TZOFFSETFROM:-0800
TZOFFSETTO:-0700
TZNAME:PDT
DTSTART:20210314T100000
END:DAYLIGHT
BEGIN:STANDARD
TZOFFSETFROM:-0700
TZOFFSETTO:-0800
TZNAME:PST
DTSTART:20211107T090000
END:STANDARD
BEGIN:DAYLIGHT
TZOFFSETFROM:-0800
TZOFFSETTO:-0700
TZNAME:PDT
DTSTART:20220313T100000
END:DAYLIGHT
BEGIN:STANDARD
TZOFFSETFROM:-0700
TZOFFSETTO:-0800
TZNAME:PST
DTSTART:20221106T090000
END:STANDARD
BEGIN:DAYLIGHT
TZOFFSETFROM:-0800
TZOFFSETTO:-0700
TZNAME:PDT
DTSTART:20230312T100000
END:DAYLIGHT
BEGIN:STANDARD
TZOFFSETFROM:-0700
TZOFFSETTO:-0800
TZNAME:PST
DTSTART:20231105T090000
END:STANDARD
BEGIN:DAYLIGHT
TZOFFSETFROM:-0800
TZOFFSETTO:-0700
TZNAME:PDT
DTSTART:20240310T100000
END:DAYLIGHT
BEGIN:STANDARD
TZOFFSETFROM:-0700
TZOFFSETTO:-0800
TZNAME:PST
DTSTART:20241103T090000
END:STANDARD
BEGIN:DAYLIGHT
TZOFFSETFROM:-0800
TZOFFSETTO:-0700
TZNAME:PDT
DTSTART:20250309T100000
END:DAYLIGHT
BEGIN:STANDARD
TZOFFSETFROM:-0700
TZOFFSETTO:-0800
TZNAME:PST
DTSTART:20251102T090000
END:STANDARD
END:VTIMEZONE
BEGIN:VTIMEZONE
TZID:UTC
BEGIN:STANDARD
TZOFFSETFROM:+0000
TZOFFSETTO:+0000
TZNAME:UTC
DTSTART:20150101T000000
END:STANDARD
END:VTIMEZONE
BEGIN:VEVENT
DTSTART;TZID=America/Los_Angeles:20240402T180000
DTEND;TZID=America/Los_Angeles:20240402T200000
DTSTAMP:20260419T214439
CREATED:20240328T191741Z
LAST-MODIFIED:20240328T191957Z
UID:19222-1712080800-1712088000@www.hhwnc.org
SUMMARY:Area 3\, Housing Committees Meeting\, 4/2/24
DESCRIPTION:There will be a joint meeting of the Area 3 and Housing committees of the Hollywood Hills West Neighborhood Council on Tuesday\, April 6\, 2024. \nItems to be discussed will be the results of the Milner Hard Closure Survey\, and Area 3 Housing issues. \nFor the complete agenda is embedded below. You can download a copy\, here. \nApril 2\, 2024 Area 3\, Housing Committees Agenda\n 
URL:https://www.hhwnc.org/event/area-3-housing-committees-meeting-4-2-24/
LOCATION:Yucca Community Center\, 6671 Yucca St.\, \, Hollywood\, CA\, 90028\, United States
CATEGORIES:HHWNC Meetings
GEO:34.1033662;-118.3350424
X-APPLE-STRUCTURED-LOCATION;VALUE=URI;X-ADDRESS=Yucca Community Center 6671 Yucca St.  Hollywood CA 90028 United States;X-APPLE-RADIUS=500;X-TITLE=6671 Yucca St.\,:geo:-118.3350424,34.1033662
END:VEVENT
BEGIN:VEVENT
DTSTART;TZID=America/Los_Angeles:20200310T180000
DTEND;TZID=America/Los_Angeles:20200310T200000
DTSTAMP:20260419T214439
CREATED:20200213T214007Z
LAST-MODIFIED:20200307T011054Z
UID:16044-1583863200-1583870400@www.hhwnc.org
SUMMARY:Public Safety / Business / Area 3 Meeting\, Tuesday\, March 10\, 2020
DESCRIPTION:Below are the major agenda items to be discussed at the meeting. For a full agenda\, please visit HERE. If you need special services please make your request at least three (3) business days (72 hours) prior to the meeting you wish to attend by contacting the Neighborhood Council Project Coordinator at 213-485-1360 or e-mail to lorenzo.briceno@lacity.org \nHeart of Hollywood \nDan Halden\, “Director of Heart of Hollywood” will present the concept plan for an upgrade to the Hollywood Walk of Fame and answer questions. Using legacy CRA funds\, CD 13 retained Gensler in 2019 to study and build a concept plan for the Hollywood Walk of Fame to enhance its built environment and improve its pedestrian experience. The concept plan is the first major step toward the final Master Plan. Based on the design and recommendations contained within the Master Plan\, the City will plan for targeted construction projects to improve the area. To see the full master plan\, please visit HERE. \nHomeless issues in Area 3 \nThree governmental bodies\, the City of Los Angeles\, the County of Los Angeles and CalTrans need to be coordinated to address this issue. In preparation for an April meeting to provide information dedicated to the homeless issues in HHHWNC\, The Public Safety chair and Area 3 chair will lead a discussion on Federal\, state and local laws\, the infrastructure currently in place\, and the issues that arise between interface of homeowner rights and the rights of those without homes. Government officials have been invited to the April meeting where we will continue the discussion. \nHot Motha Clucker\, 1708 N. Las Palmas\, Permit Application ZA-2020-620-CUB \nRequested Entitlement: pursuant to LAMC Section 12.24 W 1\, a conditional use to allow for the sale\, dispensation and on-site consumption of a full line of alcohol beverages in conjunction with a 1\,880 square-foot restaurant with indoor seating for 73 patrons and with hours of operation from 10:00 a.m. 2:00 a.m. Monday – Friday and 8:00 a.m. to 2:00 a.m.\, Saturday and Sunday. Possible motion and vote
URL:https://www.hhwnc.org/event/area-3-meeting-tuesday-march-10-2020/
LOCATION:Yucca Community Center\, 6671 Yucca St.\, \, Hollywood\, CA\, 90028\, United States
CATEGORIES:HHWNC Meetings
GEO:34.1033662;-118.3350424
X-APPLE-STRUCTURED-LOCATION;VALUE=URI;X-ADDRESS=Yucca Community Center 6671 Yucca St.  Hollywood CA 90028 United States;X-APPLE-RADIUS=500;X-TITLE=6671 Yucca St.\,:geo:-118.3350424,34.1033662
END:VEVENT
BEGIN:VEVENT
DTSTART;TZID=America/Los_Angeles:20191029T180000
DTEND;TZID=America/Los_Angeles:20191029T200000
DTSTAMP:20260419T214439
CREATED:20191010T070707Z
LAST-MODIFIED:20191025T025041Z
UID:15775-1572372000-1572379200@www.hhwnc.org
SUMMARY:Area 3 / Transportation meeting
DESCRIPTION:Please find the agenda for this meeting at http://www.hhwnc.org/wp-content/uploads/2019/10/Agenda-HHWNC-Areas-3-Housing-10.-29.1-docx.pdf
URL:https://www.hhwnc.org/event/area-3-transportation-meeting/
LOCATION:Yucca Community Center\, 6671 Yucca St.\, \, Hollywood\, CA\, 90028\, United States
CATEGORIES:HHWNC Meetings
GEO:34.1033662;-118.3350424
X-APPLE-STRUCTURED-LOCATION;VALUE=URI;X-ADDRESS=Yucca Community Center 6671 Yucca St.  Hollywood CA 90028 United States;X-APPLE-RADIUS=500;X-TITLE=6671 Yucca St.\,:geo:-118.3350424,34.1033662
END:VEVENT
BEGIN:VEVENT
DTSTART;TZID=America/Los_Angeles:20191001T180000
DTEND;TZID=America/Los_Angeles:20191001T200000
DTSTAMP:20260419T214439
CREATED:20190927T234234Z
LAST-MODIFIED:20190929T061515Z
UID:15701-1569952800-1569960000@www.hhwnc.org
SUMMARY:Area 3\, Housing & Business Committees' Meeting\, October 1\, 2019
DESCRIPTION:The Area 3\, Housing and Business committees of the Hollywood Hills West Neighborhood Council will hold a meeting\, this coming Tuesday\, October 1\, 2019\, from 6:00 PM – 8:00 PM at the Yucca Community Center located at 6671 Yucca St\, Los Angeles\, CA 90028. The following is slated to be discussed: \n\n2000 Highland Ave – Planning case #s ZA-2019-3847-CU; .ENV-2019-3771-CE. The instant request is for a conditional use to permit the conversion of an existing 18-unit apartment development to a transient occupancy residential structure in the [Q]R4-1VLZone\, pursuant to LAMC Sec. 12.24-W\,24(c); and approval of an existing tower to a maximum nonconforming height of 61 feet\, 8 inches (the occupied portions of the project have a maximum height of 33 feet\, 2 inches). Possible motion and vote. For more information on the project vist: http://www.hhwnc.org/wp-content/uploads/2019/09/RF-CU-2000-Highland.pdf.\nExpansion of signage for Preferred Parking District 64 – Preferred Parking District 64 is partially bounded by lower Area 3 boundaries. Presentation and discussion on furthering street signage in other areas\, particularly the 1700 and 1800 blocks of Whitley Avenue.\n\nFor a full agenda\, please visit this link: http://www.hhwnc.org/wp-content/uploads/2019/09/Agenda-HHWNC-Areas-3-Housing-Business-10.-01.19-2.pdf \nWe hope to see you there.
URL:https://www.hhwnc.org/event/area-3-housing-buisness-committees-meeting-october-1-2019/
LOCATION:Yucca Community Center\, 6671 Yucca St.\, \, Hollywood\, CA\, 90028\, United States
CATEGORIES:HHWNC Meetings
GEO:34.1033662;-118.3350424
X-APPLE-STRUCTURED-LOCATION;VALUE=URI;X-ADDRESS=Yucca Community Center 6671 Yucca St.  Hollywood CA 90028 United States;X-APPLE-RADIUS=500;X-TITLE=6671 Yucca St.\,:geo:-118.3350424,34.1033662
END:VEVENT
BEGIN:VEVENT
DTSTART;TZID=America/Los_Angeles:20190709T181500
DTEND;TZID=America/Los_Angeles:20190709T195000
DTSTAMP:20260419T214439
CREATED:20190701T234000Z
LAST-MODIFIED:20190705T162110Z
UID:15489-1562696100-1562701800@www.hhwnc.org
SUMMARY:Area 3\, Housing Committees Meeting\, July 9
DESCRIPTION:Agenda \nI.     Call to order and welcome. \nII.    Approval of May 6\, 2019 meeting minutes\, motion and vote \nIII.    Presentation of CD 13’s program “Heart of Hollywood.” \nDan Halden will present “HEART of Hollywood\,” a long-term strategic and creative initiative to promote economic growth\, world-class design\, and a strong sense of place and community in the historic core of Hollywood \nIV.  Short term rental discussion \na.       Council File 18-1245: Sean Starkey from CD 13 will discuss Council File 18-1245\, which requests that the Council instruct the Planning Department\, with the assistance of the City Attorney\, to develop recommendations for a Pilot Program in Council District 13 that would regulate home sharing in primary residences subject to the Rent Stabilization Ordinance. On June 18\, the Council requested a report back. Possible motion and vote. \nb.      Home-Sharing Ordinance CF 14-1635-S2 (HSO):\, In December 2018\, the City Council adopted the Home-Sharing Ordinance (CF 14-1635-S2)\, establishing a regulatory framework to restrict short-term rentals to one’s primary residence\, in order to prevent the wholesale conversation of homes into rental properties. Ethan Weaver\, Hollywood Neighborhood Prosecutor will present the rollout and enforcement of the HSO. \nV.      1850 N. Cherokee CUP request \nRepresentative will present 1850 N Cherokee’s CUP request (ENV-2019-1323-CE; AZ-2019-1392-CUB) to allow sale and dispensing of beer & wine for on site consumption\, with 24 guestrooms each having mini-bars\, 15 interior seats and 40 exterior seats in a1\,014uncovered patio\, with24 hours. Possible motion and vote. \nVI.    Committee Business – Comments from the Committee on subject matters within the Committee’s jurisdiction \na.       Comment on Committee Member’s own activities/ Brief announcements. \nb.      Brief response to statements made or questions posed by persons exercising their general public comment rights. \nc.       Introduce new issues for consideration by the Board at its next meeting/request that the item be placed on the next meeting’s agenda. \nd.      Ask Committee Chairpersons to research issues and report back to the Committee at a future time. \nVII.    Future Agenda Items and other Calendar Events \nVIII.   Comments from the public on agenda items and non-agenda items within the Committee’s subject matter jurisdiction. \nIX.     Decision on next meeting date(s) \nX.      Adjournment \nThe quorum for the Hollywood Hills West Neighborhood Council committees is five (5). The public is requested to fill out a “Speaker Card” to address the Committee(s) on any item of the agenda prior to the Board taking action on an item. Public comments on agenda items will be heard when the item is considered. Comments from the public on non-agenda and agenda items are heard during the Public Comment Period and\, within the discretion of the presiding officer of the Committee(s)\, when the respective item is being considered. Comments from the public on other matters not appearing on the Agenda that is within the Committee’s subject matter jurisdiction will be heard during the Public Comment period. Public comment is limited to 2 minutes per speaker unless waived by the presiding officer of the Committee(s). Agenda is posted for public review: on bulletin boards at: the Las Palmas Senior Center\, 1820 Las Palmas Ave. Los Angeles\, 90028; the Yucca Community Center\, 6671 Yucca St.\, Hollywood\, CA 90028\, and electronically on the Hollywood Hills West Neighborhood Council website www.hhwnc.org and on the Department Of Neighborhood Empowerment (www.lacityneighborhoods.com) or at the scheduled meeting. In addition\, if you would like a copy of any record related to an item on the agenda\, please contact Britta Engstrom at Secretary@HHWNC.org. As a covered entity under Title II of the Americans with Disabilities Act\, the City of Los Angeles does not discriminate on the basis of disability and upon request\, will provide reasonable accommodation to ensure equal access to its programs\, services\, and activities. Sign language interpreters\, assistive listening devices\, or other auxiliary aids and/or services may be provided upon request. To ensure availability of services\, please make your request at least three (3) business days (72 hours) prior to the meeting you wish to attend by contacting the Neighborhood Council Project Coordinator at 213-485-1360 or e-mail to lorenzo.briceno@lacity.org.
URL:https://www.hhwnc.org/event/area-3-housing-committees-meeting-july-9/
LOCATION:Yucca Community Center\, 6671 Yucca St.\, \, Hollywood\, CA\, 90028\, United States
CATEGORIES:HHWNC Meetings
GEO:34.1033662;-118.3350424
X-APPLE-STRUCTURED-LOCATION;VALUE=URI;X-ADDRESS=Yucca Community Center 6671 Yucca St.  Hollywood CA 90028 United States;X-APPLE-RADIUS=500;X-TITLE=6671 Yucca St.\,:geo:-118.3350424,34.1033662
END:VEVENT
BEGIN:VEVENT
DTSTART;TZID=America/Los_Angeles:20190506T181500
DTEND;TZID=America/Los_Angeles:20190506T194500
DTSTAMP:20260419T214439
CREATED:20190429T025055Z
LAST-MODIFIED:20190503T073216Z
UID:15277-1557166500-1557171900@www.hhwnc.org
SUMMARY:Area 3 / Housing Committees' Meeting\, May 6\, 2019
DESCRIPTION:The next Area 3 & Housing Committees’ meeting will be held Monday\, May 6 from 6:15 PM – 7:45 PM at Yucca Community Center\, 6671 Yucca St\, Los Angeles\, CA 90028. The meeting will also include the Housing Committee. We will be talking about issues and policies that are affecting our neighborhood\, including the controversial SB 50\, the little heard of AB 724\, the application of JJJ and what is known about the upcoming roll-out of LA City’s AirBNB ordinance. \nFor a full agenda\, please visit here.
URL:https://www.hhwnc.org/event/area-3-housing-committees-meeting-may-6-2019/
LOCATION:Yucca Community Center\, 6671 Yucca St.\, \, Hollywood\, CA\, 90028\, United States
CATEGORIES:HHWNC Meetings
GEO:34.1033662;-118.3350424
X-APPLE-STRUCTURED-LOCATION;VALUE=URI;X-ADDRESS=Yucca Community Center 6671 Yucca St.  Hollywood CA 90028 United States;X-APPLE-RADIUS=500;X-TITLE=6671 Yucca St.\,:geo:-118.3350424,34.1033662
END:VEVENT
BEGIN:VEVENT
DTSTART;TZID=America/Los_Angeles:20190114T181500
DTEND;TZID=America/Los_Angeles:20190114T195000
DTSTAMP:20260419T214439
CREATED:20190101T172424Z
LAST-MODIFIED:20190110T033906Z
UID:14743-1547489700-1547495400@www.hhwnc.org
SUMMARY:Area 3\, Housing & Buisness Committees Meeting\, January 14\, 2019
DESCRIPTION:In preparation for the Agenda\, links to the Hollywood Community Plan Update 2 and Draft Environmental Report are below the agenda. \nAREA 3\, HOUSING & BUSINESS COMMITTEES\nHollywood Hills West Neighborhood Council\nJanuary 14\, 2019\, 6:15- 7:50 PM\nYucca Community Center\, 6671 Yucca St\, Los Angeles\, CA 90028 \nAgenda \nI.                    Call to order and welcome. \nII.                  Approval of November 5\, 2018 meeting minutes\, motion and vote \nIII.                6633 West Hollywood Boulevard: ZA -2018- 3366 -ZV –CUB: The Escape Hotel has applied to the City’s Planning Department for a conditional use permit. The original application was for the Escape Room to sell alcoholic beverages for on -site consumption in connection with (i) a restaurant\, and (ii) The Escape Hotel’s “escape rooms”. The site has approximately 10\,500 square feet\, and the restaurant was authorized to have 113 seats back in 2008\, but is now requesting 146 seats. The proposed hours of operation would be until midnight on Sundays through Wednesdays\, and to 2 a.m. on Thursdays through Saturdays. (The Escape Hotel is an entertainment space\, rather than an actual hotel.) Since presenting in November\, the applicants have met with the LAPD and will be presenting the recommended conditions that came from that meeting. Possible motion and vote. \nIV.                Hollywood Community Plan Update 2 Planning\, Zoning and Draft EIR: The Draft Environmental Impact Report was released on November 15\, 2015 for a 75 day review. Area 3\, Area 4\, Transportation\, Environment\, and Parks and Open Space committees all reviewed Planning and Zoning portions of the HCPU2 in Fall of 2017. Subsequent to the recommendations to the Board\, a CIS letter was sent from HHWNC to Planning. There is now a Franklin Corridor study being proposed. The newly released DEIR was discussed at HHWNC’s PLUM meeting on January 6. Possible Motion and Vote \nV.                  Old Business; New Business \nVI.                Public Comments: comments from the public on agenda items and non-agenda items within the Committee’s subject matter jurisdiction. \nVII.              Decision on next meeting date(s) \nVIII.            Adjournment \nThe quorum for the Hollywood Hills West Neighborhood Council committees is five (5). The public is requested to fill out a “Speaker Card” to address the Committee(s) on any item of the agenda prior to the Board taking action on an item. Public comments on agenda items will be heard when the item is considered. Comments from the public on non-agenda and agenda items are heard during the Public Comment Period and\, within the discretion of the presiding officer of the Committee(s)\, when the respective item is being considered. Comments from the public on other matters not appearing on the Agenda that is within the Committee’s subject matter jurisdiction will be heard during the Public Comment period. Public comment is limited to 2 minutes per speaker unless waived by the presiding officer of the Committee(s). Agenda is posted for public review: on bulletin boards at: the Las Palmas Senior Center\, 1820 Las Palmas Ave. Los Angeles\, 90028; the Yucca Community Center\, 6671 Yucca St.\, Hollywood\, CA 90028\, and electronically on the Hollywood Hills West Neighborhood Council website www.hhwnc.org and on the Department Of Neighborhood Empowerment (www.lacityneighborhoods.com) or at the scheduled meeting. In addition\, if you would like a copy of any record related to an item on the agenda\, please contact Kathy Banuelos at Secretary@HHWNC.org. As a covered entity under Title II of the Americans with Disabilities Act\, the City of Los Angeles does not discriminate on the basis of disability and upon request\, will provide reasonable accommodation to ensure equal access to its programs\, services\, and activities. Sign language interpreters\, assistive listening devices\, or other auxiliary aids and/or services may be provided upon request. To ensure availability of services\, please make your request at least three (3) business days (72 hours) prior to the meeting you wish to attend by contacting the Neighborhood Council Project Coordinator at 213-485-1360 or e-mail to lorenzo.briceno@lacity.org. \n  \nHollywood Community Plan 2 Draft Environmental Impact Report – The ​Notice of Availability was released on November 15\, 2018. The 75-day public comment period will end on January 31\, 2019. You can find the interactive plan here. \nLAPD Recommendations for Escape Room 6633 Hollywood Blvd. You can find them here.
URL:https://www.hhwnc.org/event/area-3-committee-meeting-6/
LOCATION:Yucca Community Center\, 6671 Yucca St.\, \, Hollywood\, CA\, 90028\, United States
CATEGORIES:HHWNC Meetings
GEO:34.1033662;-118.3350424
X-APPLE-STRUCTURED-LOCATION;VALUE=URI;X-ADDRESS=Yucca Community Center 6671 Yucca St.  Hollywood CA 90028 United States;X-APPLE-RADIUS=500;X-TITLE=6671 Yucca St.\,:geo:-118.3350424,34.1033662
END:VEVENT
BEGIN:VEVENT
DTSTART;TZID=America/Los_Angeles:20180821T181500
DTEND;TZID=America/Los_Angeles:20180821T194500
DTSTAMP:20260419T214439
CREATED:20180727T051731Z
LAST-MODIFIED:20180804T215053Z
UID:14330-1534875300-1534880700@www.hhwnc.org
SUMMARY:Area 3 / Area 4 meeting
DESCRIPTION:To see the Draft Agenda\, click here.
URL:https://www.hhwnc.org/event/area-3-area-4-meeting/
LOCATION:Yucca Community Center\, 6671 Yucca St.\, \, Hollywood\, CA\, 90028\, United States
CATEGORIES:HHWNC Meetings
GEO:34.1033662;-118.3350424
X-APPLE-STRUCTURED-LOCATION;VALUE=URI;X-ADDRESS=Yucca Community Center 6671 Yucca St.  Hollywood CA 90028 United States;X-APPLE-RADIUS=500;X-TITLE=6671 Yucca St.\,:geo:-118.3350424,34.1033662
END:VEVENT
BEGIN:VEVENT
DTSTART;TZID=America/Los_Angeles:20180611T181500
DTEND;TZID=America/Los_Angeles:20180611T200000
DTSTAMP:20260419T214439
CREATED:20180531T183438Z
LAST-MODIFIED:20180608T170710Z
UID:14210-1528740900-1528747200@www.hhwnc.org
SUMMARY:Area and Environment Committees hold meeting on encouraging public art
DESCRIPTION:Please join the Area 3\, Area 6 and Enviornment committees on Monday\, June 11 from 6:15 pm – 8 pm at the Yucca Community Center. Ayndrea Wilson\, on behalf of the California Artists Coalition\, will make a presentation about public funds available for art projects\, installations etc.\, and the steps our neighborhood council can can take to bring more art into our community’s new commercial development projects and other public spaces. \nTo see full agenda\, please click here.
URL:https://www.hhwnc.org/event/area-and-environment-committees-to-look-at/
LOCATION:Yucca Community Center\, 6671 Yucca St.\, \, Hollywood\, CA\, 90028\, United States
CATEGORIES:HHWNC Meetings
GEO:34.1033662;-118.3350424
X-APPLE-STRUCTURED-LOCATION;VALUE=URI;X-ADDRESS=Yucca Community Center 6671 Yucca St.  Hollywood CA 90028 United States;X-APPLE-RADIUS=500;X-TITLE=6671 Yucca St.\,:geo:-118.3350424,34.1033662
END:VEVENT
BEGIN:VEVENT
DTSTART;TZID=UTC:20170614T180000
DTEND;TZID=UTC:20170614T200000
DTSTAMP:20260419T214439
CREATED:20170605T045505Z
LAST-MODIFIED:20170607T044943Z
UID:13337-1497463200-1497470400@www.hhwnc.org
SUMMARY:Area 3 / Housing Commitees' Meeting
DESCRIPTION:Agenda to be announced.
URL:https://www.hhwnc.org/event/area-3-housing-commitees-meeting/
LOCATION:Yucca Community Center\, 6671 Yucca St.\, \, Hollywood\, CA\, 90028\, United States
CATEGORIES:HHWNC Meetings
GEO:34.1033662;-118.3350424
X-APPLE-STRUCTURED-LOCATION;VALUE=URI;X-ADDRESS=Yucca Community Center 6671 Yucca St.  Hollywood CA 90028 United States;X-APPLE-RADIUS=500;X-TITLE=6671 Yucca St.\,:geo:-118.3350424,34.1033662
END:VEVENT
BEGIN:VEVENT
DTSTART;TZID=UTC:20161107T180000
DTEND;TZID=UTC:20161107T200000
DTSTAMP:20260419T214439
CREATED:20161025T031522Z
LAST-MODIFIED:20161101T114421Z
UID:12413-1478541600-1478548800@www.hhwnc.org
SUMMARY:Area 3 Committee Meeting
DESCRIPTION:For agenda\, please visit meeting page at http://www.hhwnc.org/area-3-committee-meeting/
URL:https://www.hhwnc.org/event/area-3-committee-meeting/
LOCATION:Yucca Community Center\, 6671 Yucca St.\, \, Hollywood\, CA\, 90028\, United States
CATEGORIES:Community Events,HHWNC Meetings
GEO:34.1033662;-118.3350424
X-APPLE-STRUCTURED-LOCATION;VALUE=URI;X-ADDRESS=Yucca Community Center 6671 Yucca St.  Hollywood CA 90028 United States;X-APPLE-RADIUS=500;X-TITLE=6671 Yucca St.\,:geo:-118.3350424,34.1033662
END:VEVENT
END:VCALENDAR